{"text_format":"1","workbook":"xlsx","n_sheets":2,"sheets":["Feuil1","Feuil2"],"not_rendered":{"charts":0,"images":0,"macros":1,"external_links":0,"defined_names":1,"comments":0,"pivot_tables":0},"unopened":[],"bounds":{"document_bytes":16777216,"sheet_cells":100000,"rows_first":2000,"rows_last":500,"rows_between":2000,"halvings":0,"cell_chars":16384,"cell_head_chars":4096},"cells_cut":0,"cells_raw":0,"read":"whole","date_system":"1900"}

{"sheet":"Feuil1","index":0,"n_rows":90,"n_cols":22,"rows_kept":90,"cut":false,"hidden":false,"merged":[[20,0,20,21],[57,4,57,6],[57,7,57,9],[57,10,57,12],[57,18,57,19],[60,0,60,21],[49,1,49,3],[49,4,49,6],[49,7,49,9],[49,10,49,12],[49,18,49,19],[41,4,41,6],[41,7,41,9],[41,10,41,12],[41,18,41,19],[45,1,45,3],[45,4,45,6],[45,7,45,9],[45,10,45,12],[45,18,45,19],[30,1,30,3],[30,4,30,6],[30,7,30,9],[30,10,30,12],[30,18,30,19],[26,1,26,3],[26,4,26,6],[26,7,26,9],[26,10,26,12],[26,18,26,19],[90,1,90,20],[87,1,87,20],[84,1,84,20],[81,1,81,20],[78,1,78,20],[89,1,89,20],[86,1,86,20],[83,1,83,20],[80,1,80,20],[77,1,77,20],[72,1,72,20],[69,1,69,20],[29,1,29,20],[37,18,37,19],[41,1,41,3],[44,0,46,0],[48,0,50,0],[33,0,34,0],[36,0,38,0],[40,0,42,0],[29,0,31,0],[22,10,22,12],[22,7,22,9],[22,4,22,6],[22,1,22,3],[48,1,48,20],[44,1,44,20],[40,1,40,20],[36,1,36,20],[33,1,33,20],[34,1,34,3],[34,4,34,6],[34,7,34,9],[34,10,34,12],[34,18,34,19],[37,1,37,3],[37,4,37,6],[37,7,37,9],[37,10,37,12],[86,0,87,0],[89,0,90,0],[8,1,8,14],[17,1,17,14],[16,1,16,14],[15,1,15,14],[14,1,14,14],[13,1,13,14],[12,1,12,14],[11,1,11,14],[10,1,10,14],[9,1,9,14],[56,1,56,20],[52,1,52,20],[77,0,78,0],[80,0,81,0],[83,0,84,0],[68,0,69,0],[71,0,72,0],[74,0,75,0],[74,1,74,20],[71,1,71,20],[68,1,68,20],[75,1,75,20],[62,0,63,0],[65,0,66,0],[65,1,65,20],[62,1,62,20],[66,1,66,20],[63,1,63,20],[53,1,53,3],[53,4,53,6],[53,7,53,9],[53,10,53,12],[53,18,53,19],[57,1,57,3],[56,0,58,0],[52,0,54,0],[0,15,0,18],[5,15,5,18],[4,15,4,18],[3,15,3,18],[2,15,2,18],[1,15,1,18],[7,0,7,20],[21,0,23,0],[25,0,27,0],[25,1,25,20],[21,1,21,20],[1,0,1,10],[19,0,19,20],[22,18,22,19],[8,15,8,20],[9,15,9,20],[10,15,10,20],[11,15,11,20],[12,15,12,20],[13,15,13,20],[14,15,14,20],[15,15,15,20],[16,15,16,20],[17,15,17,20]]}
[null,null,null,null,null,null,null,null,null,null,null,null,null,null,"nombre mini:",100000]
["Pour générer une nouvelle grille appuyez sur F9",null,null,null,null,null,null,null,null,null,null,null,null,null,"nombre maxi:",999999999999]
[null,null,null,null,null,null,null,null,null,null,null,null,null,null,"Nombre de zéros:",2]
[null,null,null,null,null,null,null,null,null,null,null,null,null,null,"nombre décimal:","non"]
[null,null,null,null,null,null,null,null,null,null,null,null,null,null,"Nombre de décimales:",2]
[null,null,null,null,null,null,null,null,null,null,null,null,null,null,"Partie décimale:","virgule"]
[null,null,null,null,null,null,null,null,null,null,null,null,null,null,null,null,null,null,null,null,null,1000000000000]
["Dictée de nombres "]
[1,{"$f":"IF(P4=\"oui\",Feuil2!B14,Feuil2!B11)","v":"cent quatre-vingts milliards vingt-sept millions huit cent dix-neuf mille cinquante-sept"},null,null,null,null,null,null,null,null,null,null,null,null,null,{"$f":"Feuil2!Q14+Feuil2!T14","v":180027819057.82001}]
[{"$f":"A9+1","v":2},{"$f":"IF(P4=\"oui\",Feuil2!B19,Feuil2!B16)","v":"neuf cent vingt-huit milliards sept cent soixante et onze mille trois cent soixante-dix"},null,null,null,null,null,null,null,null,null,null,null,null,null,{"$f":"Feuil2!Q19+Feuil2!T19","v":928000771370.93005}]
[{"$f":"A10+1","v":3},{"$f":"IF(P4=\"oui\",Feuil2!B24,Feuil2!B21)","v":"neuf cent vingt-six milliards six cent seize millions trois cents mille deux cent quatorze"},null,null,null,null,null,null,null,null,null,null,null,null,null,{"$f":"Feuil2!Q24+Feuil2!T24","v":926616300214.78003}]
[{"$f":"A11+1","v":4},{"$f":"IF(P4=\"oui\",Feuil2!B29,Feuil2!B26)","v":"neuf cent quarante-trois milliards cinquante-quatre millions huit cent soixante-dix mille quatre-vingt-neuf"},null,null,null,null,null,null,null,null,null,null,null,null,null,{"$f":"Feuil2!Q29+Feuil2!T29","v":943054870089.18005}]
[5,{"$f":"IF(P4=\"oui\",Feuil2!B34,Feuil2!B31)","v":"quatre cent vingt et un milliards deux cent soixante-huit millions soixante-trois mille deux"},null,null,null,null,null,null,null,null,null,null,null,null,null,{"$f":"Feuil2!Q34+Feuil2!T34","v":421268063002.70001}]
[6,{"$f":"IF(P4=\"oui\",Feuil2!B39,Feuil2!B36)","v":"cinq cents milliards sept cent vingt-six millions sept cent soixante-sept mille deux cent vingt-trois"},null,null,null,null,null,null,null,null,null,null,null,null,null,{"$f":"Feuil2!Q39+Feuil2!T39","v":500726767223.08002}]
[7,{"$f":"IF(P4=\"oui\",Feuil2!B44,Feuil2!B41)","v":"cent quarante-deux milliards quatre cent dix-sept millions deux cent soixante-dix mille cinquante-deux"},null,null,null,null,null,null,null,null,null,null,null,null,null,{"$f":"Feuil2!Q44+Feuil2!T44","v":142417270052.04999}]
[8,{"$f":"IF(P4=\"oui\",Feuil2!B49,Feuil2!B46)","v":"trois cent quarante-deux milliards cinq cent quatre-vingt-quatorze millions deux mille neuf cent quatre-vingts"},null,null,null,null,null,null,null,null,null,null,null,null,null,{"$f":"Feuil2!Q49+Feuil2!T49","v":342594002980.20001}]
[9,{"$f":"IF(P4=\"oui\",Feuil2!B54,Feuil2!B51)","v":"cent vingt-cinq milliards cinq cents millions deux cent quatre-vingt-un mille trois cent quarante et un"},null,null,null,null,null,null,null,null,null,null,null,null,null,{"$f":"Feuil2!Q54+Feuil2!T54","v":125500281341.47}]
[10,{"$f":"IF(P4=\"oui\",Feuil2!B59,Feuil2!B56)","v":"cent dix-sept milliards trois cents millions dix-huit mille huit cent quatre-vingt-sept"},null,null,null,null,null,null,null,null,null,null,null,null,null,{"$f":"Feuil2!Q59+Feuil2!T59","v":117300018887.78}]
[]
[]
["Dictée de nombres"]
[1,{"$f":"B9","v":"cent quatre-vingts milliards vingt-sept millions huit cent dix-neuf mille cinquante-sept"}]
[null,"milliards",null,null,"millions",null,null,"mille",null,null,"unités simples",null,null,null,"1/10","1/100","1/1000","1/10 000","1/100 000",null,"1/1 000 000"]
[null,null,null,null,null,null,null,null,null,null,null,null,null,{"$f":"IF(P$4=\"non\",\"\",\",\")","v":""}]
[]
[{"$f":"1+A22","v":2},{"$f":"B10","v":"neuf cent vingt-huit milliards sept cent soixante et onze mille trois cent soixante-dix"}]
[null,"milliards",null,null,"millions",null,null,"mille",null,null,"unités simples",null,null,null,"1/10","1/100","1/1000","1/10 000","1/100 000",null,"1/1 000 000"]
[null,null,null,null,null,null,null,null,null,null,null,null,null,{"$f":"IF(P$4=\"non\",\"\",\",\")","v":""}]
[]
[{"$f":"1+A26","v":3},{"$f":"B11","v":"neuf cent vingt-six milliards six cent seize millions trois cents mille deux cent quatorze"}]
[null,"milliards",null,null,"millions",null,null,"mille",null,null,"unités simples",null,null,null,"1/10","1/100","1/1000","1/10 000","1/100 000",null,"1/1 000 000"]
[null,null,null,null,null,null,null,null,null,null,null,null,null,{"$f":"IF(P$4=\"non\",\"\",\",\")","v":""}]
[]
[{"$f":"1+A30","v":4},{"$f":"B12","v":"neuf cent quarante-trois milliards cinquante-quatre millions huit cent soixante-dix mille quatre-vingt-neuf"}]
[null,"milliards",null,null,"millions",null,null,"mille",null,null,"unités simples",null,null,null,"1/10","1/100","1/1000","1/10 000","1/100 000",null,"1/1 000 000"]
[null,null,null,null,null,null,null,null,null,null,null,null,null,{"$f":"IF(P$4=\"non\",\"\",\",\")","v":""}]
[{"$f":"1+A34","v":5},{"$f":"B13","v":"quatre cent vingt et un milliards deux cent soixante-huit millions soixante-trois mille deux"}]
[null,"milliards",null,null,"millions",null,null,"mille",null,null,"unités simples",null,null,null,"1/10","1/100","1/1000","1/10 000","1/100 000",null,"1/1 000 000"]
[null,null,null,null,null,null,null,null,null,null,null,null,null,{"$f":"IF(P$4=\"non\",\"\",\",\")","v":""}]
[]
[{"$f":"1+A37","v":6},{"$f":"B14","v":"cinq cents milliards sept cent vingt-six millions sept cent soixante-sept mille deux cent vingt-trois"}]
[null,"milliards",null,null,"millions",null,null,"mille",null,null,"unités simples",null,null,null,"1/10","1/100","1/1000","1/10 000","1/100 000",null,"1/1 000 000"]
[null,null,null,null,null,null,null,null,null,null,null,null,null,{"$f":"IF(P$4=\"non\",\"\",\",\")","v":""}]
[]
[{"$f":"1+A41","v":7},{"$f":"B15","v":"cent quarante-deux milliards quatre cent dix-sept millions deux cent soixante-dix mille cinquante-deux"}]
[null,"milliards",null,null,"millions",null,null,"mille",null,null,"unités simples",null,null,null,"1/10","1/100","1/1000","1/10 000","1/100 000",null,"1/1 000 000"]
[null,null,null,null,null,null,null,null,null,null,null,null,null,{"$f":"IF(P$4=\"non\",\"\",\",\")","v":""}]
[]
[{"$f":"1+A45","v":8},{"$f":"B16","v":"trois cent quarante-deux milliards cinq cent quatre-vingt-quatorze millions deux mille neuf cent quatre-vingts"}]
[null,"milliards",null,null,"millions",null,null,"mille",null,null,"unités simples",null,null,null,"1/10","1/100","1/1000","1/10 000","1/100 000",null,"1/1 000 000"]
[null,null,null,null,null,null,null,null,null,null,null,null,null,{"$f":"IF(P$4=\"non\",\"\",\",\")","v":""}]
[]
[{"$f":"1+A49","v":9},{"$f":"B17","v":"cent vingt-cinq milliards cinq cents millions deux cent quatre-vingt-un mille trois cent quarante et un"}]
[null,"milliards",null,null,"millions",null,null,"mille",null,null,"unités simples",null,null,null,"1/10","1/100","1/1000","1/10 000","1/100 000",null,"1/1 000 000"]
[null,null,null,null,null,null,null,null,null,null,null,null,null,{"$f":"IF(P$4=\"non\",\"\",\",\")","v":""}]
[]
[{"$f":"1+A53","v":10},{"$f":"B18","v":"cent dix-sept milliards trois cents millions dix-huit mille huit cent quatre-vingt-sept"}]
[null,"milliards",null,null,"millions",null,null,"mille",null,null,"unités simples",null,null,null,"1/10","1/100","1/1000","1/10 000","1/100 000",null,"1/1 000 000"]
[null,null,null,null,null,null,null,null,null,null,null,null,null,{"$f":"IF(P$4=\"non\",\"\",\",\")","v":""}]
[]
["Dictée de nombres"]
[]
[1,{"$f":"B22","v":"cent quatre-vingts milliards vingt-sept millions huit cent dix-neuf mille cinquante-sept"}]
[]
[]
[{"$f":"1+A63","v":2},{"$f":"B26","v":"neuf cent vingt-huit milliards sept cent soixante et onze mille trois cent soixante-dix"}]
[]
[]
[{"$f":"1+A66","v":3},{"$f":"B30","v":"neuf cent vingt-six milliards six cent seize millions trois cents mille deux cent quatorze"}]
[]
[]
[{"$f":"1+A69","v":4},{"$f":"B34","v":"neuf cent quarante-trois milliards cinquante-quatre millions huit cent soixante-dix mille quatre-vingt-neuf"}]
[]
[]
[{"$f":"1+A72","v":5},{"$f":"B37","v":"quatre cent vingt et un milliards deux cent soixante-huit millions soixante-trois mille deux"}]
[]
[]
[{"$f":"1+A75","v":6},{"$f":"B41","v":"cinq cents milliards sept cent vingt-six millions sept cent soixante-sept mille deux cent vingt-trois"}]
[]
[]
[{"$f":"1+A78","v":7},{"$f":"B45","v":"cent quarante-deux milliards quatre cent dix-sept millions deux cent soixante-dix mille cinquante-deux"}]
[]
[]
[{"$f":"1+A81","v":8},{"$f":"B49","v":"trois cent quarante-deux milliards cinq cent quatre-vingt-quatorze millions deux mille neuf cent quatre-vingts"}]
[]
[]
[{"$f":"1+A84","v":9},{"$f":"B53","v":"cent vingt-cinq milliards cinq cents millions deux cent quatre-vingt-un mille trois cent quarante et un"}]
[]
[]
[{"$f":"1+A87","v":10},{"$f":"B57","v":"cent dix-sept milliards trois cents millions dix-huit mille huit cent quatre-vingt-sept"}]

{"sheet":"Feuil2","index":1,"n_rows":489,"n_cols":33,"rows_kept":489,"cut":false,"hidden":false,"merged":[[488,1,488,14],[13,1,13,15],[13,16,13,18],[13,19,13,21],[18,16,18,18],[18,19,18,21],[23,16,23,18],[23,19,23,21],[28,1,28,15],[28,16,28,18],[28,19,28,21],[33,1,33,15],[33,16,33,18],[463,1,463,15],[468,1,468,14],[473,1,473,21],[478,1,478,15],[483,1,483,15],[438,1,438,15],[443,1,443,15],[448,1,448,14],[453,1,453,21],[458,1,458,15],[413,1,413,21],[418,1,418,15],[423,1,423,15],[428,1,428,14],[433,1,433,21],[388,1,388,14],[393,1,393,21],[398,1,398,15],[403,1,403,15],[408,1,408,14],[363,1,363,15],[368,1,368,14],[373,1,373,21],[378,1,378,15],[383,1,383,15],[338,1,338,15],[343,1,343,15],[348,1,348,14],[353,1,353,21],[358,1,358,15],[313,1,313,21],[318,1,318,15],[323,1,323,15],[328,1,328,14],[333,1,333,21],[288,1,288,14],[293,1,293,21],[298,1,298,15],[303,1,303,15],[308,1,308,14],[263,1,263,15],[268,1,268,14],[273,1,273,21],[278,1,278,15],[283,1,283,15],[238,1,238,15],[243,1,243,15],[248,1,248,14],[253,1,253,21],[258,1,258,15],[213,1,213,21],[218,1,218,15],[223,1,223,15],[228,1,228,14],[233,1,233,21],[188,1,188,14],[193,1,193,21],[198,1,198,15],[203,1,203,15],[208,1,208,14],[163,1,163,15],[168,1,168,14],[173,1,173,21],[178,1,178,15],[183,1,183,15],[138,1,138,15],[143,1,143,15],[148,1,148,14],[153,1,153,21],[158,1,158,15],[113,1,113,21],[118,1,118,15],[123,1,123,15],[128,1,128,14],[133,1,133,21],[88,1,88,14],[93,1,93,21],[98,1,98,15],[103,1,103,15],[108,1,108,14],[63,1,63,15],[68,1,68,14],[73,1,73,21],[78,1,78,15],[83,1,83,15],[38,1,38,15],[43,1,43,15],[58,1,58,15],[38,16,38,18],[38,19,38,21],[43,16,43,18],[43,19,43,21],[48,1,48,15],[48,16,48,18],[48,19,48,21],[53,1,53,15],[53,16,53,18],[53,19,53,21],[58,16,58,18],[58,19,58,21],[18,1,18,15],[23,1,23,15],[33,19,33,21],[6,31,7,31],[7,4,7,6],[7,7,7,9],[7,10,7,12],[7,13,7,15],[0,1,0,2],[1,1,1,2],[6,25,7,25],[6,26,7,26],[6,30,7,30],[1,13,1,17],[7,16,7,21]]}
[null,null,null,null,null,null,null,"oui","virgule"]
[null,"Numération ",null,null,null,null,null,"non","fractionnaire",null,null,null,null,{"$f":"E12*10^(F7)","v":10000000000}]
[null,"nombre mini:",{"$f":"Feuil1!P1","v":100000}," "]
[null,"nombre maxi:",{"$f":"Feuil1!P2","v":999999999999}]
[null,"Nombre de zéros",{"$f":"Feuil1!P3","v":2}]
[null,"nombre décimal",{"$f":"Feuil1!P4","v":"non"},null,null,null,null,null,null,null,null,null,null,null,null,null,-1,-2,-3,-4,-5,-6]
[null,"Nombre de décimales",{"$f":"Feuil1!P5","v":2},null,11,10,9,8,7,6,5,4,3,2,1,0,10,100,1000,10000,100000,1000000,null,null,null,"place du premier zéro","Place du dernier zéro",null,null,null,"place du premier zéro","Place du dernier zéro"]
[null,"séparation décimale",{"$f":"Feuil1!P6","v":"virgule"},null,"Milliards",null,null,"Millions",null,null,"Milliers",null,null,"Unités",null,null,"Unités décimales",null,null,null,null,null,null,"partie entière","nb chiffres",null,null,null,"partie décimale","nb chiffres"]
[null,null,null,null,"C","D","U","C","D","U","C","D","U","C","D","U","dixième","centième","millième","dix millième","cent millième","millionième"]
[null,null,null,null,{"$f":"IF(X10>100000000000,INT(RIGHT($X10,12)/100000000000),0)","v":1},{"$f":"IF(X10>10000000000,INT(RIGHT($X10,11)/10000000000),0)","v":8},{"$f":"IF(X10>1000000000,INT(RIGHT($X10,10)/1000000000),0)","v":4},{"$f":"IF(X10>100000000,INT(RIGHT($X10,9)/100000000),0)","v":7},{"$f":"IF(X10>10000000,INT(RIGHT($X10,8)/10000000),0)","v":2},{"$f":"IF(X10>1000000,INT(RIGHT($X10,7)/1000000),0)","v":7},{"$f":"IF(X10>100000,INT(RIGHT($X10,6)/100000),0)","v":8},{"$f":"IF(X10>10000,INT(RIGHT($X10,5)/10000),0)","v":1},{"$f":"IF(X10>1000,INT(RIGHT($X10,4)/1000),0)","v":9},{"$f":"IF(X10>100,INT(RIGHT($X10,3)/100),0)","v":0},{"$f":"IF(X10>10,INT(RIGHT($X10,2)/10),0)","v":5},{"$f":"INT(RIGHT($X10,1)/1)","v":7},{"$f":"INT(RIGHT($AC10,1))","v":8},{"$f":"INT(RIGHT($AC10,2)/10)","v":2},{"$f":"INT(RIGHT($AC10,3)/100)","v":0},{"$f":"INT(RIGHT($AC10,4)/1000)","v":0},{"$f":"INT(RIGHT($AC10,5)/10000)","v":0},{"$f":"INT(RIGHT($AC10,6)/100000)","v":0},{"$f":"((Q10*100000)+(R10*10000)+(S10*1000)+(T10*100)+(U10*10)+V10)","v":820000},{"$f":"C$3+INT(RAND()*(C$4-C$3+1))","v":184727819057},{"$f":"LEN(X10)","v":12},{"$f":"INT(RAND()*(Y10-C$5))+C$5","v":9},{"$f":"Z10-C$5","v":7},null,{"$f":"INT(RAND()*(POWER(10,$C$7))+1)","v":28},{"$f":"LEN(AC10)","v":2},{"$f":"INT(RAND()*(AD10-H$5))+H$5","v":0},{"$f":"AE10-H$5","v":0},{"$f":"(Q10*10^Q$6)+(R10*10^R$6)+(S10*10^S$6)+(T10*10^T$6)+(U10*10^U$6)+(V10*10^V$6)","v":0.82000000000000006}]
[1,{"$f":"convnumberletter(C11)","v":"cent quatre-vingts milliards vingt-sept millions huit cent dix-neuf mille cinquante-sept"},{"$f":"(E12*10^E$7)+(F12*10^F$7)+(G12*10^G$7)+(H12*10^H$7)+(I12*10^I$7)+(J12*10^J$7)+(K12*10^K$7)+(L12*10^L$7)+(M12*10^M$7)+(N12*10^N$7)+(O12*10^O$7)+(P12*10^P$7)","v":180027819057},null,{"$f":"IF(Z10=12,TRUE,FALSE)","v":false},{"$f":"IF(Z10=11,TRUE,FALSE)","v":false},{"$f":"IF(Z10=10,TRUE,FALSE)","v":false},{"$f":"IF(Z10=9,TRUE,FALSE)","v":true},{"$f":"IF(Z10=8,TRUE,FALSE)","v":false},{"$f":"IF(Z10=7,TRUE,FALSE)","v":false},{"$f":"IF(Z10=6,TRUE,FALSE)","v":false},{"$f":"IF(Z10=5,TRUE,FALSE)","v":false},{"$f":"IF(Z10=4,TRUE,FALSE)","v":false},{"$f":"IF(Z10=3,TRUE,FALSE)","v":false},{"$f":"IF(Z10=2,TRUE,FALSE)","v":false},{"$f":"IF(Z10=1,TRUE,FALSE)","v":false},{"$f":"IF(AND(Q10=0,R11=FALSE),FALSE,TRUE)","v":true},{"$f":"IF(AND(R10=0,S11=FALSE),FALSE,TRUE)","v":true},{"$f":"IF(AND(S10=0,T11=FALSE),FALSE,TRUE)","v":false},{"$f":"IF(AND(T10=0,U11=FALSE),FALSE,TRUE)","v":false},{"$f":"IF(AND(U10=0,V11=FALSE),FALSE,TRUE)","v":false},{"$f":"IF(V10=0,FALSE,TRUE)","v":false},{"$f":"W10/(1000000/W12)","v":82}]
[null,{"$f":"convnumberletter(C12)","v":"quatre-vingt-deux"},{"$f":"W11","v":82},null,{"$f":"IF(AND(E$7-1<$Z10,E$7-1>=$AA10),0,E10)","v":1},8,0,0,2,7,8,1,{"$f":"IF(AND(M$7-1<$Z10,M$7-1>=$AA10),0,M10)","v":9},{"$f":"IF(AND(N$7-1<$Z10,N$7-1>=$AA10),0,N10)","v":0},{"$f":"IF(AND(O$7-1<$Z10,O$7-1>=$AA10),0,O10)","v":5},{"$f":"IF(AND(P$7-1<$Z10,P$7-1>=$AA10),0,P10)","v":7},{"$f":"IF(Q11=FALSE,\"\",Q10)","v":8},2,"","","","",{"$f":"SUM(Q13:V13)","v":100}]
[null,{"$f":"IF(C12>1,CONCATENATE(HLOOKUP(C13,$Q$7:$V$9,3,TRUE),\"s\"),HLOOKUP(C13,$Q$7:$V$9,3,TRUE))","v":"centièmes"},{"$f":"W12","v":100},null,null,null,null,null,null,null,null,null,null,null,null,null,{"$f":"IF(AND(R12=\"\",Q12<>\"\"),Q$7,0)","v":0},{"$f":"IF(AND(S12=\"\",R12<>\"\"),R$7,0)","v":100},{"$f":"IF(AND(T12=\"\",S12<>\"\"),S$7,0)","v":0},{"$f":"IF(AND(U12=\"\",T12<>\"\"),T$7,0)","v":0},{"$f":"IF(AND(V12=\"\",U12<>\"\"),U$7,0)","v":0},{"$f":"IF(AND(W13=\"\",V12<>\"\"),V$7,0)","v":0}]
[null,{"$f":"IF($C$8=\"virgule\",CONCATENATE(B11,\" virgule \",B12),CONCATENATE(B11,\"  et \",B12,\" \",B13))","v":"cent quatre-vingts milliards vingt-sept millions huit cent dix-neuf mille cinquante-sept virgule quatre-vingt-deux"},null,null,null,null,null,null,null,null,null,null,null,null,null,null,{"$f":"C11","v":180027819057},null,null,{"$f":"AG10","v":0.82000000000000006}]
[null,null,null,null,{"$f":"IF(X15>100000000000,INT(RIGHT($X15,12)/100000000000),0)","v":9},{"$f":"IF(X15>10000000000,INT(RIGHT($X15,11)/10000000000),0)","v":2},{"$f":"IF(X15>1000000000,INT(RIGHT($X15,10)/1000000000),0)","v":8},{"$f":"IF(X15>100000000,INT(RIGHT($X15,9)/100000000),0)","v":0},{"$f":"IF(X15>10000000,INT(RIGHT($X15,8)/10000000),0)","v":2},{"$f":"IF(X15>1000000,INT(RIGHT($X15,7)/1000000),0)","v":2},{"$f":"IF(X15>100000,INT(RIGHT($X15,6)/100000),0)","v":7},{"$f":"IF(X15>10000,INT(RIGHT($X15,5)/10000),0)","v":7},{"$f":"IF(X15>1000,INT(RIGHT($X15,4)/1000),0)","v":1},{"$f":"IF(X15>100,INT(RIGHT($X15,3)/100),0)","v":3},{"$f":"IF(X15>10,INT(RIGHT($X15,2)/10),0)","v":7},{"$f":"INT(RIGHT($X15,1)/1)","v":0},{"$f":"INT(RIGHT($AC15,1))","v":9},{"$f":"INT(RIGHT($AC15,2)/10)","v":3},{"$f":"INT(RIGHT($AC15,3)/100)","v":0},{"$f":"INT(RIGHT($AC15,4)/1000)","v":0},{"$f":"INT(RIGHT($AC15,5)/10000)","v":0},{"$f":"INT(RIGHT($AC15,6)/100000)","v":0},{"$f":"((Q15*100000)+(R15*10000)+(S15*1000)+(T15*100)+(U15*10)+V15)","v":930000},{"$f":"C$3+INT(RAND()*(C$4-C$3+1))","v":928022771370},{"$f":"LEN(X15)","v":12},{"$f":"INT(RAND()*(Y15-C$5))+C$5","v":7},{"$f":"Z15-C$5","v":5},null,{"$f":"INT(RAND()*(POWER(10,$C$7))+1)","v":39},{"$f":"LEN(AC15)","v":2},{"$f":"INT(RAND()*(AD15-H$5))+H$5","v":1},{"$f":"AE15-H$5","v":1},{"$f":"(Q15*10^Q$6)+(R15*10^R$6)+(S15*10^S$6)+(T15*10^T$6)+(U15*10^U$6)+(V15*10^V$6)","v":0.93}]
[2,{"$f":"convnumberletter(C16)","v":"neuf cent vingt-huit milliards sept cent soixante et onze mille trois cent soixante-dix"},{"$f":"(E17*10^E$7)+(F17*10^F$7)+(G17*10^G$7)+(H17*10^H$7)+(I17*10^I$7)+(J17*10^J$7)+(K17*10^K$7)+(L17*10^L$7)+(M17*10^M$7)+(N17*10^N$7)+(O17*10^O$7)+(P17*10^P$7)","v":928000771370},null,{"$f":"IF(Z15=12,TRUE,FALSE)","v":false},{"$f":"IF(Z15=11,TRUE,FALSE)","v":false},{"$f":"IF(Z15=10,TRUE,FALSE)","v":false},{"$f":"IF(Z15=9,TRUE,FALSE)","v":false},{"$f":"IF(Z15=8,TRUE,FALSE)","v":false},{"$f":"IF(Z15=7,TRUE,FALSE)","v":true},{"$f":"IF(Z15=6,TRUE,FALSE)","v":false},{"$f":"IF(Z15=5,TRUE,FALSE)","v":false},{"$f":"IF(Z15=4,TRUE,FALSE)","v":false},{"$f":"IF(Z15=3,TRUE,FALSE)","v":false},{"$f":"IF(Z15=2,TRUE,FALSE)","v":false},{"$f":"IF(Z15=1,TRUE,FALSE)","v":false},{"$f":"IF(AND(Q15=0,R16=FALSE),FALSE,TRUE)","v":true},{"$f":"IF(AND(R15=0,S16=FALSE),FALSE,TRUE)","v":true},{"$f":"IF(AND(S15=0,T16=FALSE),FALSE,TRUE)","v":false},{"$f":"IF(AND(T15=0,U16=FALSE),FALSE,TRUE)","v":false},{"$f":"IF(AND(U15=0,V16=FALSE),FALSE,TRUE)","v":false},{"$f":"IF(V15=0,FALSE,TRUE)","v":false},{"$f":"W15/(1000000/W17)","v":93}]
[null,{"$f":"convnumberletter(C17)","v":"quatre-vingt-treize"},{"$f":"W16","v":93},null,{"$f":"IF(AND(E$7-1<$Z15,E$7-1>=$AA15),0,E15)","v":9},2,8,0,0,0,7,7,{"$f":"IF(AND(M$7-1<$Z15,M$7-1>=$AA15),0,M15)","v":1},{"$f":"IF(AND(N$7-1<$Z15,N$7-1>=$AA15),0,N15)","v":3},{"$f":"IF(AND(O$7-1<$Z15,O$7-1>=$AA15),0,O15)","v":7},{"$f":"IF(AND(P$7-1<$Z15,P$7-1>=$AA15),0,P15)","v":0},{"$f":"IF(Q16=FALSE,\"\",Q15)","v":9},3,"","","","",{"$f":"SUM(Q18:V18)","v":100}]
[null,{"$f":"IF(C17>1,CONCATENATE(HLOOKUP(C18,$Q$7:$V$9,3,TRUE),\"s\"),HLOOKUP(C18,$Q$7:$V$9,3,TRUE))","v":"centièmes"},{"$f":"W17","v":100},null,null,null,null,null,null,null,null,null,null,null,null,null,{"$f":"IF(AND(R17=\"\",Q17<>\"\"),Q$7,0)","v":0},{"$f":"IF(AND(S17=\"\",R17<>\"\"),R$7,0)","v":100},{"$f":"IF(AND(T17=\"\",S17<>\"\"),S$7,0)","v":0},{"$f":"IF(AND(U17=\"\",T17<>\"\"),T$7,0)","v":0},{"$f":"IF(AND(V17=\"\",U17<>\"\"),U$7,0)","v":0},{"$f":"IF(AND(W18=\"\",V17<>\"\"),V$7,0)","v":0}]
[null,{"$f":"IF($C$8=\"virgule\",CONCATENATE(B16,\" virgule \",B17),CONCATENATE(B16,\"  et \",B17,\" \",B18))","v":"neuf cent vingt-huit milliards sept cent soixante et onze mille trois cent soixante-dix virgule quatre-vingt-treize"},null,null,null,null,null,null,null,null,null,null,null,null,null,null,{"$f":"C16","v":928000771370},null,null,{"$f":"AG15","v":0.93}]
[null,null,null,null,{"$f":"IF(X20>100000000000,INT(RIGHT($X20,12)/100000000000),0)","v":9},{"$f":"IF(X20>10000000000,INT(RIGHT($X20,11)/10000000000),0)","v":2},{"$f":"IF(X20>1000000000,INT(RIGHT($X20,10)/1000000000),0)","v":6},{"$f":"IF(X20>100000000,INT(RIGHT($X20,9)/100000000),0)","v":6},{"$f":"IF(X20>10000000,INT(RIGHT($X20,8)/10000000),0)","v":1},{"$f":"IF(X20>1000000,INT(RIGHT($X20,7)/1000000),0)","v":6},{"$f":"IF(X20>100000,INT(RIGHT($X20,6)/100000),0)","v":3},{"$f":"IF(X20>10000,INT(RIGHT($X20,5)/10000),0)","v":2},{"$f":"IF(X20>1000,INT(RIGHT($X20,4)/1000),0)","v":7},{"$f":"IF(X20>100,INT(RIGHT($X20,3)/100),0)","v":2},{"$f":"IF(X20>10,INT(RIGHT($X20,2)/10),0)","v":1},{"$f":"INT(RIGHT($X20,1)/1)","v":4},{"$f":"INT(RIGHT($AC20,1))","v":7},{"$f":"INT(RIGHT($AC20,2)/10)","v":8},{"$f":"INT(RIGHT($AC20,3)/100)","v":0},{"$f":"INT(RIGHT($AC20,4)/1000)","v":0},{"$f":"INT(RIGHT($AC20,5)/10000)","v":0},{"$f":"INT(RIGHT($AC20,6)/100000)","v":0},{"$f":"((Q20*100000)+(R20*10000)+(S20*1000)+(T20*100)+(U20*10)+V20)","v":780000},{"$f":"C$3+INT(RAND()*(C$4-C$3+1))","v":926616327214},{"$f":"LEN(X20)","v":12},{"$f":"INT(RAND()*(Y20-C$5))+C$5","v":4},{"$f":"Z20-C$5","v":2},null,{"$f":"INT(RAND()*(POWER(10,$C$7))+1)","v":87},{"$f":"LEN(AC20)","v":2},{"$f":"INT(RAND()*(AD20-H$5))+H$5","v":1},{"$f":"AE20-H$5","v":1},{"$f":"(Q20*10^Q$6)+(R20*10^R$6)+(S20*10^S$6)+(T20*10^T$6)+(U20*10^U$6)+(V20*10^V$6)","v":0.78}]
[3,{"$f":"convnumberletter(C21)","v":"neuf cent vingt-six milliards six cent seize millions trois cents mille deux cent quatorze"},{"$f":"(E22*10^E$7)+(F22*10^F$7)+(G22*10^G$7)+(H22*10^H$7)+(I22*10^I$7)+(J22*10^J$7)+(K22*10^K$7)+(L22*10^L$7)+(M22*10^M$7)+(N22*10^N$7)+(O22*10^O$7)+(P22*10^P$7)","v":926616300214},null,{"$f":"IF(Z20=12,TRUE,FALSE)","v":false},{"$f":"IF(Z20=11,TRUE,FALSE)","v":false},{"$f":"IF(Z20=10,TRUE,FALSE)","v":false},{"$f":"IF(Z20=9,TRUE,FALSE)","v":false},{"$f":"IF(Z20=8,TRUE,FALSE)","v":false},{"$f":"IF(Z20=7,TRUE,FALSE)","v":false},{"$f":"IF(Z20=6,TRUE,FALSE)","v":false},{"$f":"IF(Z20=5,TRUE,FALSE)","v":false},{"$f":"IF(Z20=4,TRUE,FALSE)","v":true},{"$f":"IF(Z20=3,TRUE,FALSE)","v":false},{"$f":"IF(Z20=2,TRUE,FALSE)","v":false},{"$f":"IF(Z20=1,TRUE,FALSE)","v":false},{"$f":"IF(AND(Q20=0,R21=FALSE),FALSE,TRUE)","v":true},{"$f":"IF(AND(R20=0,S21=FALSE),FALSE,TRUE)","v":true},{"$f":"IF(AND(S20=0,T21=FALSE),FALSE,TRUE)","v":false},{"$f":"IF(AND(T20=0,U21=FALSE),FALSE,TRUE)","v":false},{"$f":"IF(AND(U20=0,V21=FALSE),FALSE,TRUE)","v":false},{"$f":"IF(V20=0,FALSE,TRUE)","v":false},{"$f":"W20/(1000000/W22)","v":78}]
[null,{"$f":"convnumberletter(C22)","v":"soixante-dix-huit"},{"$f":"W21","v":78},null,{"$f":"IF(AND(E$7-1<$Z20,E$7-1>=$AA20),0,E20)","v":9},2,6,6,1,6,3,0,{"$f":"IF(AND(M$7-1<$Z20,M$7-1>=$AA20),0,M20)","v":0},{"$f":"IF(AND(N$7-1<$Z20,N$7-1>=$AA20),0,N20)","v":2},{"$f":"IF(AND(O$7-1<$Z20,O$7-1>=$AA20),0,O20)","v":1},{"$f":"IF(AND(P$7-1<$Z20,P$7-1>=$AA20),0,P20)","v":4},{"$f":"IF(Q21=FALSE,\"\",Q20)","v":7},8,"","","","",{"$f":"SUM(Q23:V23)","v":100}]
[null,{"$f":"IF(C22>1,CONCATENATE(HLOOKUP(C23,$Q$7:$V$9,3,TRUE),\"s\"),HLOOKUP(C23,$Q$7:$V$9,3,TRUE))","v":"centièmes"},{"$f":"W22","v":100},null,null,null,null,null,null,null,null,null,null,null,null,null,{"$f":"IF(AND(R22=\"\",Q22<>\"\"),Q$7,0)","v":0},{"$f":"IF(AND(S22=\"\",R22<>\"\"),R$7,0)","v":100},{"$f":"IF(AND(T22=\"\",S22<>\"\"),S$7,0)","v":0},{"$f":"IF(AND(U22=\"\",T22<>\"\"),T$7,0)","v":0},{"$f":"IF(AND(V22=\"\",U22<>\"\"),U$7,0)","v":0},{"$f":"IF(AND(W23=\"\",V22<>\"\"),V$7,0)","v":0}]
[null,{"$f":"IF($C$8=\"virgule\",CONCATENATE(B21,\" virgule \",B22),CONCATENATE(B21,\"  et \",B22,\" \",B23))","v":"neuf cent vingt-six milliards six cent seize millions trois cents mille deux cent quatorze virgule soixante-dix-huit"},null,null,null,null,null,null,null,null,null,null,null,null,null,null,{"$f":"C21","v":926616300214},null,null,{"$f":"AG20","v":0.78}]
[null,null,null,null,{"$f":"IF(X25>100000000000,INT(RIGHT($X25,12)/100000000000),0)","v":9},{"$f":"IF(X25>10000000000,INT(RIGHT($X25,11)/10000000000),0)","v":4},{"$f":"IF(X25>1000000000,INT(RIGHT($X25,10)/1000000000),0)","v":3},{"$f":"IF(X25>100000000,INT(RIGHT($X25,9)/100000000),0)","v":0},{"$f":"IF(X25>10000000,INT(RIGHT($X25,8)/10000000),0)","v":5},{"$f":"IF(X25>1000000,INT(RIGHT($X25,7)/1000000),0)","v":4},{"$f":"IF(X25>100000,INT(RIGHT($X25,6)/100000),0)","v":8},{"$f":"IF(X25>10000,INT(RIGHT($X25,5)/10000),0)","v":7},{"$f":"IF(X25>1000,INT(RIGHT($X25,4)/1000),0)","v":5},{"$f":"IF(X25>100,INT(RIGHT($X25,3)/100),0)","v":0},{"$f":"IF(X25>10,INT(RIGHT($X25,2)/10),0)","v":8},{"$f":"INT(RIGHT($X25,1)/1)","v":9},{"$f":"INT(RIGHT($AC25,1))","v":1},{"$f":"INT(RIGHT($AC25,2)/10)","v":8},{"$f":"INT(RIGHT($AC25,3)/100)","v":0},{"$f":"INT(RIGHT($AC25,4)/1000)","v":0},{"$f":"INT(RIGHT($AC25,5)/10000)","v":0},{"$f":"INT(RIGHT($AC25,6)/100000)","v":0},{"$f":"((Q25*100000)+(R25*10000)+(S25*1000)+(T25*100)+(U25*10)+V25)","v":180000},{"$f":"C$3+INT(RAND()*(C$4-C$3+1))","v":943054875089},{"$f":"LEN(X25)","v":12},{"$f":"INT(RAND()*(Y25-C$5))+C$5","v":3},{"$f":"Z25-C$5","v":1},null,{"$f":"INT(RAND()*(POWER(10,$C$7))+1)","v":81},{"$f":"LEN(AC25)","v":2},{"$f":"INT(RAND()*(AD25-H$5))+H$5","v":0},{"$f":"AE25-H$5","v":0},{"$f":"(Q25*10^Q$6)+(R25*10^R$6)+(S25*10^S$6)+(T25*10^T$6)+(U25*10^U$6)+(V25*10^V$6)","v":0.18}]
[4,{"$f":"convnumberletter(C26)","v":"neuf cent quarante-trois milliards cinquante-quatre millions huit cent soixante-dix mille quatre-vingt-neuf"},{"$f":"(E27*10^E$7)+(F27*10^F$7)+(G27*10^G$7)+(H27*10^H$7)+(I27*10^I$7)+(J27*10^J$7)+(K27*10^K$7)+(L27*10^L$7)+(M27*10^M$7)+(N27*10^N$7)+(O27*10^O$7)+(P27*10^P$7)","v":943054870089},null,{"$f":"IF(Z25=12,TRUE,FALSE)","v":false},{"$f":"IF(Z25=11,TRUE,FALSE)","v":false},{"$f":"IF(Z25=10,TRUE,FALSE)","v":false},{"$f":"IF(Z25=9,TRUE,FALSE)","v":false},{"$f":"IF(Z25=8,TRUE,FALSE)","v":false},{"$f":"IF(Z25=7,TRUE,FALSE)","v":false},{"$f":"IF(Z25=6,TRUE,FALSE)","v":false},{"$f":"IF(Z25=5,TRUE,FALSE)","v":false},{"$f":"IF(Z25=4,TRUE,FALSE)","v":false},{"$f":"IF(Z25=3,TRUE,FALSE)","v":true},{"$f":"IF(Z25=2,TRUE,FALSE)","v":false},{"$f":"IF(Z25=1,TRUE,FALSE)","v":false},{"$f":"IF(AND(Q25=0,R26=FALSE),FALSE,TRUE)","v":true},{"$f":"IF(AND(R25=0,S26=FALSE),FALSE,TRUE)","v":true},{"$f":"IF(AND(S25=0,T26=FALSE),FALSE,TRUE)","v":false},{"$f":"IF(AND(T25=0,U26=FALSE),FALSE,TRUE)","v":false},{"$f":"IF(AND(U25=0,V26=FALSE),FALSE,TRUE)","v":false},{"$f":"IF(V25=0,FALSE,TRUE)","v":false},{"$f":"W25/(1000000/W27)","v":18}]
[null,{"$f":"convnumberletter(C27)","v":"dix-huit"},{"$f":"W26","v":18},null,{"$f":"IF(AND(E$7-1<$Z25,E$7-1>=$AA25),0,E25)","v":9},4,3,0,5,4,8,7,{"$f":"IF(AND(M$7-1<$Z25,M$7-1>=$AA25),0,M25)","v":0},{"$f":"IF(AND(N$7-1<$Z25,N$7-1>=$AA25),0,N25)","v":0},{"$f":"IF(AND(O$7-1<$Z25,O$7-1>=$AA25),0,O25)","v":8},{"$f":"IF(AND(P$7-1<$Z25,P$7-1>=$AA25),0,P25)","v":9},{"$f":"IF(Q26=FALSE,\"\",Q25)","v":1},8,"","","","",{"$f":"SUM(Q28:V28)","v":100}]
[null,{"$f":"IF(C27>1,CONCATENATE(HLOOKUP(C28,$Q$7:$V$9,3,TRUE),\"s\"),HLOOKUP(C28,$Q$7:$V$9,3,TRUE))","v":"centièmes"},{"$f":"W27","v":100},null,null,null,null,null,null,null,null,null,null,null,null,null,{"$f":"IF(AND(R27=\"\",Q27<>\"\"),Q$7,0)","v":0},{"$f":"IF(AND(S27=\"\",R27<>\"\"),R$7,0)","v":100},{"$f":"IF(AND(T27=\"\",S27<>\"\"),S$7,0)","v":0},{"$f":"IF(AND(U27=\"\",T27<>\"\"),T$7,0)","v":0},{"$f":"IF(AND(V27=\"\",U27<>\"\"),U$7,0)","v":0},{"$f":"IF(AND(W28=\"\",V27<>\"\"),V$7,0)","v":0}]
[null,{"$f":"IF($C$8=\"virgule\",CONCATENATE(B26,\" virgule \",B27),CONCATENATE(B26,\"  et \",B27,\" \",B28))","v":"neuf cent quarante-trois milliards cinquante-quatre millions huit cent soixante-dix mille quatre-vingt-neuf virgule dix-huit"},null,null,null,null,null,null,null,null,null,null,null,null,null,null,{"$f":"C26","v":943054870089},null,null,{"$f":"AG25","v":0.18}]
[null,null,null,null,{"$f":"IF(X30>100000000000,INT(RIGHT($X30,12)/100000000000),0)","v":4},{"$f":"IF(X30>10000000000,INT(RIGHT($X30,11)/10000000000),0)","v":2},{"$f":"IF(X30>1000000000,INT(RIGHT($X30,10)/1000000000),0)","v":1},{"$f":"IF(X30>100000000,INT(RIGHT($X30,9)/100000000),0)","v":2},{"$f":"IF(X30>10000000,INT(RIGHT($X30,8)/10000000),0)","v":6},{"$f":"IF(X30>1000000,INT(RIGHT($X30,7)/1000000),0)","v":8},{"$f":"IF(X30>100000,INT(RIGHT($X30,6)/100000),0)","v":0},{"$f":"IF(X30>10000,INT(RIGHT($X30,5)/10000),0)","v":6},{"$f":"IF(X30>1000,INT(RIGHT($X30,4)/1000),0)","v":3},{"$f":"IF(X30>100,INT(RIGHT($X30,3)/100),0)","v":1},{"$f":"IF(X30>10,INT(RIGHT($X30,2)/10),0)","v":4},{"$f":"INT(RIGHT($X30,1)/1)","v":2},{"$f":"INT(RIGHT($AC30,1))","v":7},{"$f":"INT(RIGHT($AC30,2)/10)","v":0},{"$f":"INT(RIGHT($AC30,3)/100)","v":0},{"$f":"INT(RIGHT($AC30,4)/1000)","v":0},{"$f":"INT(RIGHT($AC30,5)/10000)","v":0},{"$f":"INT(RIGHT($AC30,6)/100000)","v":0},{"$f":"((Q30*100000)+(R30*10000)+(S30*1000)+(T30*100)+(U30*10)+V30)","v":700000},{"$f":"C$3+INT(RAND()*(C$4-C$3+1))","v":421268063142},{"$f":"LEN(X30)","v":12},{"$f":"INT(RAND()*(Y30-C$5))+C$5","v":2},{"$f":"Z30-C$5","v":0},null,{"$f":"INT(RAND()*(POWER(10,$C$7))+1)","v":7},{"$f":"LEN(AC30)","v":1},{"$f":"INT(RAND()*(AD30-H$5))+H$5","v":0},{"$f":"AE30-H$5","v":0},{"$f":"(Q30*10^Q$6)+(R30*10^R$6)+(S30*10^S$6)+(T30*10^T$6)+(U30*10^U$6)+(V30*10^V$6)","v":0.70000000000000007}]
[5,{"$f":"convnumberletter(C31)","v":"quatre cent vingt et un milliards deux cent soixante-huit millions soixante-trois mille deux"},{"$f":"(E32*10^E$7)+(F32*10^F$7)+(G32*10^G$7)+(H32*10^H$7)+(I32*10^I$7)+(J32*10^J$7)+(K32*10^K$7)+(L32*10^L$7)+(M32*10^M$7)+(N32*10^N$7)+(O32*10^O$7)+(P32*10^P$7)","v":421268063002},null,{"$f":"IF(Z30=12,TRUE,FALSE)","v":false},{"$f":"IF(Z30=11,TRUE,FALSE)","v":false},{"$f":"IF(Z30=10,TRUE,FALSE)","v":false},{"$f":"IF(Z30=9,TRUE,FALSE)","v":false},{"$f":"IF(Z30=8,TRUE,FALSE)","v":false},{"$f":"IF(Z30=7,TRUE,FALSE)","v":false},{"$f":"IF(Z30=6,TRUE,FALSE)","v":false},{"$f":"IF(Z30=5,TRUE,FALSE)","v":false},{"$f":"IF(Z30=4,TRUE,FALSE)","v":false},{"$f":"IF(Z30=3,TRUE,FALSE)","v":false},{"$f":"IF(Z30=2,TRUE,FALSE)","v":true},{"$f":"IF(Z30=1,TRUE,FALSE)","v":false},{"$f":"IF(AND(Q30=0,R31=FALSE),FALSE,TRUE)","v":true},{"$f":"IF(AND(R30=0,S31=FALSE),FALSE,TRUE)","v":false},{"$f":"IF(AND(S30=0,T31=FALSE),FALSE,TRUE)","v":false},{"$f":"IF(AND(T30=0,U31=FALSE),FALSE,TRUE)","v":false},{"$f":"IF(AND(U30=0,V31=FALSE),FALSE,TRUE)","v":false},{"$f":"IF(V30=0,FALSE,TRUE)","v":false},{"$f":"W30/(1000000/W32)","v":7}]
[null,{"$f":"convnumberletter(C32)","v":"sept"},{"$f":"W31","v":7},null,{"$f":"IF(AND(E$7-1<$Z30,E$7-1>=$AA30),0,E30)","v":4},2,1,2,6,8,0,6,{"$f":"IF(AND(M$7-1<$Z30,M$7-1>=$AA30),0,M30)","v":3},{"$f":"IF(AND(N$7-1<$Z30,N$7-1>=$AA30),0,N30)","v":0},{"$f":"IF(AND(O$7-1<$Z30,O$7-1>=$AA30),0,O30)","v":0},{"$f":"IF(AND(P$7-1<$Z30,P$7-1>=$AA30),0,P30)","v":2},{"$f":"IF(Q31=FALSE,\"\",Q30)","v":7},"","","","","",{"$f":"SUM(Q33:V33)","v":10}]
[null,{"$f":"IF(C32>1,CONCATENATE(HLOOKUP(C33,$Q$7:$V$9,3,TRUE),\"s\"),HLOOKUP(C33,$Q$7:$V$9,3,TRUE))","v":"dixièmes"},{"$f":"W32","v":10},null,null,null,null,null,null,null,null,null,null,null,null,null,{"$f":"IF(AND(R32=\"\",Q32<>\"\"),Q$7,0)","v":10},{"$f":"IF(AND(S32=\"\",R32<>\"\"),R$7,0)","v":0},{"$f":"IF(AND(T32=\"\",S32<>\"\"),S$7,0)","v":0},{"$f":"IF(AND(U32=\"\",T32<>\"\"),T$7,0)","v":0},{"$f":"IF(AND(V32=\"\",U32<>\"\"),U$7,0)","v":0},{"$f":"IF(AND(W33=\"\",V32<>\"\"),V$7,0)","v":0}]
[null,{"$f":"IF($C$8=\"virgule\",CONCATENATE(B31,\" virgule \",B32),CONCATENATE(B31,\"  et \",B32,\" \",B33))","v":"quatre cent vingt et un milliards deux cent soixante-huit millions soixante-trois mille deux virgule sept"},null,null,null,null,null,null,null,null,null,null,null,null,null,null,{"$f":"C31","v":421268063002},null,null,{"$f":"AG30","v":0.70000000000000007}]
[null,null,null,null,{"$f":"IF(X35>100000000000,INT(RIGHT($X35,12)/100000000000),0)","v":5},{"$f":"IF(X35>10000000000,INT(RIGHT($X35,11)/10000000000),0)","v":3},{"$f":"IF(X35>1000000000,INT(RIGHT($X35,10)/1000000000),0)","v":5},{"$f":"IF(X35>100000000,INT(RIGHT($X35,9)/100000000),0)","v":7},{"$f":"IF(X35>10000000,INT(RIGHT($X35,8)/10000000),0)","v":2},{"$f":"IF(X35>1000000,INT(RIGHT($X35,7)/1000000),0)","v":6},{"$f":"IF(X35>100000,INT(RIGHT($X35,6)/100000),0)","v":7},{"$f":"IF(X35>10000,INT(RIGHT($X35,5)/10000),0)","v":6},{"$f":"IF(X35>1000,INT(RIGHT($X35,4)/1000),0)","v":7},{"$f":"IF(X35>100,INT(RIGHT($X35,3)/100),0)","v":2},{"$f":"IF(X35>10,INT(RIGHT($X35,2)/10),0)","v":2},{"$f":"INT(RIGHT($X35,1)/1)","v":3},{"$f":"INT(RIGHT($AC35,1))","v":0},{"$f":"INT(RIGHT($AC35,2)/10)","v":8},{"$f":"INT(RIGHT($AC35,3)/100)","v":0},{"$f":"INT(RIGHT($AC35,4)/1000)","v":0},{"$f":"INT(RIGHT($AC35,5)/10000)","v":0},{"$f":"INT(RIGHT($AC35,6)/100000)","v":0},{"$f":"((Q35*100000)+(R35*10000)+(S35*1000)+(T35*100)+(U35*10)+V35)","v":80000},{"$f":"C$3+INT(RAND()*(C$4-C$3+1))","v":535726767223},{"$f":"LEN(X35)","v":12},{"$f":"INT(RAND()*(Y35-C$5))+C$5","v":10},{"$f":"Z35-C$5","v":8},null,{"$f":"INT(RAND()*(POWER(10,$C$7))+1)","v":80},{"$f":"LEN(AC35)","v":2},{"$f":"INT(RAND()*(AD35-H$5))+H$5","v":0},{"$f":"AE35-H$5","v":0},{"$f":"(Q35*10^Q$6)+(R35*10^R$6)+(S35*10^S$6)+(T35*10^T$6)+(U35*10^U$6)+(V35*10^V$6)","v":0.08}]
[6,{"$f":"convnumberletter(C36)","v":"cinq cents milliards sept cent vingt-six millions sept cent soixante-sept mille deux cent vingt-trois"},{"$f":"(E37*10^E$7)+(F37*10^F$7)+(G37*10^G$7)+(H37*10^H$7)+(I37*10^I$7)+(J37*10^J$7)+(K37*10^K$7)+(L37*10^L$7)+(M37*10^M$7)+(N37*10^N$7)+(O37*10^O$7)+(P37*10^P$7)","v":500726767223},null,{"$f":"IF(Z35=12,TRUE,FALSE)","v":false},{"$f":"IF(Z35=11,TRUE,FALSE)","v":false},{"$f":"IF(Z35=10,TRUE,FALSE)","v":true},{"$f":"IF(Z35=9,TRUE,FALSE)","v":false},{"$f":"IF(Z35=8,TRUE,FALSE)","v":false},{"$f":"IF(Z35=7,TRUE,FALSE)","v":false},{"$f":"IF(Z35=6,TRUE,FALSE)","v":false},{"$f":"IF(Z35=5,TRUE,FALSE)","v":false},{"$f":"IF(Z35=4,TRUE,FALSE)","v":false},{"$f":"IF(Z35=3,TRUE,FALSE)","v":false},{"$f":"IF(Z35=2,TRUE,FALSE)","v":false},{"$f":"IF(Z35=1,TRUE,FALSE)","v":false},{"$f":"IF(AND(Q35=0,R36=FALSE),FALSE,TRUE)","v":true},{"$f":"IF(AND(R35=0,S36=FALSE),FALSE,TRUE)","v":true},{"$f":"IF(AND(S35=0,T36=FALSE),FALSE,TRUE)","v":false},{"$f":"IF(AND(T35=0,U36=FALSE),FALSE,TRUE)","v":false},{"$f":"IF(AND(U35=0,V36=FALSE),FALSE,TRUE)","v":false},{"$f":"IF(V35=0,FALSE,TRUE)","v":false},{"$f":"W35/(1000000/W37)","v":8}]
[null,{"$f":"convnumberletter(C37)","v":"huit"},{"$f":"W36","v":8},null,{"$f":"IF(AND(E$7-1<$Z35,E$7-1>=$AA35),0,E35)","v":5},0,0,7,2,6,7,6,{"$f":"IF(AND(M$7-1<$Z35,M$7-1>=$AA35),0,M35)","v":7},{"$f":"IF(AND(N$7-1<$Z35,N$7-1>=$AA35),0,N35)","v":2},{"$f":"IF(AND(O$7-1<$Z35,O$7-1>=$AA35),0,O35)","v":2},{"$f":"IF(AND(P$7-1<$Z35,P$7-1>=$AA35),0,P35)","v":3},{"$f":"IF(Q36=FALSE,\"\",Q35)","v":0},8,"","","","",{"$f":"SUM(Q38:V38)","v":100}]
[null,{"$f":"IF(C37>1,CONCATENATE(HLOOKUP(C38,$Q$7:$V$9,3,TRUE),\"s\"),HLOOKUP(C38,$Q$7:$V$9,3,TRUE))","v":"centièmes"},{"$f":"W37","v":100},null,null,null,null,null,null,null,null,null,null,null,null,null,{"$f":"IF(AND(R37=\"\",Q37<>\"\"),Q$7,0)","v":0},{"$f":"IF(AND(S37=\"\",R37<>\"\"),R$7,0)","v":100},{"$f":"IF(AND(T37=\"\",S37<>\"\"),S$7,0)","v":0},{"$f":"IF(AND(U37=\"\",T37<>\"\"),T$7,0)","v":0},{"$f":"IF(AND(V37=\"\",U37<>\"\"),U$7,0)","v":0},{"$f":"IF(AND(W38=\"\",V37<>\"\"),V$7,0)","v":0}]
[null,{"$f":"IF($C$8=\"virgule\",CONCATENATE(B36,\" virgule \",B37),CONCATENATE(B36,\"  et \",B37,\" \",B38))","v":"cinq cents milliards sept cent vingt-six millions sept cent soixante-sept mille deux cent vingt-trois virgule huit"},null,null,null,null,null,null,null,null,null,null,null,null,null,null,{"$f":"C36","v":500726767223},null,null,{"$f":"AG35","v":0.08}]
[null,null,null,null,{"$f":"IF(X40>100000000000,INT(RIGHT($X40,12)/100000000000),0)","v":1},{"$f":"IF(X40>10000000000,INT(RIGHT($X40,11)/10000000000),0)","v":4},{"$f":"IF(X40>1000000000,INT(RIGHT($X40,10)/1000000000),0)","v":2},{"$f":"IF(X40>100000000,INT(RIGHT($X40,9)/100000000),0)","v":4},{"$f":"IF(X40>10000000,INT(RIGHT($X40,8)/10000000),0)","v":1},{"$f":"IF(X40>1000000,INT(RIGHT($X40,7)/1000000),0)","v":7},{"$f":"IF(X40>100000,INT(RIGHT($X40,6)/100000),0)","v":2},{"$f":"IF(X40>10000,INT(RIGHT($X40,5)/10000),0)","v":7},{"$f":"IF(X40>1000,INT(RIGHT($X40,4)/1000),0)","v":8},{"$f":"IF(X40>100,INT(RIGHT($X40,3)/100),0)","v":2},{"$f":"IF(X40>10,INT(RIGHT($X40,2)/10),0)","v":5},{"$f":"INT(RIGHT($X40,1)/1)","v":2},{"$f":"INT(RIGHT($AC40,1))","v":0},{"$f":"INT(RIGHT($AC40,2)/10)","v":5},{"$f":"INT(RIGHT($AC40,3)/100)","v":0},{"$f":"INT(RIGHT($AC40,4)/1000)","v":0},{"$f":"INT(RIGHT($AC40,5)/10000)","v":0},{"$f":"INT(RIGHT($AC40,6)/100000)","v":0},{"$f":"((Q40*100000)+(R40*10000)+(S40*1000)+(T40*100)+(U40*10)+V40)","v":50000},{"$f":"C$3+INT(RAND()*(C$4-C$3+1))","v":142417278252},{"$f":"LEN(X40)","v":12},{"$f":"INT(RAND()*(Y40-C$5))+C$5","v":3},{"$f":"Z40-C$5","v":1},null,{"$f":"INT(RAND()*(POWER(10,$C$7))+1)","v":50},{"$f":"LEN(AC40)","v":2},{"$f":"INT(RAND()*(AD40-H$5))+H$5","v":1},{"$f":"AE40-H$5","v":1},{"$f":"(Q40*10^Q$6)+(R40*10^R$6)+(S40*10^S$6)+(T40*10^T$6)+(U40*10^U$6)+(V40*10^V$6)","v":0.05}]
[7,{"$f":"convnumberletter(C41)","v":"cent quarante-deux milliards quatre cent dix-sept millions deux cent soixante-dix mille cinquante-deux"},{"$f":"(E42*10^E$7)+(F42*10^F$7)+(G42*10^G$7)+(H42*10^H$7)+(I42*10^I$7)+(J42*10^J$7)+(K42*10^K$7)+(L42*10^L$7)+(M42*10^M$7)+(N42*10^N$7)+(O42*10^O$7)+(P42*10^P$7)","v":142417270052},null,{"$f":"IF(Z40=12,TRUE,FALSE)","v":false},{"$f":"IF(Z40=11,TRUE,FALSE)","v":false},{"$f":"IF(Z40=10,TRUE,FALSE)","v":false},{"$f":"IF(Z40=9,TRUE,FALSE)","v":false},{"$f":"IF(Z40=8,TRUE,FALSE)","v":false},{"$f":"IF(Z40=7,TRUE,FALSE)","v":false},{"$f":"IF(Z40=6,TRUE,FALSE)","v":false},{"$f":"IF(Z40=5,TRUE,FALSE)","v":false},{"$f":"IF(Z40=4,TRUE,FALSE)","v":false},{"$f":"IF(Z40=3,TRUE,FALSE)","v":true},{"$f":"IF(Z40=2,TRUE,FALSE)","v":false},{"$f":"IF(Z40=1,TRUE,FALSE)","v":false},{"$f":"IF(AND(Q40=0,R41=FALSE),FALSE,TRUE)","v":true},{"$f":"IF(AND(R40=0,S41=FALSE),FALSE,TRUE)","v":true},{"$f":"IF(AND(S40=0,T41=FALSE),FALSE,TRUE)","v":false},{"$f":"IF(AND(T40=0,U41=FALSE),FALSE,TRUE)","v":false},{"$f":"IF(AND(U40=0,V41=FALSE),FALSE,TRUE)","v":false},{"$f":"IF(V40=0,FALSE,TRUE)","v":false},{"$f":"W40/(1000000/W42)","v":5}]
[null,{"$f":"convnumberletter(C42)","v":"cinq"},{"$f":"W41","v":5},null,{"$f":"IF(AND(E$7-1<$Z40,E$7-1>=$AA40),0,E40)","v":1},4,2,4,1,7,2,7,{"$f":"IF(AND(M$7-1<$Z40,M$7-1>=$AA40),0,M40)","v":0},{"$f":"IF(AND(N$7-1<$Z40,N$7-1>=$AA40),0,N40)","v":0},{"$f":"IF(AND(O$7-1<$Z40,O$7-1>=$AA40),0,O40)","v":5},{"$f":"IF(AND(P$7-1<$Z40,P$7-1>=$AA40),0,P40)","v":2},{"$f":"IF(Q41=FALSE,\"\",Q40)","v":0},5,"","","","",{"$f":"SUM(Q43:V43)","v":100}]
[null,{"$f":"IF(C42>1,CONCATENATE(HLOOKUP(C43,$Q$7:$V$9,3,TRUE),\"s\"),HLOOKUP(C43,$Q$7:$V$9,3,TRUE))","v":"centièmes"},{"$f":"W42","v":100},null,null,null,null,null,null,null,null,null,null,null,null,null,{"$f":"IF(AND(R42=\"\",Q42<>\"\"),Q$7,0)","v":0},{"$f":"IF(AND(S42=\"\",R42<>\"\"),R$7,0)","v":100},{"$f":"IF(AND(T42=\"\",S42<>\"\"),S$7,0)","v":0},{"$f":"IF(AND(U42=\"\",T42<>\"\"),T$7,0)","v":0},{"$f":"IF(AND(V42=\"\",U42<>\"\"),U$7,0)","v":0},{"$f":"IF(AND(W43=\"\",V42<>\"\"),V$7,0)","v":0}]
[null,{"$f":"IF($C$8=\"virgule\",CONCATENATE(B41,\" virgule \",B42),CONCATENATE(B41,\"  et \",B42,\" \",B43))","v":"cent quarante-deux milliards quatre cent dix-sept millions deux cent soixante-dix mille cinquante-deux virgule cinq"},null,null,null,null,null,null,null,null,null,null,null,null,null,null,{"$f":"C41","v":142417270052},null,null,{"$f":"AG40","v":0.05}]
[null,null,null,null,{"$f":"IF(X45>100000000000,INT(RIGHT($X45,12)/100000000000),0)","v":3},{"$f":"IF(X45>10000000000,INT(RIGHT($X45,11)/10000000000),0)","v":4},{"$f":"IF(X45>1000000000,INT(RIGHT($X45,10)/1000000000),0)","v":2},{"$f":"IF(X45>100000000,INT(RIGHT($X45,9)/100000000),0)","v":5},{"$f":"IF(X45>10000000,INT(RIGHT($X45,8)/10000000),0)","v":9},{"$f":"IF(X45>1000000,INT(RIGHT($X45,7)/1000000),0)","v":4},{"$f":"IF(X45>100000,INT(RIGHT($X45,6)/100000),0)","v":0},{"$f":"IF(X45>10000,INT(RIGHT($X45,5)/10000),0)","v":9},{"$f":"IF(X45>1000,INT(RIGHT($X45,4)/1000),0)","v":2},{"$f":"IF(X45>100,INT(RIGHT($X45,3)/100),0)","v":9},{"$f":"IF(X45>10,INT(RIGHT($X45,2)/10),0)","v":8},{"$f":"INT(RIGHT($X45,1)/1)","v":0},{"$f":"INT(RIGHT($AC45,1))","v":2},{"$f":"INT(RIGHT($AC45,2)/10)","v":0},{"$f":"INT(RIGHT($AC45,3)/100)","v":0},{"$f":"INT(RIGHT($AC45,4)/1000)","v":0},{"$f":"INT(RIGHT($AC45,5)/10000)","v":0},{"$f":"INT(RIGHT($AC45,6)/100000)","v":0},{"$f":"((Q45*100000)+(R45*10000)+(S45*1000)+(T45*100)+(U45*10)+V45)","v":200000},{"$f":"C$3+INT(RAND()*(C$4-C$3+1))","v":342594092980},{"$f":"LEN(X45)","v":12},{"$f":"INT(RAND()*(Y45-C$5))+C$5","v":5},{"$f":"Z45-C$5","v":3},null,{"$f":"INT(RAND()*(POWER(10,$C$7))+1)","v":2},{"$f":"LEN(AC45)","v":1},{"$f":"INT(RAND()*(AD45-H$5))+H$5","v":0},{"$f":"AE45-H$5","v":0},{"$f":"(Q45*10^Q$6)+(R45*10^R$6)+(S45*10^S$6)+(T45*10^T$6)+(U45*10^U$6)+(V45*10^V$6)","v":0.2}]
[8,{"$f":"convnumberletter(C46)","v":"trois cent quarante-deux milliards cinq cent quatre-vingt-quatorze millions deux mille neuf cent quatre-vingts"},{"$f":"(E47*10^E$7)+(F47*10^F$7)+(G47*10^G$7)+(H47*10^H$7)+(I47*10^I$7)+(J47*10^J$7)+(K47*10^K$7)+(L47*10^L$7)+(M47*10^M$7)+(N47*10^N$7)+(O47*10^O$7)+(P47*10^P$7)","v":342594002980},null,{"$f":"IF(Z45=12,TRUE,FALSE)","v":false},{"$f":"IF(Z45=11,TRUE,FALSE)","v":false},{"$f":"IF(Z45=10,TRUE,FALSE)","v":false},{"$f":"IF(Z45=9,TRUE,FALSE)","v":false},{"$f":"IF(Z45=8,TRUE,FALSE)","v":false},{"$f":"IF(Z45=7,TRUE,FALSE)","v":false},{"$f":"IF(Z45=6,TRUE,FALSE)","v":false},{"$f":"IF(Z45=5,TRUE,FALSE)","v":true},{"$f":"IF(Z45=4,TRUE,FALSE)","v":false},{"$f":"IF(Z45=3,TRUE,FALSE)","v":false},{"$f":"IF(Z45=2,TRUE,FALSE)","v":false},{"$f":"IF(Z45=1,TRUE,FALSE)","v":false},{"$f":"IF(AND(Q45=0,R46=FALSE),FALSE,TRUE)","v":true},{"$f":"IF(AND(R45=0,S46=FALSE),FALSE,TRUE)","v":false},{"$f":"IF(AND(S45=0,T46=FALSE),FALSE,TRUE)","v":false},{"$f":"IF(AND(T45=0,U46=FALSE),FALSE,TRUE)","v":false},{"$f":"IF(AND(U45=0,V46=FALSE),FALSE,TRUE)","v":false},{"$f":"IF(V45=0,FALSE,TRUE)","v":false},{"$f":"W45/(1000000/W47)","v":2}]
[null,{"$f":"convnumberletter(C47)","v":"deux"},{"$f":"W46","v":2},null,{"$f":"IF(AND(E$7-1<$Z45,E$7-1>=$AA45),0,E45)","v":3},4,2,5,9,4,0,0,{"$f":"IF(AND(M$7-1<$Z45,M$7-1>=$AA45),0,M45)","v":2},{"$f":"IF(AND(N$7-1<$Z45,N$7-1>=$AA45),0,N45)","v":9},{"$f":"IF(AND(O$7-1<$Z45,O$7-1>=$AA45),0,O45)","v":8},{"$f":"IF(AND(P$7-1<$Z45,P$7-1>=$AA45),0,P45)","v":0},{"$f":"IF(Q46=FALSE,\"\",Q45)","v":2},"","","","","",{"$f":"SUM(Q48:V48)","v":10}]
[null,{"$f":"IF(C47>1,CONCATENATE(HLOOKUP(C48,$Q$7:$V$9,3,TRUE),\"s\"),HLOOKUP(C48,$Q$7:$V$9,3,TRUE))","v":"dixièmes"},{"$f":"W47","v":10},null,null,null,null,null,null,null,null,null,null,null,null,null,{"$f":"IF(AND(R47=\"\",Q47<>\"\"),Q$7,0)","v":10},{"$f":"IF(AND(S47=\"\",R47<>\"\"),R$7,0)","v":0},{"$f":"IF(AND(T47=\"\",S47<>\"\"),S$7,0)","v":0},{"$f":"IF(AND(U47=\"\",T47<>\"\"),T$7,0)","v":0},{"$f":"IF(AND(V47=\"\",U47<>\"\"),U$7,0)","v":0},{"$f":"IF(AND(W48=\"\",V47<>\"\"),V$7,0)","v":0}]
[null,{"$f":"IF($C$8=\"virgule\",CONCATENATE(B46,\" virgule \",B47),CONCATENATE(B46,\"  et \",B47,\" \",B48))","v":"trois cent quarante-deux milliards cinq cent quatre-vingt-quatorze millions deux mille neuf cent quatre-vingts virgule deux"},null,null,null,null,null,null,null,null,null,null,null,null,null,null,{"$f":"C46","v":342594002980},null,null,{"$f":"AG45","v":0.2}]
[null,null,null,null,{"$f":"IF(X50>100000000000,INT(RIGHT($X50,12)/100000000000),0)","v":1},{"$f":"IF(X50>10000000000,INT(RIGHT($X50,11)/10000000000),0)","v":2},{"$f":"IF(X50>1000000000,INT(RIGHT($X50,10)/1000000000),0)","v":5},{"$f":"IF(X50>100000000,INT(RIGHT($X50,9)/100000000),0)","v":5},{"$f":"IF(X50>10000000,INT(RIGHT($X50,8)/10000000),0)","v":9},{"$f":"IF(X50>1000000,INT(RIGHT($X50,7)/1000000),0)","v":1},{"$f":"IF(X50>100000,INT(RIGHT($X50,6)/100000),0)","v":2},{"$f":"IF(X50>10000,INT(RIGHT($X50,5)/10000),0)","v":8},{"$f":"IF(X50>1000,INT(RIGHT($X50,4)/1000),0)","v":1},{"$f":"IF(X50>100,INT(RIGHT($X50,3)/100),0)","v":3},{"$f":"IF(X50>10,INT(RIGHT($X50,2)/10),0)","v":4},{"$f":"INT(RIGHT($X50,1)/1)","v":1},{"$f":"INT(RIGHT($AC50,1))","v":4},{"$f":"INT(RIGHT($AC50,2)/10)","v":7},{"$f":"INT(RIGHT($AC50,3)/100)","v":0},{"$f":"INT(RIGHT($AC50,4)/1000)","v":0},{"$f":"INT(RIGHT($AC50,5)/10000)","v":0},{"$f":"INT(RIGHT($AC50,6)/100000)","v":0},{"$f":"((Q50*100000)+(R50*10000)+(S50*1000)+(T50*100)+(U50*10)+V50)","v":470000},{"$f":"C$3+INT(RAND()*(C$4-C$3+1))","v":125591281341},{"$f":"LEN(X50)","v":12},{"$f":"INT(RAND()*(Y50-C$5))+C$5","v":7},{"$f":"Z50-C$5","v":5},null,{"$f":"INT(RAND()*(POWER(10,$C$7))+1)","v":74},{"$f":"LEN(AC50)","v":2},{"$f":"INT(RAND()*(AD50-H$5))+H$5","v":0},{"$f":"AE50-H$5","v":0},{"$f":"(Q50*10^Q$6)+(R50*10^R$6)+(S50*10^S$6)+(T50*10^T$6)+(U50*10^U$6)+(V50*10^V$6)","v":0.47000000000000003}]
[9,{"$f":"convnumberletter(C51)","v":"cent vingt-cinq milliards cinq cents millions deux cent quatre-vingt-un mille trois cent quarante et un"},{"$f":"(E52*10^E$7)+(F52*10^F$7)+(G52*10^G$7)+(H52*10^H$7)+(I52*10^I$7)+(J52*10^J$7)+(K52*10^K$7)+(L52*10^L$7)+(M52*10^M$7)+(N52*10^N$7)+(O52*10^O$7)+(P52*10^P$7)","v":125500281341},null,{"$f":"IF(Z50=12,TRUE,FALSE)","v":false},{"$f":"IF(Z50=11,TRUE,FALSE)","v":false},{"$f":"IF(Z50=10,TRUE,FALSE)","v":false},{"$f":"IF(Z50=9,TRUE,FALSE)","v":false},{"$f":"IF(Z50=8,TRUE,FALSE)","v":false},{"$f":"IF(Z50=7,TRUE,FALSE)","v":true},{"$f":"IF(Z50=6,TRUE,FALSE)","v":false},{"$f":"IF(Z50=5,TRUE,FALSE)","v":false},{"$f":"IF(Z50=4,TRUE,FALSE)","v":false},{"$f":"IF(Z50=3,TRUE,FALSE)","v":false},{"$f":"IF(Z50=2,TRUE,FALSE)","v":false},{"$f":"IF(Z50=1,TRUE,FALSE)","v":false},{"$f":"IF(AND(Q50=0,R51=FALSE),FALSE,TRUE)","v":true},{"$f":"IF(AND(R50=0,S51=FALSE),FALSE,TRUE)","v":true},{"$f":"IF(AND(S50=0,T51=FALSE),FALSE,TRUE)","v":false},{"$f":"IF(AND(T50=0,U51=FALSE),FALSE,TRUE)","v":false},{"$f":"IF(AND(U50=0,V51=FALSE),FALSE,TRUE)","v":false},{"$f":"IF(V50=0,FALSE,TRUE)","v":false},{"$f":"W50/(1000000/W52)","v":47}]
[null,{"$f":"convnumberletter(C52)","v":"quarante-sept"},{"$f":"W51","v":47},null,{"$f":"IF(AND(E$7-1<$Z50,E$7-1>=$AA50),0,E50)","v":1},2,5,5,0,0,2,8,{"$f":"IF(AND(M$7-1<$Z50,M$7-1>=$AA50),0,M50)","v":1},{"$f":"IF(AND(N$7-1<$Z50,N$7-1>=$AA50),0,N50)","v":3},{"$f":"IF(AND(O$7-1<$Z50,O$7-1>=$AA50),0,O50)","v":4},{"$f":"IF(AND(P$7-1<$Z50,P$7-1>=$AA50),0,P50)","v":1},{"$f":"IF(Q51=FALSE,\"\",Q50)","v":4},7,"","","","",{"$f":"SUM(Q53:V53)","v":100}]
[null,{"$f":"IF(C52>1,CONCATENATE(HLOOKUP(C53,$Q$7:$V$9,3,TRUE),\"s\"),HLOOKUP(C53,$Q$7:$V$9,3,TRUE))","v":"centièmes"},{"$f":"W52","v":100},null,null,null,null,null,null,null,null,null,null,null,null,null,{"$f":"IF(AND(R52=\"\",Q52<>\"\"),Q$7,0)","v":0},{"$f":"IF(AND(S52=\"\",R52<>\"\"),R$7,0)","v":100},{"$f":"IF(AND(T52=\"\",S52<>\"\"),S$7,0)","v":0},{"$f":"IF(AND(U52=\"\",T52<>\"\"),T$7,0)","v":0},{"$f":"IF(AND(V52=\"\",U52<>\"\"),U$7,0)","v":0},{"$f":"IF(AND(W53=\"\",V52<>\"\"),V$7,0)","v":0}]
[null,{"$f":"IF($C$8=\"virgule\",CONCATENATE(B51,\" virgule \",B52),CONCATENATE(B51,\"  et \",B52,\" \",B53))","v":"cent vingt-cinq milliards cinq cents millions deux cent quatre-vingt-un mille trois cent quarante et un virgule quarante-sept"},null,null,null,null,null,null,null,null,null,null,null,null,null,null,{"$f":"C51","v":125500281341},null,null,{"$f":"AG50","v":0.47000000000000003}]
[null,null,null,null,{"$f":"IF(X55>100000000000,INT(RIGHT($X55,12)/100000000000),0)","v":1},{"$f":"IF(X55>10000000000,INT(RIGHT($X55,11)/10000000000),0)","v":1},{"$f":"IF(X55>1000000000,INT(RIGHT($X55,10)/1000000000),0)","v":7},{"$f":"IF(X55>100000000,INT(RIGHT($X55,9)/100000000),0)","v":3},{"$f":"IF(X55>10000000,INT(RIGHT($X55,8)/10000000),0)","v":1},{"$f":"IF(X55>1000000,INT(RIGHT($X55,7)/1000000),0)","v":4},{"$f":"IF(X55>100000,INT(RIGHT($X55,6)/100000),0)","v":0},{"$f":"IF(X55>10000,INT(RIGHT($X55,5)/10000),0)","v":1},{"$f":"IF(X55>1000,INT(RIGHT($X55,4)/1000),0)","v":8},{"$f":"IF(X55>100,INT(RIGHT($X55,3)/100),0)","v":8},{"$f":"IF(X55>10,INT(RIGHT($X55,2)/10),0)","v":8},{"$f":"INT(RIGHT($X55,1)/1)","v":7},{"$f":"INT(RIGHT($AC55,1))","v":7},{"$f":"INT(RIGHT($AC55,2)/10)","v":8},{"$f":"INT(RIGHT($AC55,3)/100)","v":0},{"$f":"INT(RIGHT($AC55,4)/1000)","v":0},{"$f":"INT(RIGHT($AC55,5)/10000)","v":0},{"$f":"INT(RIGHT($AC55,6)/100000)","v":0},{"$f":"((Q55*100000)+(R55*10000)+(S55*1000)+(T55*100)+(U55*10)+V55)","v":780000},{"$f":"C$3+INT(RAND()*(C$4-C$3+1))","v":117314018887},{"$f":"LEN(X55)","v":12},{"$f":"INT(RAND()*(Y55-C$5))+C$5","v":7},{"$f":"Z55-C$5","v":5},null,{"$f":"INT(RAND()*(POWER(10,$C$7))+1)","v":87},{"$f":"LEN(AC55)","v":2},{"$f":"INT(RAND()*(AD55-H$5))+H$5","v":1},{"$f":"AE55-H$5","v":1},{"$f":"(Q55*10^Q$6)+(R55*10^R$6)+(S55*10^S$6)+(T55*10^T$6)+(U55*10^U$6)+(V55*10^V$6)","v":0.78}]
[10,{"$f":"convnumberletter(C56)","v":"cent dix-sept milliards trois cents millions dix-huit mille huit cent quatre-vingt-sept"},{"$f":"(E57*10^E$7)+(F57*10^F$7)+(G57*10^G$7)+(H57*10^H$7)+(I57*10^I$7)+(J57*10^J$7)+(K57*10^K$7)+(L57*10^L$7)+(M57*10^M$7)+(N57*10^N$7)+(O57*10^O$7)+(P57*10^P$7)","v":117300018887},null,{"$f":"IF(Z55=12,TRUE,FALSE)","v":false},{"$f":"IF(Z55=11,TRUE,FALSE)","v":false},{"$f":"IF(Z55=10,TRUE,FALSE)","v":false},{"$f":"IF(Z55=9,TRUE,FALSE)","v":false},{"$f":"IF(Z55=8,TRUE,FALSE)","v":false},{"$f":"IF(Z55=7,TRUE,FALSE)","v":true},{"$f":"IF(Z55=6,TRUE,FALSE)","v":false},{"$f":"IF(Z55=5,TRUE,FALSE)","v":false},{"$f":"IF(Z55=4,TRUE,FALSE)","v":false},{"$f":"IF(Z55=3,TRUE,FALSE)","v":false},{"$f":"IF(Z55=2,TRUE,FALSE)","v":false},{"$f":"IF(Z55=1,TRUE,FALSE)","v":false},{"$f":"IF(AND(Q55=0,R56=FALSE),FALSE,TRUE)","v":true},{"$f":"IF(AND(R55=0,S56=FALSE),FALSE,TRUE)","v":true},{"$f":"IF(AND(S55=0,T56=FALSE),FALSE,TRUE)","v":false},{"$f":"IF(AND(T55=0,U56=FALSE),FALSE,TRUE)","v":false},{"$f":"IF(AND(U55=0,V56=FALSE),FALSE,TRUE)","v":false},{"$f":"IF(V55=0,FALSE,TRUE)","v":false},{"$f":"W55/(1000000/W57)","v":78}]
[null,{"$f":"convnumberletter(C57)","v":"soixante-dix-huit"},{"$f":"W56","v":78},null,{"$f":"IF(AND(E$7-1<$Z55,E$7-1>=$AA55),0,E55)","v":1},1,7,3,0,0,0,1,{"$f":"IF(AND(M$7-1<$Z55,M$7-1>=$AA55),0,M55)","v":8},{"$f":"IF(AND(N$7-1<$Z55,N$7-1>=$AA55),0,N55)","v":8},{"$f":"IF(AND(O$7-1<$Z55,O$7-1>=$AA55),0,O55)","v":8},{"$f":"IF(AND(P$7-1<$Z55,P$7-1>=$AA55),0,P55)","v":7},{"$f":"IF(Q56=FALSE,\"\",Q55)","v":7},8,"","","","",{"$f":"SUM(Q58:V58)","v":100}]
[null,{"$f":"IF(C57>1,CONCATENATE(HLOOKUP(C58,$Q$7:$V$9,3,TRUE),\"s\"),HLOOKUP(C58,$Q$7:$V$9,3,TRUE))","v":"centièmes"},{"$f":"W57","v":100},null,null,null,null,null,null,null,null,null,null,null,null,null,{"$f":"IF(AND(R57=\"\",Q57<>\"\"),Q$7,0)","v":0},{"$f":"IF(AND(S57=\"\",R57<>\"\"),R$7,0)","v":100},{"$f":"IF(AND(T57=\"\",S57<>\"\"),S$7,0)","v":0},{"$f":"IF(AND(U57=\"\",T57<>\"\"),T$7,0)","v":0},{"$f":"IF(AND(V57=\"\",U57<>\"\"),U$7,0)","v":0},{"$f":"IF(AND(W58=\"\",V57<>\"\"),V$7,0)","v":0}]
[null,{"$f":"IF($C$8=\"virgule\",CONCATENATE(B56,\" virgule \",B57),CONCATENATE(B56,\"  et \",B57,\" \",B58))","v":"cent dix-sept milliards trois cents millions dix-huit mille huit cent quatre-vingt-sept virgule soixante-dix-huit"},null,null,null,null,null,null,null,null,null,null,null,null,null,null,{"$f":"C56","v":117300018887},null,null,{"$f":"AG55","v":0.78}]
[null,null,null,null,{"$f":"IF(X60>100000000000,INT(RIGHT($X60,12)/100000000000),0)","v":9},{"$f":"IF(X60>10000000000,INT(RIGHT($X60,11)/10000000000),0)","v":3},{"$f":"IF(X60>1000000000,INT(RIGHT($X60,10)/1000000000),0)","v":7},{"$f":"IF(X60>100000000,INT(RIGHT($X60,9)/100000000),0)","v":3},{"$f":"IF(X60>10000000,INT(RIGHT($X60,8)/10000000),0)","v":1},{"$f":"IF(X60>1000000,INT(RIGHT($X60,7)/1000000),0)","v":9},{"$f":"IF(X60>100000,INT(RIGHT($X60,6)/100000),0)","v":5},{"$f":"IF(X60>10000,INT(RIGHT($X60,5)/10000),0)","v":6},{"$f":"IF(X60>1000,INT(RIGHT($X60,4)/1000),0)","v":1},{"$f":"IF(X60>100,INT(RIGHT($X60,3)/100),0)","v":4},{"$f":"IF(X60>10,INT(RIGHT($X60,2)/10),0)","v":9},{"$f":"INT(RIGHT($X60,1)/1)","v":9},{"$f":"INT(RIGHT($AC60,1))","v":9},{"$f":"INT(RIGHT($AC60,2)/10)","v":7},{"$f":"INT(RIGHT($AC60,3)/100)","v":0},{"$f":"INT(RIGHT($AC60,4)/1000)","v":0},{"$f":"INT(RIGHT($AC60,5)/10000)","v":0},{"$f":"INT(RIGHT($AC60,6)/100000)","v":0},{"$f":"((Q60*100000)+(R60*10000)+(S60*1000)+(T60*100)+(U60*10)+V60)","v":970000},{"$f":"C$3+INT(RAND()*(C$4-C$3+1))","v":937319561499},{"$f":"LEN(X60)","v":12},{"$f":"INT(RAND()*(Y60-C$5))+C$5","v":2},{"$f":"Z60-C$5","v":0},null,{"$f":"INT(RAND()*(POWER(10,$C$7))+1)","v":79},{"$f":"LEN(AC60)","v":2},{"$f":"INT(RAND()*(AD60-H$5))+H$5","v":0},{"$f":"AE60-H$5","v":0},{"$f":"(Q60*10^Q$6)+(R60*10^R$6)+(S60*10^S$6)+(T60*10^T$6)+(U60*10^U$6)+(V60*10^V$6)","v":0.97}]
[11,{"$f":"convnumberletter(C61)","v":"neuf cent trente-sept milliards trois cent dix-neuf millions cinq cent soixante et un mille neuf"},{"$f":"(E62*10^E$7)+(F62*10^F$7)+(G62*10^G$7)+(H62*10^H$7)+(I62*10^I$7)+(J62*10^J$7)+(K62*10^K$7)+(L62*10^L$7)+(M62*10^M$7)+(N62*10^N$7)+(O62*10^O$7)+(P62*10^P$7)","v":937319561009},null,{"$f":"IF(Z60=12,TRUE,FALSE)","v":false},{"$f":"IF(Z60=11,TRUE,FALSE)","v":false},{"$f":"IF(Z60=10,TRUE,FALSE)","v":false},{"$f":"IF(Z60=9,TRUE,FALSE)","v":false},{"$f":"IF(Z60=8,TRUE,FALSE)","v":false},{"$f":"IF(Z60=7,TRUE,FALSE)","v":false},{"$f":"IF(Z60=6,TRUE,FALSE)","v":false},{"$f":"IF(Z60=5,TRUE,FALSE)","v":false},{"$f":"IF(Z60=4,TRUE,FALSE)","v":false},{"$f":"IF(Z60=3,TRUE,FALSE)","v":false},{"$f":"IF(Z60=2,TRUE,FALSE)","v":true},{"$f":"IF(Z60=1,TRUE,FALSE)","v":false},{"$f":"IF(AND(Q60=0,R61=FALSE),FALSE,TRUE)","v":true},{"$f":"IF(AND(R60=0,S61=FALSE),FALSE,TRUE)","v":true},{"$f":"IF(AND(S60=0,T61=FALSE),FALSE,TRUE)","v":false},{"$f":"IF(AND(T60=0,U61=FALSE),FALSE,TRUE)","v":false},{"$f":"IF(AND(U60=0,V61=FALSE),FALSE,TRUE)","v":false},{"$f":"IF(V60=0,FALSE,TRUE)","v":false},{"$f":"W60/(1000000/W62)","v":97}]
[null,{"$f":"convnumberletter(C62)","v":"quatre-vingt-dix-sept"},{"$f":"W61","v":97},null,{"$f":"IF(AND(E$7-1<$Z60,E$7-1>=$AA60),0,E60)","v":9},3,7,3,1,9,5,6,{"$f":"IF(AND(M$7-1<$Z60,M$7-1>=$AA60),0,M60)","v":1},{"$f":"IF(AND(N$7-1<$Z60,N$7-1>=$AA60),0,N60)","v":0},{"$f":"IF(AND(O$7-1<$Z60,O$7-1>=$AA60),0,O60)","v":0},{"$f":"IF(AND(P$7-1<$Z60,P$7-1>=$AA60),0,P60)","v":9},{"$f":"IF(Q61=FALSE,\"\",Q60)","v":9},7,"","","","",{"$f":"SUM(Q63:V63)","v":100}]
[null,{"$f":"IF(C62>1,CONCATENATE(HLOOKUP(C63,$Q$7:$V$9,3,TRUE),\"s\"),HLOOKUP(C63,$Q$7:$V$9,3,TRUE))","v":"centièmes"},{"$f":"W62","v":100},null,null,null,null,null,null,null,null,null,null,null,null,null,{"$f":"IF(AND(R62=\"\",Q62<>\"\"),Q$7,0)","v":0},{"$f":"IF(AND(S62=\"\",R62<>\"\"),R$7,0)","v":100},{"$f":"IF(AND(T62=\"\",S62<>\"\"),S$7,0)","v":0},{"$f":"IF(AND(U62=\"\",T62<>\"\"),T$7,0)","v":0},{"$f":"IF(AND(V62=\"\",U62<>\"\"),U$7,0)","v":0},{"$f":"IF(AND(W63=\"\",V62<>\"\"),V$7,0)","v":0}]
[null,{"$f":"IF($C$8=\"virgule\",CONCATENATE(B61,\" virgule \",B62),CONCATENATE(B61,\"  et \",B62,\" \",B63))","v":"neuf cent trente-sept milliards trois cent dix-neuf millions cinq cent soixante et un mille neuf virgule quatre-vingt-dix-sept"}]
[null,null,null,null,{"$f":"IF(X65>100000000000,INT(RIGHT($X65,12)/100000000000),0)","v":2},{"$f":"IF(X65>10000000000,INT(RIGHT($X65,11)/10000000000),0)","v":0},{"$f":"IF(X65>1000000000,INT(RIGHT($X65,10)/1000000000),0)","v":7},{"$f":"IF(X65>100000000,INT(RIGHT($X65,9)/100000000),0)","v":3},{"$f":"IF(X65>10000000,INT(RIGHT($X65,8)/10000000),0)","v":0},{"$f":"IF(X65>1000000,INT(RIGHT($X65,7)/1000000),0)","v":5},{"$f":"IF(X65>100000,INT(RIGHT($X65,6)/100000),0)","v":2},{"$f":"IF(X65>10000,INT(RIGHT($X65,5)/10000),0)","v":8},{"$f":"IF(X65>1000,INT(RIGHT($X65,4)/1000),0)","v":5},{"$f":"IF(X65>100,INT(RIGHT($X65,3)/100),0)","v":9},{"$f":"IF(X65>10,INT(RIGHT($X65,2)/10),0)","v":1},{"$f":"INT(RIGHT($X65,1)/1)","v":1},{"$f":"INT(RIGHT($AC65,1))","v":6},{"$f":"INT(RIGHT($AC65,2)/10)","v":4},{"$f":"INT(RIGHT($AC65,3)/100)","v":0},{"$f":"INT(RIGHT($AC65,4)/1000)","v":0},{"$f":"INT(RIGHT($AC65,5)/10000)","v":0},{"$f":"INT(RIGHT($AC65,6)/100000)","v":0},{"$f":"((Q65*100000)+(R65*10000)+(S65*1000)+(T65*100)+(U65*10)+V65)","v":640000},{"$f":"C$3+INT(RAND()*(C$4-C$3+1))","v":207305285911},{"$f":"LEN(X65)","v":12},{"$f":"INT(RAND()*(Y65-C$5))+C$5","v":2},{"$f":"Z65-C$5","v":0},null,{"$f":"INT(RAND()*(POWER(10,$C$7))+1)","v":46},{"$f":"LEN(AC65)","v":2},{"$f":"INT(RAND()*(AD65-H$5))+H$5","v":1},{"$f":"AE65-H$5","v":1},{"$f":"(Q65*10^Q$6)+(R65*10^R$6)+(S65*10^S$6)+(T65*10^T$6)+(U65*10^U$6)+(V65*10^V$6)","v":0.64000000000000012}]
[12,{"$f":"convnumberletter(C66)","v":"deux cent sept milliards trois cent cinq millions deux cent quatre-vingt-cinq mille un"},{"$f":"(E67*10^E$7)+(F67*10^F$7)+(G67*10^G$7)+(H67*10^H$7)+(I67*10^I$7)+(J67*10^J$7)+(K67*10^K$7)+(L67*10^L$7)+(M67*10^M$7)+(N67*10^N$7)+(O67*10^O$7)+(P67*10^P$7)","v":207305285001},null,{"$f":"IF(Z65=12,TRUE,FALSE)","v":false},{"$f":"IF(Z65=11,TRUE,FALSE)","v":false},{"$f":"IF(Z65=10,TRUE,FALSE)","v":false},{"$f":"IF(Z65=9,TRUE,FALSE)","v":false},{"$f":"IF(Z65=8,TRUE,FALSE)","v":false},{"$f":"IF(Z65=7,TRUE,FALSE)","v":false},{"$f":"IF(Z65=6,TRUE,FALSE)","v":false},{"$f":"IF(Z65=5,TRUE,FALSE)","v":false},{"$f":"IF(Z65=4,TRUE,FALSE)","v":false},{"$f":"IF(Z65=3,TRUE,FALSE)","v":false},{"$f":"IF(Z65=2,TRUE,FALSE)","v":true},{"$f":"IF(Z65=1,TRUE,FALSE)","v":false},{"$f":"IF(AND(Q65=0,R66=FALSE),FALSE,TRUE)","v":true},{"$f":"IF(AND(R65=0,S66=FALSE),FALSE,TRUE)","v":true},{"$f":"IF(AND(S65=0,T66=FALSE),FALSE,TRUE)","v":false},{"$f":"IF(AND(T65=0,U66=FALSE),FALSE,TRUE)","v":false},{"$f":"IF(AND(U65=0,V66=FALSE),FALSE,TRUE)","v":false},{"$f":"IF(V65=0,FALSE,TRUE)","v":false},{"$f":"W65/(1000000/W67)","v":64}]
[null,{"$f":"convnumberletter(C67)","v":"soixante-quatre"},{"$f":"W66","v":64},null,{"$f":"IF(AND(E$7-1<$Z65,E$7-1>=$AA65),0,E65)","v":2},0,7,3,0,5,2,8,{"$f":"IF(AND(M$7-1<$Z65,M$7-1>=$AA65),0,M65)","v":5},{"$f":"IF(AND(N$7-1<$Z65,N$7-1>=$AA65),0,N65)","v":0},{"$f":"IF(AND(O$7-1<$Z65,O$7-1>=$AA65),0,O65)","v":0},{"$f":"IF(AND(P$7-1<$Z65,P$7-1>=$AA65),0,P65)","v":1},{"$f":"IF(Q66=FALSE,\"\",Q65)","v":6},4,"","","","",{"$f":"SUM(Q68:V68)","v":100}]
[null,{"$f":"IF(C67>1,CONCATENATE(HLOOKUP(C68,$Q$7:$V$9,3,TRUE),\"s\"),HLOOKUP(C68,$Q$7:$V$9,3,TRUE))","v":"centièmes"},{"$f":"W67","v":100},null,null,null,null,null,null,null,null,null,null,null,null,null,{"$f":"IF(AND(R67=\"\",Q67<>\"\"),Q$7,0)","v":0},{"$f":"IF(AND(S67=\"\",R67<>\"\"),R$7,0)","v":100},{"$f":"IF(AND(T67=\"\",S67<>\"\"),S$7,0)","v":0},{"$f":"IF(AND(U67=\"\",T67<>\"\"),T$7,0)","v":0},{"$f":"IF(AND(V67=\"\",U67<>\"\"),U$7,0)","v":0},{"$f":"IF(AND(W68=\"\",V67<>\"\"),V$7,0)","v":0}]
[null,{"$f":"IF($C$8=\"virgule\",CONCATENATE(B66,\" virgule \",B67),CONCATENATE(B66,\"  et \",B67,\" \",B68))","v":"deux cent sept milliards trois cent cinq millions deux cent quatre-vingt-cinq mille un virgule soixante-quatre"}]
[null,null,null,null,{"$f":"IF(X70>100000000000,INT(RIGHT($X70,12)/100000000000),0)","v":7},{"$f":"IF(X70>10000000000,INT(RIGHT($X70,11)/10000000000),0)","v":1},{"$f":"IF(X70>1000000000,INT(RIGHT($X70,10)/1000000000),0)","v":6},{"$f":"IF(X70>100000000,INT(RIGHT($X70,9)/100000000),0)","v":1},{"$f":"IF(X70>10000000,INT(RIGHT($X70,8)/10000000),0)","v":0},{"$f":"IF(X70>1000000,INT(RIGHT($X70,7)/1000000),0)","v":8},{"$f":"IF(X70>100000,INT(RIGHT($X70,6)/100000),0)","v":6},{"$f":"IF(X70>10000,INT(RIGHT($X70,5)/10000),0)","v":2},{"$f":"IF(X70>1000,INT(RIGHT($X70,4)/1000),0)","v":2},{"$f":"IF(X70>100,INT(RIGHT($X70,3)/100),0)","v":8},{"$f":"IF(X70>10,INT(RIGHT($X70,2)/10),0)","v":8},{"$f":"INT(RIGHT($X70,1)/1)","v":9},{"$f":"INT(RIGHT($AC70,1))","v":5},{"$f":"INT(RIGHT($AC70,2)/10)","v":9},{"$f":"INT(RIGHT($AC70,3)/100)","v":0},{"$f":"INT(RIGHT($AC70,4)/1000)","v":0},{"$f":"INT(RIGHT($AC70,5)/10000)","v":0},{"$f":"INT(RIGHT($AC70,6)/100000)","v":0},{"$f":"((Q70*100000)+(R70*10000)+(S70*1000)+(T70*100)+(U70*10)+V70)","v":590000},{"$f":"C$3+INT(RAND()*(C$4-C$3+1))","v":716108622889},{"$f":"LEN(X70)","v":12},{"$f":"INT(RAND()*(Y70-C$5))+C$5","v":9},{"$f":"Z70-C$5","v":7},null,{"$f":"INT(RAND()*(POWER(10,$C$7))+1)","v":95},{"$f":"LEN(AC70)","v":2},{"$f":"INT(RAND()*(AD70-H$5))+H$5","v":0},{"$f":"AE70-H$5","v":0},{"$f":"(Q70*10^Q$6)+(R70*10^R$6)+(S70*10^S$6)+(T70*10^T$6)+(U70*10^U$6)+(V70*10^V$6)","v":0.59}]
[13,{"$f":"convnumberletter(C71)","v":"sept cent dix milliards huit millions six cent vingt-deux mille huit cent quatre-vingt-neuf"},{"$f":"(E72*10^E$7)+(F72*10^F$7)+(G72*10^G$7)+(H72*10^H$7)+(I72*10^I$7)+(J72*10^J$7)+(K72*10^K$7)+(L72*10^L$7)+(M72*10^M$7)+(N72*10^N$7)+(O72*10^O$7)+(P72*10^P$7)","v":710008622889},null,{"$f":"IF(Z70=12,TRUE,FALSE)","v":false},{"$f":"IF(Z70=11,TRUE,FALSE)","v":false},{"$f":"IF(Z70=10,TRUE,FALSE)","v":false},{"$f":"IF(Z70=9,TRUE,FALSE)","v":true},{"$f":"IF(Z70=8,TRUE,FALSE)","v":false},{"$f":"IF(Z70=7,TRUE,FALSE)","v":false},{"$f":"IF(Z70=6,TRUE,FALSE)","v":false},{"$f":"IF(Z70=5,TRUE,FALSE)","v":false},{"$f":"IF(Z70=4,TRUE,FALSE)","v":false},{"$f":"IF(Z70=3,TRUE,FALSE)","v":false},{"$f":"IF(Z70=2,TRUE,FALSE)","v":false},{"$f":"IF(Z70=1,TRUE,FALSE)","v":false},{"$f":"IF(AND(Q70=0,R71=FALSE),FALSE,TRUE)","v":true},{"$f":"IF(AND(R70=0,S71=FALSE),FALSE,TRUE)","v":true},{"$f":"IF(AND(S70=0,T71=FALSE),FALSE,TRUE)","v":false},{"$f":"IF(AND(T70=0,U71=FALSE),FALSE,TRUE)","v":false},{"$f":"IF(AND(U70=0,V71=FALSE),FALSE,TRUE)","v":false},{"$f":"IF(V70=0,FALSE,TRUE)","v":false},{"$f":"W70/(1000000/W72)","v":59}]
[null,{"$f":"convnumberletter(C72)","v":"cinquante-neuf"},{"$f":"W71","v":59},null,{"$f":"IF(AND(E$7-1<$Z70,E$7-1>=$AA70),0,E70)","v":7},1,0,0,0,8,6,2,{"$f":"IF(AND(M$7-1<$Z70,M$7-1>=$AA70),0,M70)","v":2},{"$f":"IF(AND(N$7-1<$Z70,N$7-1>=$AA70),0,N70)","v":8},{"$f":"IF(AND(O$7-1<$Z70,O$7-1>=$AA70),0,O70)","v":8},{"$f":"IF(AND(P$7-1<$Z70,P$7-1>=$AA70),0,P70)","v":9},{"$f":"IF(Q71=FALSE,\"\",Q70)","v":5},9,"","","","",{"$f":"SUM(Q73:V73)","v":100}]
[null,{"$f":"IF(C72>1,CONCATENATE(HLOOKUP(C73,$Q$7:$V$9,3,TRUE),\"s\"),HLOOKUP(C73,$Q$7:$V$9,3,TRUE))","v":"centièmes"},{"$f":"W72","v":100},null,null,null,null,null,null,null,null,null,null,null,null,null,{"$f":"IF(AND(R72=\"\",Q72<>\"\"),Q$7,0)","v":0},{"$f":"IF(AND(S72=\"\",R72<>\"\"),R$7,0)","v":100},{"$f":"IF(AND(T72=\"\",S72<>\"\"),S$7,0)","v":0},{"$f":"IF(AND(U72=\"\",T72<>\"\"),T$7,0)","v":0},{"$f":"IF(AND(V72=\"\",U72<>\"\"),U$7,0)","v":0},{"$f":"IF(AND(W73=\"\",V72<>\"\"),V$7,0)","v":0}]
[null,{"$f":"IF($C$8=\"virgule\",CONCATENATE(B71,\" virgule \",B72),CONCATENATE(B71,\"  et \",B72,\" \",B73))","v":"sept cent dix milliards huit millions six cent vingt-deux mille huit cent quatre-vingt-neuf virgule cinquante-neuf"}]
[null,null,null,null,{"$f":"IF(X75>100000000000,INT(RIGHT($X75,12)/100000000000),0)","v":6},{"$f":"IF(X75>10000000000,INT(RIGHT($X75,11)/10000000000),0)","v":8},{"$f":"IF(X75>1000000000,INT(RIGHT($X75,10)/1000000000),0)","v":6},{"$f":"IF(X75>100000000,INT(RIGHT($X75,9)/100000000),0)","v":5},{"$f":"IF(X75>10000000,INT(RIGHT($X75,8)/10000000),0)","v":0},{"$f":"IF(X75>1000000,INT(RIGHT($X75,7)/1000000),0)","v":2},{"$f":"IF(X75>100000,INT(RIGHT($X75,6)/100000),0)","v":8},{"$f":"IF(X75>10000,INT(RIGHT($X75,5)/10000),0)","v":2},{"$f":"IF(X75>1000,INT(RIGHT($X75,4)/1000),0)","v":2},{"$f":"IF(X75>100,INT(RIGHT($X75,3)/100),0)","v":1},{"$f":"IF(X75>10,INT(RIGHT($X75,2)/10),0)","v":4},{"$f":"INT(RIGHT($X75,1)/1)","v":4},{"$f":"INT(RIGHT($AC75,1))","v":1},{"$f":"INT(RIGHT($AC75,2)/10)","v":2},{"$f":"INT(RIGHT($AC75,3)/100)","v":0},{"$f":"INT(RIGHT($AC75,4)/1000)","v":0},{"$f":"INT(RIGHT($AC75,5)/10000)","v":0},{"$f":"INT(RIGHT($AC75,6)/100000)","v":0},{"$f":"((Q75*100000)+(R75*10000)+(S75*1000)+(T75*100)+(U75*10)+V75)","v":120000},{"$f":"C$3+INT(RAND()*(C$4-C$3+1))","v":686502822144},{"$f":"LEN(X75)","v":12},{"$f":"INT(RAND()*(Y75-C$5))+C$5","v":7},{"$f":"Z75-C$5","v":5},null,{"$f":"INT(RAND()*(POWER(10,$C$7))+1)","v":21},{"$f":"LEN(AC75)","v":2},{"$f":"INT(RAND()*(AD75-H$5))+H$5","v":0},{"$f":"AE75-H$5","v":0},{"$f":"(Q75*10^Q$6)+(R75*10^R$6)+(S75*10^S$6)+(T75*10^T$6)+(U75*10^U$6)+(V75*10^V$6)","v":0.12000000000000001}]
[14,{"$f":"convnumberletter(C76)","v":"six cent quatre-vingt-six milliards cinq cents millions huit cent vingt-deux mille cent quarante-quatre"},{"$f":"(E77*10^E$7)+(F77*10^F$7)+(G77*10^G$7)+(H77*10^H$7)+(I77*10^I$7)+(J77*10^J$7)+(K77*10^K$7)+(L77*10^L$7)+(M77*10^M$7)+(N77*10^N$7)+(O77*10^O$7)+(P77*10^P$7)","v":686500822144},null,{"$f":"IF(Z75=12,TRUE,FALSE)","v":false},{"$f":"IF(Z75=11,TRUE,FALSE)","v":false},{"$f":"IF(Z75=10,TRUE,FALSE)","v":false},{"$f":"IF(Z75=9,TRUE,FALSE)","v":false},{"$f":"IF(Z75=8,TRUE,FALSE)","v":false},{"$f":"IF(Z75=7,TRUE,FALSE)","v":true},{"$f":"IF(Z75=6,TRUE,FALSE)","v":false},{"$f":"IF(Z75=5,TRUE,FALSE)","v":false},{"$f":"IF(Z75=4,TRUE,FALSE)","v":false},{"$f":"IF(Z75=3,TRUE,FALSE)","v":false},{"$f":"IF(Z75=2,TRUE,FALSE)","v":false},{"$f":"IF(Z75=1,TRUE,FALSE)","v":false},{"$f":"IF(AND(Q75=0,R76=FALSE),FALSE,TRUE)","v":true},{"$f":"IF(AND(R75=0,S76=FALSE),FALSE,TRUE)","v":true},{"$f":"IF(AND(S75=0,T76=FALSE),FALSE,TRUE)","v":false},{"$f":"IF(AND(T75=0,U76=FALSE),FALSE,TRUE)","v":false},{"$f":"IF(AND(U75=0,V76=FALSE),FALSE,TRUE)","v":false},{"$f":"IF(V75=0,FALSE,TRUE)","v":false},{"$f":"W75/(1000000/W77)","v":12}]
[null,{"$f":"convnumberletter(C77)","v":"douze"},{"$f":"W76","v":12},null,{"$f":"IF(AND(E$7-1<$Z75,E$7-1>=$AA75),0,E75)","v":6},8,6,5,0,0,8,2,{"$f":"IF(AND(M$7-1<$Z75,M$7-1>=$AA75),0,M75)","v":2},{"$f":"IF(AND(N$7-1<$Z75,N$7-1>=$AA75),0,N75)","v":1},{"$f":"IF(AND(O$7-1<$Z75,O$7-1>=$AA75),0,O75)","v":4},{"$f":"IF(AND(P$7-1<$Z75,P$7-1>=$AA75),0,P75)","v":4},{"$f":"IF(Q76=FALSE,\"\",Q75)","v":1},2,"","","","",{"$f":"SUM(Q78:V78)","v":100}]
[null,{"$f":"IF(C77>1,CONCATENATE(HLOOKUP(C78,$Q$7:$V$9,3,TRUE),\"s\"),HLOOKUP(C78,$Q$7:$V$9,3,TRUE))","v":"centièmes"},{"$f":"W77","v":100},null,null,null,null,null,null,null,null,null,null,null,null,null,{"$f":"IF(AND(R77=\"\",Q77<>\"\"),Q$7,0)","v":0},{"$f":"IF(AND(S77=\"\",R77<>\"\"),R$7,0)","v":100},{"$f":"IF(AND(T77=\"\",S77<>\"\"),S$7,0)","v":0},{"$f":"IF(AND(U77=\"\",T77<>\"\"),T$7,0)","v":0},{"$f":"IF(AND(V77=\"\",U77<>\"\"),U$7,0)","v":0},{"$f":"IF(AND(W78=\"\",V77<>\"\"),V$7,0)","v":0}]
[null,{"$f":"IF($C$8=\"virgule\",CONCATENATE(B76,\" virgule \",B77),CONCATENATE(B76,\"  et \",B77,\" \",B78))","v":"six cent quatre-vingt-six milliards cinq cents millions huit cent vingt-deux mille cent quarante-quatre virgule douze"}]
[null,null,null,null,{"$f":"IF(X80>100000000000,INT(RIGHT($X80,12)/100000000000),0)","v":0},{"$f":"IF(X80>10000000000,INT(RIGHT($X80,11)/10000000000),0)","v":0},{"$f":"IF(X80>1000000000,INT(RIGHT($X80,10)/1000000000),0)","v":7},{"$f":"IF(X80>100000000,INT(RIGHT($X80,9)/100000000),0)","v":8},{"$f":"IF(X80>10000000,INT(RIGHT($X80,8)/10000000),0)","v":2},{"$f":"IF(X80>1000000,INT(RIGHT($X80,7)/1000000),0)","v":7},{"$f":"IF(X80>100000,INT(RIGHT($X80,6)/100000),0)","v":1},{"$f":"IF(X80>10000,INT(RIGHT($X80,5)/10000),0)","v":7},{"$f":"IF(X80>1000,INT(RIGHT($X80,4)/1000),0)","v":4},{"$f":"IF(X80>100,INT(RIGHT($X80,3)/100),0)","v":1},{"$f":"IF(X80>10,INT(RIGHT($X80,2)/10),0)","v":1},{"$f":"INT(RIGHT($X80,1)/1)","v":4},{"$f":"INT(RIGHT($AC80,1))","v":0},{"$f":"INT(RIGHT($AC80,2)/10)","v":0},{"$f":"INT(RIGHT($AC80,3)/100)","v":1},{"$f":"INT(RIGHT($AC80,4)/1000)","v":0},{"$f":"INT(RIGHT($AC80,5)/10000)","v":0},{"$f":"INT(RIGHT($AC80,6)/100000)","v":0},{"$f":"((Q80*100000)+(R80*10000)+(S80*1000)+(T80*100)+(U80*10)+V80)","v":1000},{"$f":"C$3+INT(RAND()*(C$4-C$3+1))","v":7827174114},{"$f":"LEN(X80)","v":10},{"$f":"INT(RAND()*(Y80-C$5))+C$5","v":4},{"$f":"Z80-C$5","v":2},null,{"$f":"INT(RAND()*(POWER(10,$C$7))+1)","v":100},{"$f":"LEN(AC80)","v":3},{"$f":"INT(RAND()*(AD80-H$5))+H$5","v":2},{"$f":"AE80-H$5","v":2},{"$f":"(Q80*10^Q$6)+(R80*10^R$6)+(S80*10^S$6)+(T80*10^T$6)+(U80*10^U$6)+(V80*10^V$6)","v":1E-3}]
[15,{"$f":"convnumberletter(C81)","v":"sept milliards huit cent vingt-sept millions cent mille cent quatorze"},{"$f":"(E82*10^E$7)+(F82*10^F$7)+(G82*10^G$7)+(H82*10^H$7)+(I82*10^I$7)+(J82*10^J$7)+(K82*10^K$7)+(L82*10^L$7)+(M82*10^M$7)+(N82*10^N$7)+(O82*10^O$7)+(P82*10^P$7)","v":7827100114},null,{"$f":"IF(Z80=12,TRUE,FALSE)","v":false},{"$f":"IF(Z80=11,TRUE,FALSE)","v":false},{"$f":"IF(Z80=10,TRUE,FALSE)","v":false},{"$f":"IF(Z80=9,TRUE,FALSE)","v":false},{"$f":"IF(Z80=8,TRUE,FALSE)","v":false},{"$f":"IF(Z80=7,TRUE,FALSE)","v":false},{"$f":"IF(Z80=6,TRUE,FALSE)","v":false},{"$f":"IF(Z80=5,TRUE,FALSE)","v":false},{"$f":"IF(Z80=4,TRUE,FALSE)","v":true},{"$f":"IF(Z80=3,TRUE,FALSE)","v":false},{"$f":"IF(Z80=2,TRUE,FALSE)","v":false},{"$f":"IF(Z80=1,TRUE,FALSE)","v":false},{"$f":"IF(AND(Q80=0,R81=FALSE),FALSE,TRUE)","v":true},{"$f":"IF(AND(R80=0,S81=FALSE),FALSE,TRUE)","v":true},{"$f":"IF(AND(S80=0,T81=FALSE),FALSE,TRUE)","v":true},{"$f":"IF(AND(T80=0,U81=FALSE),FALSE,TRUE)","v":false},{"$f":"IF(AND(U80=0,V81=FALSE),FALSE,TRUE)","v":false},{"$f":"IF(V80=0,FALSE,TRUE)","v":false},{"$f":"W80/(1000000/W82)","v":1}]
[null,{"$f":"convnumberletter(C82)","v":"un"},{"$f":"W81","v":1},null,{"$f":"IF(AND(E$7-1<$Z80,E$7-1>=$AA80),0,E80)","v":0},0,7,8,2,7,1,0,{"$f":"IF(AND(M$7-1<$Z80,M$7-1>=$AA80),0,M80)","v":0},{"$f":"IF(AND(N$7-1<$Z80,N$7-1>=$AA80),0,N80)","v":1},{"$f":"IF(AND(O$7-1<$Z80,O$7-1>=$AA80),0,O80)","v":1},{"$f":"IF(AND(P$7-1<$Z80,P$7-1>=$AA80),0,P80)","v":4},{"$f":"IF(Q81=FALSE,\"\",Q80)","v":0},0,1,"","","",{"$f":"SUM(Q83:V83)","v":1000}]
[null,{"$f":"IF(C82>1,CONCATENATE(HLOOKUP(C83,$Q$7:$V$9,3,TRUE),\"s\"),HLOOKUP(C83,$Q$7:$V$9,3,TRUE))","v":"millième"},{"$f":"W82","v":1000},null,null,null,null,null,null,null,null,null,null,null,null,null,{"$f":"IF(AND(R82=\"\",Q82<>\"\"),Q$7,0)","v":0},{"$f":"IF(AND(S82=\"\",R82<>\"\"),R$7,0)","v":0},{"$f":"IF(AND(T82=\"\",S82<>\"\"),S$7,0)","v":1000},{"$f":"IF(AND(U82=\"\",T82<>\"\"),T$7,0)","v":0},{"$f":"IF(AND(V82=\"\",U82<>\"\"),U$7,0)","v":0},{"$f":"IF(AND(W83=\"\",V82<>\"\"),V$7,0)","v":0}]
[null,{"$f":"IF($C$8=\"virgule\",CONCATENATE(B81,\" virgule \",B82),CONCATENATE(B81,\"  et \",B82,\" \",B83))","v":"sept milliards huit cent vingt-sept millions cent mille cent quatorze virgule un"}]
[null,null,null,null,{"$f":"IF(X85>100000000000,INT(RIGHT($X85,12)/100000000000),0)","v":5},{"$f":"IF(X85>10000000000,INT(RIGHT($X85,11)/10000000000),0)","v":4},{"$f":"IF(X85>1000000000,INT(RIGHT($X85,10)/1000000000),0)","v":0},{"$f":"IF(X85>100000000,INT(RIGHT($X85,9)/100000000),0)","v":9},{"$f":"IF(X85>10000000,INT(RIGHT($X85,8)/10000000),0)","v":8},{"$f":"IF(X85>1000000,INT(RIGHT($X85,7)/1000000),0)","v":4},{"$f":"IF(X85>100000,INT(RIGHT($X85,6)/100000),0)","v":6},{"$f":"IF(X85>10000,INT(RIGHT($X85,5)/10000),0)","v":3},{"$f":"IF(X85>1000,INT(RIGHT($X85,4)/1000),0)","v":3},{"$f":"IF(X85>100,INT(RIGHT($X85,3)/100),0)","v":3},{"$f":"IF(X85>10,INT(RIGHT($X85,2)/10),0)","v":6},{"$f":"INT(RIGHT($X85,1)/1)","v":1},{"$f":"INT(RIGHT($AC85,1))","v":4},{"$f":"INT(RIGHT($AC85,2)/10)","v":6},{"$f":"INT(RIGHT($AC85,3)/100)","v":0},{"$f":"INT(RIGHT($AC85,4)/1000)","v":0},{"$f":"INT(RIGHT($AC85,5)/10000)","v":0},{"$f":"INT(RIGHT($AC85,6)/100000)","v":0},{"$f":"((Q85*100000)+(R85*10000)+(S85*1000)+(T85*100)+(U85*10)+V85)","v":460000},{"$f":"C$3+INT(RAND()*(C$4-C$3+1))","v":540984633361},{"$f":"LEN(X85)","v":12},{"$f":"INT(RAND()*(Y85-C$5))+C$5","v":7},{"$f":"Z85-C$5","v":5},null,{"$f":"INT(RAND()*(POWER(10,$C$7))+1)","v":64},{"$f":"LEN(AC85)","v":2},{"$f":"INT(RAND()*(AD85-H$5))+H$5","v":0},{"$f":"AE85-H$5","v":0},{"$f":"(Q85*10^Q$6)+(R85*10^R$6)+(S85*10^S$6)+(T85*10^T$6)+(U85*10^U$6)+(V85*10^V$6)","v":0.46}]
[16,{"$f":"convnumberletter(C86)","v":"cinq cent quarante milliards neuf cents millions six cent trente-trois mille trois cent soixante et un"},{"$f":"(E87*10^E$7)+(F87*10^F$7)+(G87*10^G$7)+(H87*10^H$7)+(I87*10^I$7)+(J87*10^J$7)+(K87*10^K$7)+(L87*10^L$7)+(M87*10^M$7)+(N87*10^N$7)+(O87*10^O$7)+(P87*10^P$7)","v":540900633361},null,{"$f":"IF(Z85=12,TRUE,FALSE)","v":false},{"$f":"IF(Z85=11,TRUE,FALSE)","v":false},{"$f":"IF(Z85=10,TRUE,FALSE)","v":false},{"$f":"IF(Z85=9,TRUE,FALSE)","v":false},{"$f":"IF(Z85=8,TRUE,FALSE)","v":false},{"$f":"IF(Z85=7,TRUE,FALSE)","v":true},{"$f":"IF(Z85=6,TRUE,FALSE)","v":false},{"$f":"IF(Z85=5,TRUE,FALSE)","v":false},{"$f":"IF(Z85=4,TRUE,FALSE)","v":false},{"$f":"IF(Z85=3,TRUE,FALSE)","v":false},{"$f":"IF(Z85=2,TRUE,FALSE)","v":false},{"$f":"IF(Z85=1,TRUE,FALSE)","v":false},{"$f":"IF(AND(Q85=0,R86=FALSE),FALSE,TRUE)","v":true},{"$f":"IF(AND(R85=0,S86=FALSE),FALSE,TRUE)","v":true},{"$f":"IF(AND(S85=0,T86=FALSE),FALSE,TRUE)","v":false},{"$f":"IF(AND(T85=0,U86=FALSE),FALSE,TRUE)","v":false},{"$f":"IF(AND(U85=0,V86=FALSE),FALSE,TRUE)","v":false},{"$f":"IF(V85=0,FALSE,TRUE)","v":false},{"$f":"W85/(1000000/W87)","v":46}]
[null,{"$f":"convnumberletter(C87)","v":"quarante-six"},{"$f":"W86","v":46},null,{"$f":"IF(AND(E$7-1<$Z85,E$7-1>=$AA85),0,E85)","v":5},4,0,9,0,0,6,3,{"$f":"IF(AND(M$7-1<$Z85,M$7-1>=$AA85),0,M85)","v":3},{"$f":"IF(AND(N$7-1<$Z85,N$7-1>=$AA85),0,N85)","v":3},{"$f":"IF(AND(O$7-1<$Z85,O$7-1>=$AA85),0,O85)","v":6},{"$f":"IF(AND(P$7-1<$Z85,P$7-1>=$AA85),0,P85)","v":1},{"$f":"IF(Q86=FALSE,\"\",Q85)","v":4},6,"","","","",{"$f":"SUM(Q88:V88)","v":100}]
[null,{"$f":"IF(C87>1,CONCATENATE(HLOOKUP(C88,$Q$7:$V$9,3,TRUE),\"s\"),HLOOKUP(C88,$Q$7:$V$9,3,TRUE))","v":"centièmes"},{"$f":"W87","v":100},null,null,null,null,null,null,null,null,null,null,null,null,null,{"$f":"IF(AND(R87=\"\",Q87<>\"\"),Q$7,0)","v":0},{"$f":"IF(AND(S87=\"\",R87<>\"\"),R$7,0)","v":100},{"$f":"IF(AND(T87=\"\",S87<>\"\"),S$7,0)","v":0},{"$f":"IF(AND(U87=\"\",T87<>\"\"),T$7,0)","v":0},{"$f":"IF(AND(V87=\"\",U87<>\"\"),U$7,0)","v":0},{"$f":"IF(AND(W88=\"\",V87<>\"\"),V$7,0)","v":0}]
[null,{"$f":"IF($C$8=\"virgule\",CONCATENATE(B86,\" virgule \",B87),CONCATENATE(B86,\"  et \",B87,\" \",B88))","v":"cinq cent quarante milliards neuf cents millions six cent trente-trois mille trois cent soixante et un virgule quarante-six"}]
[null,null,null,null,{"$f":"IF(X90>100000000000,INT(RIGHT($X90,12)/100000000000),0)","v":6},{"$f":"IF(X90>10000000000,INT(RIGHT($X90,11)/10000000000),0)","v":5},{"$f":"IF(X90>1000000000,INT(RIGHT($X90,10)/1000000000),0)","v":2},{"$f":"IF(X90>100000000,INT(RIGHT($X90,9)/100000000),0)","v":5},{"$f":"IF(X90>10000000,INT(RIGHT($X90,8)/10000000),0)","v":4},{"$f":"IF(X90>1000000,INT(RIGHT($X90,7)/1000000),0)","v":9},{"$f":"IF(X90>100000,INT(RIGHT($X90,6)/100000),0)","v":8},{"$f":"IF(X90>10000,INT(RIGHT($X90,5)/10000),0)","v":6},{"$f":"IF(X90>1000,INT(RIGHT($X90,4)/1000),0)","v":0},{"$f":"IF(X90>100,INT(RIGHT($X90,3)/100),0)","v":4},{"$f":"IF(X90>10,INT(RIGHT($X90,2)/10),0)","v":4},{"$f":"INT(RIGHT($X90,1)/1)","v":6},{"$f":"INT(RIGHT($AC90,1))","v":1},{"$f":"INT(RIGHT($AC90,2)/10)","v":3},{"$f":"INT(RIGHT($AC90,3)/100)","v":0},{"$f":"INT(RIGHT($AC90,4)/1000)","v":0},{"$f":"INT(RIGHT($AC90,5)/10000)","v":0},{"$f":"INT(RIGHT($AC90,6)/100000)","v":0},{"$f":"((Q90*100000)+(R90*10000)+(S90*1000)+(T90*100)+(U90*10)+V90)","v":130000},{"$f":"C$3+INT(RAND()*(C$4-C$3+1))","v":652549860446},{"$f":"LEN(X90)","v":12},{"$f":"INT(RAND()*(Y90-C$5))+C$5","v":7},{"$f":"Z90-C$5","v":5},null,{"$f":"INT(RAND()*(POWER(10,$C$7))+1)","v":31},{"$f":"LEN(AC90)","v":2},{"$f":"INT(RAND()*(AD90-H$5))+H$5","v":0},{"$f":"AE90-H$5","v":0},{"$f":"(Q90*10^Q$6)+(R90*10^R$6)+(S90*10^S$6)+(T90*10^T$6)+(U90*10^U$6)+(V90*10^V$6)","v":0.13}]
[17,{"$f":"convnumberletter(C91)","v":"six cent cinquante-deux milliards cinq cents millions huit cent soixante mille quatre cent quarante-six"},{"$f":"(E92*10^E$7)+(F92*10^F$7)+(G92*10^G$7)+(H92*10^H$7)+(I92*10^I$7)+(J92*10^J$7)+(K92*10^K$7)+(L92*10^L$7)+(M92*10^M$7)+(N92*10^N$7)+(O92*10^O$7)+(P92*10^P$7)","v":652500860446},null,{"$f":"IF(Z90=12,TRUE,FALSE)","v":false},{"$f":"IF(Z90=11,TRUE,FALSE)","v":false},{"$f":"IF(Z90=10,TRUE,FALSE)","v":false},{"$f":"IF(Z90=9,TRUE,FALSE)","v":false},{"$f":"IF(Z90=8,TRUE,FALSE)","v":false},{"$f":"IF(Z90=7,TRUE,FALSE)","v":true},{"$f":"IF(Z90=6,TRUE,FALSE)","v":false},{"$f":"IF(Z90=5,TRUE,FALSE)","v":false},{"$f":"IF(Z90=4,TRUE,FALSE)","v":false},{"$f":"IF(Z90=3,TRUE,FALSE)","v":false},{"$f":"IF(Z90=2,TRUE,FALSE)","v":false},{"$f":"IF(Z90=1,TRUE,FALSE)","v":false},{"$f":"IF(AND(Q90=0,R91=FALSE),FALSE,TRUE)","v":true},{"$f":"IF(AND(R90=0,S91=FALSE),FALSE,TRUE)","v":true},{"$f":"IF(AND(S90=0,T91=FALSE),FALSE,TRUE)","v":false},{"$f":"IF(AND(T90=0,U91=FALSE),FALSE,TRUE)","v":false},{"$f":"IF(AND(U90=0,V91=FALSE),FALSE,TRUE)","v":false},{"$f":"IF(V90=0,FALSE,TRUE)","v":false},{"$f":"W90/(1000000/W92)","v":13}]
[null,{"$f":"convnumberletter(C92)","v":"treize"},{"$f":"W91","v":13},null,{"$f":"IF(AND(E$7-1<$Z90,E$7-1>=$AA90),0,E90)","v":6},5,2,5,0,0,8,6,{"$f":"IF(AND(M$7-1<$Z90,M$7-1>=$AA90),0,M90)","v":0},{"$f":"IF(AND(N$7-1<$Z90,N$7-1>=$AA90),0,N90)","v":4},{"$f":"IF(AND(O$7-1<$Z90,O$7-1>=$AA90),0,O90)","v":4},{"$f":"IF(AND(P$7-1<$Z90,P$7-1>=$AA90),0,P90)","v":6},{"$f":"IF(Q91=FALSE,\"\",Q90)","v":1},3,"","","","",{"$f":"SUM(Q93:V93)","v":100}]
[null,{"$f":"IF(C92>1,CONCATENATE(HLOOKUP(C93,$Q$7:$V$9,3,TRUE),\"s\"),HLOOKUP(C93,$Q$7:$V$9,3,TRUE))","v":"centièmes"},{"$f":"W92","v":100},null,null,null,null,null,null,null,null,null,null,null,null,null,{"$f":"IF(AND(R92=\"\",Q92<>\"\"),Q$7,0)","v":0},{"$f":"IF(AND(S92=\"\",R92<>\"\"),R$7,0)","v":100},{"$f":"IF(AND(T92=\"\",S92<>\"\"),S$7,0)","v":0},{"$f":"IF(AND(U92=\"\",T92<>\"\"),T$7,0)","v":0},{"$f":"IF(AND(V92=\"\",U92<>\"\"),U$7,0)","v":0},{"$f":"IF(AND(W93=\"\",V92<>\"\"),V$7,0)","v":0}]
[null,{"$f":"IF($C$8=\"virgule\",CONCATENATE(B91,\" virgule \",B92),CONCATENATE(B91,\"  et \",B92,\" \",B93))","v":"six cent cinquante-deux milliards cinq cents millions huit cent soixante mille quatre cent quarante-six virgule treize"}]
[null,null,null,null,{"$f":"IF(X95>100000000000,INT(RIGHT($X95,12)/100000000000),0)","v":6},{"$f":"IF(X95>10000000000,INT(RIGHT($X95,11)/10000000000),0)","v":9},{"$f":"IF(X95>1000000000,INT(RIGHT($X95,10)/1000000000),0)","v":9},{"$f":"IF(X95>100000000,INT(RIGHT($X95,9)/100000000),0)","v":7},{"$f":"IF(X95>10000000,INT(RIGHT($X95,8)/10000000),0)","v":1},{"$f":"IF(X95>1000000,INT(RIGHT($X95,7)/1000000),0)","v":4},{"$f":"IF(X95>100000,INT(RIGHT($X95,6)/100000),0)","v":9},{"$f":"IF(X95>10000,INT(RIGHT($X95,5)/10000),0)","v":5},{"$f":"IF(X95>1000,INT(RIGHT($X95,4)/1000),0)","v":5},{"$f":"IF(X95>100,INT(RIGHT($X95,3)/100),0)","v":1},{"$f":"IF(X95>10,INT(RIGHT($X95,2)/10),0)","v":9},{"$f":"INT(RIGHT($X95,1)/1)","v":2},{"$f":"INT(RIGHT($AC95,1))","v":1},{"$f":"INT(RIGHT($AC95,2)/10)","v":2},{"$f":"INT(RIGHT($AC95,3)/100)","v":0},{"$f":"INT(RIGHT($AC95,4)/1000)","v":0},{"$f":"INT(RIGHT($AC95,5)/10000)","v":0},{"$f":"INT(RIGHT($AC95,6)/100000)","v":0},{"$f":"((Q95*100000)+(R95*10000)+(S95*1000)+(T95*100)+(U95*10)+V95)","v":120000},{"$f":"C$3+INT(RAND()*(C$4-C$3+1))","v":699714955192},{"$f":"LEN(X95)","v":12},{"$f":"INT(RAND()*(Y95-C$5))+C$5","v":2},{"$f":"Z95-C$5","v":0},null,{"$f":"INT(RAND()*(POWER(10,$C$7))+1)","v":21},{"$f":"LEN(AC95)","v":2},{"$f":"INT(RAND()*(AD95-H$5))+H$5","v":1},{"$f":"AE95-H$5","v":1},{"$f":"(Q95*10^Q$6)+(R95*10^R$6)+(S95*10^S$6)+(T95*10^T$6)+(U95*10^U$6)+(V95*10^V$6)","v":0.12000000000000001}]
[18,{"$f":"convnumberletter(C96)","v":"six cent quatre-vingt-dix-neuf milliards sept cent quatorze millions neuf cent cinquante-cinq mille deux"},{"$f":"(E97*10^E$7)+(F97*10^F$7)+(G97*10^G$7)+(H97*10^H$7)+(I97*10^I$7)+(J97*10^J$7)+(K97*10^K$7)+(L97*10^L$7)+(M97*10^M$7)+(N97*10^N$7)+(O97*10^O$7)+(P97*10^P$7)","v":699714955002},null,{"$f":"IF(Z95=12,TRUE,FALSE)","v":false},{"$f":"IF(Z95=11,TRUE,FALSE)","v":false},{"$f":"IF(Z95=10,TRUE,FALSE)","v":false},{"$f":"IF(Z95=9,TRUE,FALSE)","v":false},{"$f":"IF(Z95=8,TRUE,FALSE)","v":false},{"$f":"IF(Z95=7,TRUE,FALSE)","v":false},{"$f":"IF(Z95=6,TRUE,FALSE)","v":false},{"$f":"IF(Z95=5,TRUE,FALSE)","v":false},{"$f":"IF(Z95=4,TRUE,FALSE)","v":false},{"$f":"IF(Z95=3,TRUE,FALSE)","v":false},{"$f":"IF(Z95=2,TRUE,FALSE)","v":true},{"$f":"IF(Z95=1,TRUE,FALSE)","v":false},{"$f":"IF(AND(Q95=0,R96=FALSE),FALSE,TRUE)","v":true},{"$f":"IF(AND(R95=0,S96=FALSE),FALSE,TRUE)","v":true},{"$f":"IF(AND(S95=0,T96=FALSE),FALSE,TRUE)","v":false},{"$f":"IF(AND(T95=0,U96=FALSE),FALSE,TRUE)","v":false},{"$f":"IF(AND(U95=0,V96=FALSE),FALSE,TRUE)","v":false},{"$f":"IF(V95=0,FALSE,TRUE)","v":false},{"$f":"W95/(1000000/W97)","v":12}]
[null,{"$f":"convnumberletter(C97)","v":"douze"},{"$f":"W96","v":12},null,{"$f":"IF(AND(E$7-1<$Z95,E$7-1>=$AA95),0,E95)","v":6},9,9,7,1,4,9,5,{"$f":"IF(AND(M$7-1<$Z95,M$7-1>=$AA95),0,M95)","v":5},{"$f":"IF(AND(N$7-1<$Z95,N$7-1>=$AA95),0,N95)","v":0},{"$f":"IF(AND(O$7-1<$Z95,O$7-1>=$AA95),0,O95)","v":0},{"$f":"IF(AND(P$7-1<$Z95,P$7-1>=$AA95),0,P95)","v":2},{"$f":"IF(Q96=FALSE,\"\",Q95)","v":1},2,"","","","",{"$f":"SUM(Q98:V98)","v":100}]
[null,{"$f":"IF(C97>1,CONCATENATE(HLOOKUP(C98,$Q$7:$V$9,3,TRUE),\"s\"),HLOOKUP(C98,$Q$7:$V$9,3,TRUE))","v":"centièmes"},{"$f":"W97","v":100},null,null,null,null,null,null,null,null,null,null,null,null,null,{"$f":"IF(AND(R97=\"\",Q97<>\"\"),Q$7,0)","v":0},{"$f":"IF(AND(S97=\"\",R97<>\"\"),R$7,0)","v":100},{"$f":"IF(AND(T97=\"\",S97<>\"\"),S$7,0)","v":0},{"$f":"IF(AND(U97=\"\",T97<>\"\"),T$7,0)","v":0},{"$f":"IF(AND(V97=\"\",U97<>\"\"),U$7,0)","v":0},{"$f":"IF(AND(W98=\"\",V97<>\"\"),V$7,0)","v":0}]
[null,{"$f":"IF($C$8=\"virgule\",CONCATENATE(B96,\" virgule \",B97),CONCATENATE(B96,\"  et \",B97,\" \",B98))","v":"six cent quatre-vingt-dix-neuf milliards sept cent quatorze millions neuf cent cinquante-cinq mille deux virgule douze"}]
[null,null,null,null,{"$f":"IF(X100>100000000000,INT(RIGHT($X100,12)/100000000000),0)","v":7},{"$f":"IF(X100>10000000000,INT(RIGHT($X100,11)/10000000000),0)","v":8},{"$f":"IF(X100>1000000000,INT(RIGHT($X100,10)/1000000000),0)","v":6},{"$f":"IF(X100>100000000,INT(RIGHT($X100,9)/100000000),0)","v":9},{"$f":"IF(X100>10000000,INT(RIGHT($X100,8)/10000000),0)","v":4},{"$f":"IF(X100>1000000,INT(RIGHT($X100,7)/1000000),0)","v":7},{"$f":"IF(X100>100000,INT(RIGHT($X100,6)/100000),0)","v":6},{"$f":"IF(X100>10000,INT(RIGHT($X100,5)/10000),0)","v":3},{"$f":"IF(X100>1000,INT(RIGHT($X100,4)/1000),0)","v":4},{"$f":"IF(X100>100,INT(RIGHT($X100,3)/100),0)","v":9},{"$f":"IF(X100>10,INT(RIGHT($X100,2)/10),0)","v":0},{"$f":"INT(RIGHT($X100,1)/1)","v":1},{"$f":"INT(RIGHT($AC100,1))","v":9},{"$f":"INT(RIGHT($AC100,2)/10)","v":9},{"$f":"INT(RIGHT($AC100,3)/100)","v":0},{"$f":"INT(RIGHT($AC100,4)/1000)","v":0},{"$f":"INT(RIGHT($AC100,5)/10000)","v":0},{"$f":"INT(RIGHT($AC100,6)/100000)","v":0},{"$f":"((Q100*100000)+(R100*10000)+(S100*1000)+(T100*100)+(U100*10)+V100)","v":990000},{"$f":"C$3+INT(RAND()*(C$4-C$3+1))","v":786947634901},{"$f":"LEN(X100)","v":12},{"$f":"INT(RAND()*(Y100-C$5))+C$5","v":7},{"$f":"Z100-C$5","v":5},null,{"$f":"INT(RAND()*(POWER(10,$C$7))+1)","v":99},{"$f":"LEN(AC100)","v":2},{"$f":"INT(RAND()*(AD100-H$5))+H$5","v":1},{"$f":"AE100-H$5","v":1},{"$f":"(Q100*10^Q$6)+(R100*10^R$6)+(S100*10^S$6)+(T100*10^T$6)+(U100*10^U$6)+(V100*10^V$6)","v":0.99}]
[19,{"$f":"convnumberletter(C101)","v":"sept cent quatre-vingt-six milliards neuf cents millions six cent trente-quatre mille neuf cent un"},{"$f":"(E102*10^E$7)+(F102*10^F$7)+(G102*10^G$7)+(H102*10^H$7)+(I102*10^I$7)+(J102*10^J$7)+(K102*10^K$7)+(L102*10^L$7)+(M102*10^M$7)+(N102*10^N$7)+(O102*10^O$7)+(P102*10^P$7)","v":786900634901},null,{"$f":"IF(Z100=12,TRUE,FALSE)","v":false},{"$f":"IF(Z100=11,TRUE,FALSE)","v":false},{"$f":"IF(Z100=10,TRUE,FALSE)","v":false},{"$f":"IF(Z100=9,TRUE,FALSE)","v":false},{"$f":"IF(Z100=8,TRUE,FALSE)","v":false},{"$f":"IF(Z100=7,TRUE,FALSE)","v":true},{"$f":"IF(Z100=6,TRUE,FALSE)","v":false},{"$f":"IF(Z100=5,TRUE,FALSE)","v":false},{"$f":"IF(Z100=4,TRUE,FALSE)","v":false},{"$f":"IF(Z100=3,TRUE,FALSE)","v":false},{"$f":"IF(Z100=2,TRUE,FALSE)","v":false},{"$f":"IF(Z100=1,TRUE,FALSE)","v":false},{"$f":"IF(AND(Q100=0,R101=FALSE),FALSE,TRUE)","v":true},{"$f":"IF(AND(R100=0,S101=FALSE),FALSE,TRUE)","v":true},{"$f":"IF(AND(S100=0,T101=FALSE),FALSE,TRUE)","v":false},{"$f":"IF(AND(T100=0,U101=FALSE),FALSE,TRUE)","v":false},{"$f":"IF(AND(U100=0,V101=FALSE),FALSE,TRUE)","v":false},{"$f":"IF(V100=0,FALSE,TRUE)","v":false},{"$f":"W100/(1000000/W102)","v":99}]
[null,{"$f":"convnumberletter(C102)","v":"quatre-vingt-dix-neuf"},{"$f":"W101","v":99},null,{"$f":"IF(AND(E$7-1<$Z100,E$7-1>=$AA100),0,E100)","v":7},8,6,9,0,0,6,3,{"$f":"IF(AND(M$7-1<$Z100,M$7-1>=$AA100),0,M100)","v":4},{"$f":"IF(AND(N$7-1<$Z100,N$7-1>=$AA100),0,N100)","v":9},{"$f":"IF(AND(O$7-1<$Z100,O$7-1>=$AA100),0,O100)","v":0},{"$f":"IF(AND(P$7-1<$Z100,P$7-1>=$AA100),0,P100)","v":1},{"$f":"IF(Q101=FALSE,\"\",Q100)","v":9},9,"","","","",{"$f":"SUM(Q103:V103)","v":100}]
[null,{"$f":"IF(C102>1,CONCATENATE(HLOOKUP(C103,$Q$7:$V$9,3,TRUE),\"s\"),HLOOKUP(C103,$Q$7:$V$9,3,TRUE))","v":"centièmes"},{"$f":"W102","v":100},null,null,null,null,null,null,null,null,null,null,null,null,null,{"$f":"IF(AND(R102=\"\",Q102<>\"\"),Q$7,0)","v":0},{"$f":"IF(AND(S102=\"\",R102<>\"\"),R$7,0)","v":100},{"$f":"IF(AND(T102=\"\",S102<>\"\"),S$7,0)","v":0},{"$f":"IF(AND(U102=\"\",T102<>\"\"),T$7,0)","v":0},{"$f":"IF(AND(V102=\"\",U102<>\"\"),U$7,0)","v":0},{"$f":"IF(AND(W103=\"\",V102<>\"\"),V$7,0)","v":0}]
[null,{"$f":"IF($C$8=\"virgule\",CONCATENATE(B101,\" virgule \",B102),CONCATENATE(B101,\"  et \",B102,\" \",B103))","v":"sept cent quatre-vingt-six milliards neuf cents millions six cent trente-quatre mille neuf cent un virgule quatre-vingt-dix-neuf"}]
[null,null,null,null,{"$f":"IF(X105>100000000000,INT(RIGHT($X105,12)/100000000000),0)","v":6},{"$f":"IF(X105>10000000000,INT(RIGHT($X105,11)/10000000000),0)","v":1},{"$f":"IF(X105>1000000000,INT(RIGHT($X105,10)/1000000000),0)","v":7},{"$f":"IF(X105>100000000,INT(RIGHT($X105,9)/100000000),0)","v":4},{"$f":"IF(X105>10000000,INT(RIGHT($X105,8)/10000000),0)","v":3},{"$f":"IF(X105>1000000,INT(RIGHT($X105,7)/1000000),0)","v":4},{"$f":"IF(X105>100000,INT(RIGHT($X105,6)/100000),0)","v":5},{"$f":"IF(X105>10000,INT(RIGHT($X105,5)/10000),0)","v":8},{"$f":"IF(X105>1000,INT(RIGHT($X105,4)/1000),0)","v":7},{"$f":"IF(X105>100,INT(RIGHT($X105,3)/100),0)","v":6},{"$f":"IF(X105>10,INT(RIGHT($X105,2)/10),0)","v":1},{"$f":"INT(RIGHT($X105,1)/1)","v":1},{"$f":"INT(RIGHT($AC105,1))","v":4},{"$f":"INT(RIGHT($AC105,2)/10)","v":5},{"$f":"INT(RIGHT($AC105,3)/100)","v":0},{"$f":"INT(RIGHT($AC105,4)/1000)","v":0},{"$f":"INT(RIGHT($AC105,5)/10000)","v":0},{"$f":"INT(RIGHT($AC105,6)/100000)","v":0},{"$f":"((Q105*100000)+(R105*10000)+(S105*1000)+(T105*100)+(U105*10)+V105)","v":450000},{"$f":"C$3+INT(RAND()*(C$4-C$3+1))","v":617434587611},{"$f":"LEN(X105)","v":12},{"$f":"INT(RAND()*(Y105-C$5))+C$5","v":7},{"$f":"Z105-C$5","v":5},null,{"$f":"INT(RAND()*(POWER(10,$C$7))+1)","v":54},{"$f":"LEN(AC105)","v":2},{"$f":"INT(RAND()*(AD105-H$5))+H$5","v":0},{"$f":"AE105-H$5","v":0},{"$f":"(Q105*10^Q$6)+(R105*10^R$6)+(S105*10^S$6)+(T105*10^T$6)+(U105*10^U$6)+(V105*10^V$6)","v":0.45}]
[20,{"$f":"convnumberletter(C106)","v":"six cent dix-sept milliards quatre cents millions cinq cent quatre-vingt-sept mille six cent onze"},{"$f":"(E107*10^E$7)+(F107*10^F$7)+(G107*10^G$7)+(H107*10^H$7)+(I107*10^I$7)+(J107*10^J$7)+(K107*10^K$7)+(L107*10^L$7)+(M107*10^M$7)+(N107*10^N$7)+(O107*10^O$7)+(P107*10^P$7)","v":617400587611},null,{"$f":"IF(Z105=12,TRUE,FALSE)","v":false},{"$f":"IF(Z105=11,TRUE,FALSE)","v":false},{"$f":"IF(Z105=10,TRUE,FALSE)","v":false},{"$f":"IF(Z105=9,TRUE,FALSE)","v":false},{"$f":"IF(Z105=8,TRUE,FALSE)","v":false},{"$f":"IF(Z105=7,TRUE,FALSE)","v":true},{"$f":"IF(Z105=6,TRUE,FALSE)","v":false},{"$f":"IF(Z105=5,TRUE,FALSE)","v":false},{"$f":"IF(Z105=4,TRUE,FALSE)","v":false},{"$f":"IF(Z105=3,TRUE,FALSE)","v":false},{"$f":"IF(Z105=2,TRUE,FALSE)","v":false},{"$f":"IF(Z105=1,TRUE,FALSE)","v":false},{"$f":"IF(AND(Q105=0,R106=FALSE),FALSE,TRUE)","v":true},{"$f":"IF(AND(R105=0,S106=FALSE),FALSE,TRUE)","v":true},{"$f":"IF(AND(S105=0,T106=FALSE),FALSE,TRUE)","v":false},{"$f":"IF(AND(T105=0,U106=FALSE),FALSE,TRUE)","v":false},{"$f":"IF(AND(U105=0,V106=FALSE),FALSE,TRUE)","v":false},{"$f":"IF(V105=0,FALSE,TRUE)","v":false},{"$f":"W105/(1000000/W107)","v":45}]
[null,{"$f":"convnumberletter(C107)","v":"quarante-cinq"},{"$f":"W106","v":45},null,{"$f":"IF(AND(E$7-1<$Z105,E$7-1>=$AA105),0,E105)","v":6},1,7,4,0,0,5,8,{"$f":"IF(AND(M$7-1<$Z105,M$7-1>=$AA105),0,M105)","v":7},{"$f":"IF(AND(N$7-1<$Z105,N$7-1>=$AA105),0,N105)","v":6},{"$f":"IF(AND(O$7-1<$Z105,O$7-1>=$AA105),0,O105)","v":1},{"$f":"IF(AND(P$7-1<$Z105,P$7-1>=$AA105),0,P105)","v":1},{"$f":"IF(Q106=FALSE,\"\",Q105)","v":4},5,"","","","",{"$f":"SUM(Q108:V108)","v":100}]
[null,{"$f":"IF(C107>1,CONCATENATE(HLOOKUP(C108,$Q$7:$V$9,3,TRUE),\"s\"),HLOOKUP(C108,$Q$7:$V$9,3,TRUE))","v":"centièmes"},{"$f":"W107","v":100},null,null,null,null,null,null,null,null,null,null,null,null,null,{"$f":"IF(AND(R107=\"\",Q107<>\"\"),Q$7,0)","v":0},{"$f":"IF(AND(S107=\"\",R107<>\"\"),R$7,0)","v":100},{"$f":"IF(AND(T107=\"\",S107<>\"\"),S$7,0)","v":0},{"$f":"IF(AND(U107=\"\",T107<>\"\"),T$7,0)","v":0},{"$f":"IF(AND(V107=\"\",U107<>\"\"),U$7,0)","v":0},{"$f":"IF(AND(W108=\"\",V107<>\"\"),V$7,0)","v":0}]
[null,{"$f":"IF($C$8=\"virgule\",CONCATENATE(B106,\" virgule \",B107),CONCATENATE(B106,\"  et \",B107,\" \",B108))","v":"six cent dix-sept milliards quatre cents millions cinq cent quatre-vingt-sept mille six cent onze virgule quarante-cinq"}]
[null,null,null,null,{"$f":"IF(X110>100000000000,INT(RIGHT($X110,12)/100000000000),0)","v":9},{"$f":"IF(X110>10000000000,INT(RIGHT($X110,11)/10000000000),0)","v":0},{"$f":"IF(X110>1000000000,INT(RIGHT($X110,10)/1000000000),0)","v":8},{"$f":"IF(X110>100000000,INT(RIGHT($X110,9)/100000000),0)","v":5},{"$f":"IF(X110>10000000,INT(RIGHT($X110,8)/10000000),0)","v":2},{"$f":"IF(X110>1000000,INT(RIGHT($X110,7)/1000000),0)","v":0},{"$f":"IF(X110>100000,INT(RIGHT($X110,6)/100000),0)","v":3},{"$f":"IF(X110>10000,INT(RIGHT($X110,5)/10000),0)","v":5},{"$f":"IF(X110>1000,INT(RIGHT($X110,4)/1000),0)","v":5},{"$f":"IF(X110>100,INT(RIGHT($X110,3)/100),0)","v":1},{"$f":"IF(X110>10,INT(RIGHT($X110,2)/10),0)","v":0},{"$f":"INT(RIGHT($X110,1)/1)","v":3},{"$f":"INT(RIGHT($AC110,1))","v":1},{"$f":"INT(RIGHT($AC110,2)/10)","v":1},{"$f":"INT(RIGHT($AC110,3)/100)","v":0},{"$f":"INT(RIGHT($AC110,4)/1000)","v":0},{"$f":"INT(RIGHT($AC110,5)/10000)","v":0},{"$f":"INT(RIGHT($AC110,6)/100000)","v":0},{"$f":"((Q110*100000)+(R110*10000)+(S110*1000)+(T110*100)+(U110*10)+V110)","v":110000},{"$f":"C$3+INT(RAND()*(C$4-C$3+1))","v":908520355103},{"$f":"LEN(X110)","v":12},{"$f":"INT(RAND()*(Y110-C$5))+C$5","v":8},{"$f":"Z110-C$5","v":6},null,{"$f":"INT(RAND()*(POWER(10,$C$7))+1)","v":11},{"$f":"LEN(AC110)","v":2},{"$f":"INT(RAND()*(AD110-H$5))+H$5","v":1},{"$f":"AE110-H$5","v":1},{"$f":"(Q110*10^Q$6)+(R110*10^R$6)+(S110*10^S$6)+(T110*10^T$6)+(U110*10^U$6)+(V110*10^V$6)","v":0.11}]
[21,{"$f":"convnumberletter(C111)","v":"neuf cent huit milliards trois cent cinquante-cinq mille cent trois"},{"$f":"(E112*10^E$7)+(F112*10^F$7)+(G112*10^G$7)+(H112*10^H$7)+(I112*10^I$7)+(J112*10^J$7)+(K112*10^K$7)+(L112*10^L$7)+(M112*10^M$7)+(N112*10^N$7)+(O112*10^O$7)+(P112*10^P$7)","v":908000355103},null,{"$f":"IF(Z110=12,TRUE,FALSE)","v":false},{"$f":"IF(Z110=11,TRUE,FALSE)","v":false},{"$f":"IF(Z110=10,TRUE,FALSE)","v":false},{"$f":"IF(Z110=9,TRUE,FALSE)","v":false},{"$f":"IF(Z110=8,TRUE,FALSE)","v":true},{"$f":"IF(Z110=7,TRUE,FALSE)","v":false},{"$f":"IF(Z110=6,TRUE,FALSE)","v":false},{"$f":"IF(Z110=5,TRUE,FALSE)","v":false},{"$f":"IF(Z110=4,TRUE,FALSE)","v":false},{"$f":"IF(Z110=3,TRUE,FALSE)","v":false},{"$f":"IF(Z110=2,TRUE,FALSE)","v":false},{"$f":"IF(Z110=1,TRUE,FALSE)","v":false},{"$f":"IF(AND(Q110=0,R111=FALSE),FALSE,TRUE)","v":true},{"$f":"IF(AND(R110=0,S111=FALSE),FALSE,TRUE)","v":true},{"$f":"IF(AND(S110=0,T111=FALSE),FALSE,TRUE)","v":false},{"$f":"IF(AND(T110=0,U111=FALSE),FALSE,TRUE)","v":false},{"$f":"IF(AND(U110=0,V111=FALSE),FALSE,TRUE)","v":false},{"$f":"IF(V110=0,FALSE,TRUE)","v":false},{"$f":"W110/(1000000/W112)","v":11}]
[null,{"$f":"convnumberletter(C112)","v":"onze"},{"$f":"W111","v":11},null,{"$f":"IF(AND(E$7-1<$Z110,E$7-1>=$AA110),0,E110)","v":9},0,8,0,0,0,3,5,{"$f":"IF(AND(M$7-1<$Z110,M$7-1>=$AA110),0,M110)","v":5},{"$f":"IF(AND(N$7-1<$Z110,N$7-1>=$AA110),0,N110)","v":1},{"$f":"IF(AND(O$7-1<$Z110,O$7-1>=$AA110),0,O110)","v":0},{"$f":"IF(AND(P$7-1<$Z110,P$7-1>=$AA110),0,P110)","v":3},{"$f":"IF(Q111=FALSE,\"\",Q110)","v":1},1,"","","","",{"$f":"SUM(Q113:V113)","v":100}]
[null,{"$f":"IF(C112>1,CONCATENATE(HLOOKUP(C113,$Q$7:$V$9,3,TRUE),\"s\"),HLOOKUP(C113,$Q$7:$V$9,3,TRUE))","v":"centièmes"},{"$f":"W112","v":100},null,null,null,null,null,null,null,null,null,null,null,null,null,{"$f":"IF(AND(R112=\"\",Q112<>\"\"),Q$7,0)","v":0},{"$f":"IF(AND(S112=\"\",R112<>\"\"),R$7,0)","v":100},{"$f":"IF(AND(T112=\"\",S112<>\"\"),S$7,0)","v":0},{"$f":"IF(AND(U112=\"\",T112<>\"\"),T$7,0)","v":0},{"$f":"IF(AND(V112=\"\",U112<>\"\"),U$7,0)","v":0},{"$f":"IF(AND(W113=\"\",V112<>\"\"),V$7,0)","v":0}]
[null,{"$f":"IF($C$8=\"virgule\",CONCATENATE(B111,\" virgule \",B112),CONCATENATE(B111,\"  et \",B112,\" \",B113))","v":"neuf cent huit milliards trois cent cinquante-cinq mille cent trois virgule onze"}]
[null,null,null,null,{"$f":"IF(X115>100000000000,INT(RIGHT($X115,12)/100000000000),0)","v":0},{"$f":"IF(X115>10000000000,INT(RIGHT($X115,11)/10000000000),0)","v":0},{"$f":"IF(X115>1000000000,INT(RIGHT($X115,10)/1000000000),0)","v":8},{"$f":"IF(X115>100000000,INT(RIGHT($X115,9)/100000000),0)","v":3},{"$f":"IF(X115>10000000,INT(RIGHT($X115,8)/10000000),0)","v":1},{"$f":"IF(X115>1000000,INT(RIGHT($X115,7)/1000000),0)","v":3},{"$f":"IF(X115>100000,INT(RIGHT($X115,6)/100000),0)","v":1},{"$f":"IF(X115>10000,INT(RIGHT($X115,5)/10000),0)","v":8},{"$f":"IF(X115>1000,INT(RIGHT($X115,4)/1000),0)","v":5},{"$f":"IF(X115>100,INT(RIGHT($X115,3)/100),0)","v":2},{"$f":"IF(X115>10,INT(RIGHT($X115,2)/10),0)","v":7},{"$f":"INT(RIGHT($X115,1)/1)","v":8},{"$f":"INT(RIGHT($AC115,1))","v":3},{"$f":"INT(RIGHT($AC115,2)/10)","v":1},{"$f":"INT(RIGHT($AC115,3)/100)","v":0},{"$f":"INT(RIGHT($AC115,4)/1000)","v":0},{"$f":"INT(RIGHT($AC115,5)/10000)","v":0},{"$f":"INT(RIGHT($AC115,6)/100000)","v":0},{"$f":"((Q115*100000)+(R115*10000)+(S115*1000)+(T115*100)+(U115*10)+V115)","v":310000},{"$f":"C$3+INT(RAND()*(C$4-C$3+1))","v":8313185278},{"$f":"LEN(X115)","v":10},{"$f":"INT(RAND()*(Y115-C$5))+C$5","v":8},{"$f":"Z115-C$5","v":6},null,{"$f":"INT(RAND()*(POWER(10,$C$7))+1)","v":13},{"$f":"LEN(AC115)","v":2},{"$f":"INT(RAND()*(AD115-H$5))+H$5","v":0},{"$f":"AE115-H$5","v":0},{"$f":"(Q115*10^Q$6)+(R115*10^R$6)+(S115*10^S$6)+(T115*10^T$6)+(U115*10^U$6)+(V115*10^V$6)","v":0.31000000000000005}]
[22,{"$f":"convnumberletter(C116)","v":"huit milliards trois millions cent quatre-vingt-cinq mille deux cent soixante-dix-huit"},{"$f":"(E117*10^E$7)+(F117*10^F$7)+(G117*10^G$7)+(H117*10^H$7)+(I117*10^I$7)+(J117*10^J$7)+(K117*10^K$7)+(L117*10^L$7)+(M117*10^M$7)+(N117*10^N$7)+(O117*10^O$7)+(P117*10^P$7)","v":8003185278},null,{"$f":"IF(Z115=12,TRUE,FALSE)","v":false},{"$f":"IF(Z115=11,TRUE,FALSE)","v":false},{"$f":"IF(Z115=10,TRUE,FALSE)","v":false},{"$f":"IF(Z115=9,TRUE,FALSE)","v":false},{"$f":"IF(Z115=8,TRUE,FALSE)","v":true},{"$f":"IF(Z115=7,TRUE,FALSE)","v":false},{"$f":"IF(Z115=6,TRUE,FALSE)","v":false},{"$f":"IF(Z115=5,TRUE,FALSE)","v":false},{"$f":"IF(Z115=4,TRUE,FALSE)","v":false},{"$f":"IF(Z115=3,TRUE,FALSE)","v":false},{"$f":"IF(Z115=2,TRUE,FALSE)","v":false},{"$f":"IF(Z115=1,TRUE,FALSE)","v":false},{"$f":"IF(AND(Q115=0,R116=FALSE),FALSE,TRUE)","v":true},{"$f":"IF(AND(R115=0,S116=FALSE),FALSE,TRUE)","v":true},{"$f":"IF(AND(S115=0,T116=FALSE),FALSE,TRUE)","v":false},{"$f":"IF(AND(T115=0,U116=FALSE),FALSE,TRUE)","v":false},{"$f":"IF(AND(U115=0,V116=FALSE),FALSE,TRUE)","v":false},{"$f":"IF(V115=0,FALSE,TRUE)","v":false},{"$f":"W115/(1000000/W117)","v":31}]
[null,{"$f":"convnumberletter(C117)","v":"trente et un"},{"$f":"W116","v":31},null,{"$f":"IF(AND(E$7-1<$Z115,E$7-1>=$AA115),0,E115)","v":0},0,8,0,0,3,1,8,{"$f":"IF(AND(M$7-1<$Z115,M$7-1>=$AA115),0,M115)","v":5},{"$f":"IF(AND(N$7-1<$Z115,N$7-1>=$AA115),0,N115)","v":2},{"$f":"IF(AND(O$7-1<$Z115,O$7-1>=$AA115),0,O115)","v":7},{"$f":"IF(AND(P$7-1<$Z115,P$7-1>=$AA115),0,P115)","v":8},{"$f":"IF(Q116=FALSE,\"\",Q115)","v":3},1,"","","","",{"$f":"SUM(Q118:V118)","v":100}]
[null,{"$f":"IF(C117>1,CONCATENATE(HLOOKUP(C118,$Q$7:$V$9,3,TRUE),\"s\"),HLOOKUP(C118,$Q$7:$V$9,3,TRUE))","v":"centièmes"},{"$f":"W117","v":100},null,null,null,null,null,null,null,null,null,null,null,null,null,{"$f":"IF(AND(R117=\"\",Q117<>\"\"),Q$7,0)","v":0},{"$f":"IF(AND(S117=\"\",R117<>\"\"),R$7,0)","v":100},{"$f":"IF(AND(T117=\"\",S117<>\"\"),S$7,0)","v":0},{"$f":"IF(AND(U117=\"\",T117<>\"\"),T$7,0)","v":0},{"$f":"IF(AND(V117=\"\",U117<>\"\"),U$7,0)","v":0},{"$f":"IF(AND(W118=\"\",V117<>\"\"),V$7,0)","v":0}]
[null,{"$f":"IF($C$8=\"virgule\",CONCATENATE(B116,\" virgule \",B117),CONCATENATE(B116,\"  et \",B117,\" \",B118))","v":"huit milliards trois millions cent quatre-vingt-cinq mille deux cent soixante-dix-huit virgule trente et un"}]
[null,null,null,null,{"$f":"IF(X120>100000000000,INT(RIGHT($X120,12)/100000000000),0)","v":3},{"$f":"IF(X120>10000000000,INT(RIGHT($X120,11)/10000000000),0)","v":4},{"$f":"IF(X120>1000000000,INT(RIGHT($X120,10)/1000000000),0)","v":1},{"$f":"IF(X120>100000000,INT(RIGHT($X120,9)/100000000),0)","v":2},{"$f":"IF(X120>10000000,INT(RIGHT($X120,8)/10000000),0)","v":6},{"$f":"IF(X120>1000000,INT(RIGHT($X120,7)/1000000),0)","v":0},{"$f":"IF(X120>100000,INT(RIGHT($X120,6)/100000),0)","v":8},{"$f":"IF(X120>10000,INT(RIGHT($X120,5)/10000),0)","v":9},{"$f":"IF(X120>1000,INT(RIGHT($X120,4)/1000),0)","v":2},{"$f":"IF(X120>100,INT(RIGHT($X120,3)/100),0)","v":6},{"$f":"IF(X120>10,INT(RIGHT($X120,2)/10),0)","v":8},{"$f":"INT(RIGHT($X120,1)/1)","v":2},{"$f":"INT(RIGHT($AC120,1))","v":5},{"$f":"INT(RIGHT($AC120,2)/10)","v":4},{"$f":"INT(RIGHT($AC120,3)/100)","v":0},{"$f":"INT(RIGHT($AC120,4)/1000)","v":0},{"$f":"INT(RIGHT($AC120,5)/10000)","v":0},{"$f":"INT(RIGHT($AC120,6)/100000)","v":0},{"$f":"((Q120*100000)+(R120*10000)+(S120*1000)+(T120*100)+(U120*10)+V120)","v":540000},{"$f":"C$3+INT(RAND()*(C$4-C$3+1))","v":341260892682},{"$f":"LEN(X120)","v":12},{"$f":"INT(RAND()*(Y120-C$5))+C$5","v":9},{"$f":"Z120-C$5","v":7},null,{"$f":"INT(RAND()*(POWER(10,$C$7))+1)","v":45},{"$f":"LEN(AC120)","v":2},{"$f":"INT(RAND()*(AD120-H$5))+H$5","v":1},{"$f":"AE120-H$5","v":1},{"$f":"(Q120*10^Q$6)+(R120*10^R$6)+(S120*10^S$6)+(T120*10^T$6)+(U120*10^U$6)+(V120*10^V$6)","v":0.54}]
[23,{"$f":"convnumberletter(C121)","v":"trois cent quarante milliards soixante millions huit cent quatre-vingt-douze mille six cent quatre-vingt-deux"},{"$f":"(E122*10^E$7)+(F122*10^F$7)+(G122*10^G$7)+(H122*10^H$7)+(I122*10^I$7)+(J122*10^J$7)+(K122*10^K$7)+(L122*10^L$7)+(M122*10^M$7)+(N122*10^N$7)+(O122*10^O$7)+(P122*10^P$7)","v":340060892682},null,{"$f":"IF(Z120=12,TRUE,FALSE)","v":false},{"$f":"IF(Z120=11,TRUE,FALSE)","v":false},{"$f":"IF(Z120=10,TRUE,FALSE)","v":false},{"$f":"IF(Z120=9,TRUE,FALSE)","v":true},{"$f":"IF(Z120=8,TRUE,FALSE)","v":false},{"$f":"IF(Z120=7,TRUE,FALSE)","v":false},{"$f":"IF(Z120=6,TRUE,FALSE)","v":false},{"$f":"IF(Z120=5,TRUE,FALSE)","v":false},{"$f":"IF(Z120=4,TRUE,FALSE)","v":false},{"$f":"IF(Z120=3,TRUE,FALSE)","v":false},{"$f":"IF(Z120=2,TRUE,FALSE)","v":false},{"$f":"IF(Z120=1,TRUE,FALSE)","v":false},{"$f":"IF(AND(Q120=0,R121=FALSE),FALSE,TRUE)","v":true},{"$f":"IF(AND(R120=0,S121=FALSE),FALSE,TRUE)","v":true},{"$f":"IF(AND(S120=0,T121=FALSE),FALSE,TRUE)","v":false},{"$f":"IF(AND(T120=0,U121=FALSE),FALSE,TRUE)","v":false},{"$f":"IF(AND(U120=0,V121=FALSE),FALSE,TRUE)","v":false},{"$f":"IF(V120=0,FALSE,TRUE)","v":false},{"$f":"W120/(1000000/W122)","v":54}]
[null,{"$f":"convnumberletter(C122)","v":"cinquante-quatre"},{"$f":"W121","v":54},null,{"$f":"IF(AND(E$7-1<$Z120,E$7-1>=$AA120),0,E120)","v":3},4,0,0,6,0,8,9,{"$f":"IF(AND(M$7-1<$Z120,M$7-1>=$AA120),0,M120)","v":2},{"$f":"IF(AND(N$7-1<$Z120,N$7-1>=$AA120),0,N120)","v":6},{"$f":"IF(AND(O$7-1<$Z120,O$7-1>=$AA120),0,O120)","v":8},{"$f":"IF(AND(P$7-1<$Z120,P$7-1>=$AA120),0,P120)","v":2},{"$f":"IF(Q121=FALSE,\"\",Q120)","v":5},4,"","","","",{"$f":"SUM(Q123:V123)","v":100}]
[null,{"$f":"IF(C122>1,CONCATENATE(HLOOKUP(C123,$Q$7:$V$9,3,TRUE),\"s\"),HLOOKUP(C123,$Q$7:$V$9,3,TRUE))","v":"centièmes"},{"$f":"W122","v":100},null,null,null,null,null,null,null,null,null,null,null,null,null,{"$f":"IF(AND(R122=\"\",Q122<>\"\"),Q$7,0)","v":0},{"$f":"IF(AND(S122=\"\",R122<>\"\"),R$7,0)","v":100},{"$f":"IF(AND(T122=\"\",S122<>\"\"),S$7,0)","v":0},{"$f":"IF(AND(U122=\"\",T122<>\"\"),T$7,0)","v":0},{"$f":"IF(AND(V122=\"\",U122<>\"\"),U$7,0)","v":0},{"$f":"IF(AND(W123=\"\",V122<>\"\"),V$7,0)","v":0}]
[null,{"$f":"IF($C$8=\"virgule\",CONCATENATE(B121,\" virgule \",B122),CONCATENATE(B121,\"  et \",B122,\" \",B123))","v":"trois cent quarante milliards soixante millions huit cent quatre-vingt-douze mille six cent quatre-vingt-deux virgule cinquante-quatre"}]
[null,null,null,null,{"$f":"IF(X125>100000000000,INT(RIGHT($X125,12)/100000000000),0)","v":0},{"$f":"IF(X125>10000000000,INT(RIGHT($X125,11)/10000000000),0)","v":8},{"$f":"IF(X125>1000000000,INT(RIGHT($X125,10)/1000000000),0)","v":3},{"$f":"IF(X125>100000000,INT(RIGHT($X125,9)/100000000),0)","v":6},{"$f":"IF(X125>10000000,INT(RIGHT($X125,8)/10000000),0)","v":7},{"$f":"IF(X125>1000000,INT(RIGHT($X125,7)/1000000),0)","v":4},{"$f":"IF(X125>100000,INT(RIGHT($X125,6)/100000),0)","v":7},{"$f":"IF(X125>10000,INT(RIGHT($X125,5)/10000),0)","v":7},{"$f":"IF(X125>1000,INT(RIGHT($X125,4)/1000),0)","v":6},{"$f":"IF(X125>100,INT(RIGHT($X125,3)/100),0)","v":1},{"$f":"IF(X125>10,INT(RIGHT($X125,2)/10),0)","v":9},{"$f":"INT(RIGHT($X125,1)/1)","v":2},{"$f":"INT(RIGHT($AC125,1))","v":5},{"$f":"INT(RIGHT($AC125,2)/10)","v":6},{"$f":"INT(RIGHT($AC125,3)/100)","v":0},{"$f":"INT(RIGHT($AC125,4)/1000)","v":0},{"$f":"INT(RIGHT($AC125,5)/10000)","v":0},{"$f":"INT(RIGHT($AC125,6)/100000)","v":0},{"$f":"((Q125*100000)+(R125*10000)+(S125*1000)+(T125*100)+(U125*10)+V125)","v":560000},{"$f":"C$3+INT(RAND()*(C$4-C$3+1))","v":83674776192},{"$f":"LEN(X125)","v":11},{"$f":"INT(RAND()*(Y125-C$5))+C$5","v":8},{"$f":"Z125-C$5","v":6},null,{"$f":"INT(RAND()*(POWER(10,$C$7))+1)","v":65},{"$f":"LEN(AC125)","v":2},{"$f":"INT(RAND()*(AD125-H$5))+H$5","v":0},{"$f":"AE125-H$5","v":0},{"$f":"(Q125*10^Q$6)+(R125*10^R$6)+(S125*10^S$6)+(T125*10^T$6)+(U125*10^U$6)+(V125*10^V$6)","v":0.56000000000000005}]
[24,{"$f":"convnumberletter(C126)","v":"quatre-vingt-trois milliards quatre millions sept cent soixante-seize mille cent quatre-vingt-douze"},{"$f":"(E127*10^E$7)+(F127*10^F$7)+(G127*10^G$7)+(H127*10^H$7)+(I127*10^I$7)+(J127*10^J$7)+(K127*10^K$7)+(L127*10^L$7)+(M127*10^M$7)+(N127*10^N$7)+(O127*10^O$7)+(P127*10^P$7)","v":83004776192},null,{"$f":"IF(Z125=12,TRUE,FALSE)","v":false},{"$f":"IF(Z125=11,TRUE,FALSE)","v":false},{"$f":"IF(Z125=10,TRUE,FALSE)","v":false},{"$f":"IF(Z125=9,TRUE,FALSE)","v":false},{"$f":"IF(Z125=8,TRUE,FALSE)","v":true},{"$f":"IF(Z125=7,TRUE,FALSE)","v":false},{"$f":"IF(Z125=6,TRUE,FALSE)","v":false},{"$f":"IF(Z125=5,TRUE,FALSE)","v":false},{"$f":"IF(Z125=4,TRUE,FALSE)","v":false},{"$f":"IF(Z125=3,TRUE,FALSE)","v":false},{"$f":"IF(Z125=2,TRUE,FALSE)","v":false},{"$f":"IF(Z125=1,TRUE,FALSE)","v":false},{"$f":"IF(AND(Q125=0,R126=FALSE),FALSE,TRUE)","v":true},{"$f":"IF(AND(R125=0,S126=FALSE),FALSE,TRUE)","v":true},{"$f":"IF(AND(S125=0,T126=FALSE),FALSE,TRUE)","v":false},{"$f":"IF(AND(T125=0,U126=FALSE),FALSE,TRUE)","v":false},{"$f":"IF(AND(U125=0,V126=FALSE),FALSE,TRUE)","v":false},{"$f":"IF(V125=0,FALSE,TRUE)","v":false},{"$f":"W125/(1000000/W127)","v":56}]
[null,{"$f":"convnumberletter(C127)","v":"cinquante-six"},{"$f":"W126","v":56},null,{"$f":"IF(AND(E$7-1<$Z125,E$7-1>=$AA125),0,E125)","v":0},8,3,0,0,4,7,7,{"$f":"IF(AND(M$7-1<$Z125,M$7-1>=$AA125),0,M125)","v":6},{"$f":"IF(AND(N$7-1<$Z125,N$7-1>=$AA125),0,N125)","v":1},{"$f":"IF(AND(O$7-1<$Z125,O$7-1>=$AA125),0,O125)","v":9},{"$f":"IF(AND(P$7-1<$Z125,P$7-1>=$AA125),0,P125)","v":2},{"$f":"IF(Q126=FALSE,\"\",Q125)","v":5},6,"","","","",{"$f":"SUM(Q128:V128)","v":100}]
[null,{"$f":"IF(C127>1,CONCATENATE(HLOOKUP(C128,$Q$7:$V$9,3,TRUE),\"s\"),HLOOKUP(C128,$Q$7:$V$9,3,TRUE))","v":"centièmes"},{"$f":"W127","v":100},null,null,null,null,null,null,null,null,null,null,null,null,null,{"$f":"IF(AND(R127=\"\",Q127<>\"\"),Q$7,0)","v":0},{"$f":"IF(AND(S127=\"\",R127<>\"\"),R$7,0)","v":100},{"$f":"IF(AND(T127=\"\",S127<>\"\"),S$7,0)","v":0},{"$f":"IF(AND(U127=\"\",T127<>\"\"),T$7,0)","v":0},{"$f":"IF(AND(V127=\"\",U127<>\"\"),U$7,0)","v":0},{"$f":"IF(AND(W128=\"\",V127<>\"\"),V$7,0)","v":0}]
[null,{"$f":"IF($C$8=\"virgule\",CONCATENATE(B126,\" virgule \",B127),CONCATENATE(B126,\"  et \",B127,\" \",B128))","v":"quatre-vingt-trois milliards quatre millions sept cent soixante-seize mille cent quatre-vingt-douze virgule cinquante-six"}]
[null,null,null,null,{"$f":"IF(X130>100000000000,INT(RIGHT($X130,12)/100000000000),0)","v":3},{"$f":"IF(X130>10000000000,INT(RIGHT($X130,11)/10000000000),0)","v":7},{"$f":"IF(X130>1000000000,INT(RIGHT($X130,10)/1000000000),0)","v":1},{"$f":"IF(X130>100000000,INT(RIGHT($X130,9)/100000000),0)","v":3},{"$f":"IF(X130>10000000,INT(RIGHT($X130,8)/10000000),0)","v":3},{"$f":"IF(X130>1000000,INT(RIGHT($X130,7)/1000000),0)","v":3},{"$f":"IF(X130>100000,INT(RIGHT($X130,6)/100000),0)","v":5},{"$f":"IF(X130>10000,INT(RIGHT($X130,5)/10000),0)","v":7},{"$f":"IF(X130>1000,INT(RIGHT($X130,4)/1000),0)","v":6},{"$f":"IF(X130>100,INT(RIGHT($X130,3)/100),0)","v":3},{"$f":"IF(X130>10,INT(RIGHT($X130,2)/10),0)","v":0},{"$f":"INT(RIGHT($X130,1)/1)","v":4},{"$f":"INT(RIGHT($AC130,1))","v":2},{"$f":"INT(RIGHT($AC130,2)/10)","v":3},{"$f":"INT(RIGHT($AC130,3)/100)","v":0},{"$f":"INT(RIGHT($AC130,4)/1000)","v":0},{"$f":"INT(RIGHT($AC130,5)/10000)","v":0},{"$f":"INT(RIGHT($AC130,6)/100000)","v":0},{"$f":"((Q130*100000)+(R130*10000)+(S130*1000)+(T130*100)+(U130*10)+V130)","v":230000},{"$f":"C$3+INT(RAND()*(C$4-C$3+1))","v":371333576304},{"$f":"LEN(X130)","v":12},{"$f":"INT(RAND()*(Y130-C$5))+C$5","v":7},{"$f":"Z130-C$5","v":5},null,{"$f":"INT(RAND()*(POWER(10,$C$7))+1)","v":32},{"$f":"LEN(AC130)","v":2},{"$f":"INT(RAND()*(AD130-H$5))+H$5","v":1},{"$f":"AE130-H$5","v":1},{"$f":"(Q130*10^Q$6)+(R130*10^R$6)+(S130*10^S$6)+(T130*10^T$6)+(U130*10^U$6)+(V130*10^V$6)","v":0.23}]
[25,{"$f":"convnumberletter(C131)","v":"trois cent soixante et onze milliards trois cents millions cinq cent soixante-seize mille trois cent quatre"},{"$f":"(E132*10^E$7)+(F132*10^F$7)+(G132*10^G$7)+(H132*10^H$7)+(I132*10^I$7)+(J132*10^J$7)+(K132*10^K$7)+(L132*10^L$7)+(M132*10^M$7)+(N132*10^N$7)+(O132*10^O$7)+(P132*10^P$7)","v":371300576304},null,{"$f":"IF(Z130=12,TRUE,FALSE)","v":false},{"$f":"IF(Z130=11,TRUE,FALSE)","v":false},{"$f":"IF(Z130=10,TRUE,FALSE)","v":false},{"$f":"IF(Z130=9,TRUE,FALSE)","v":false},{"$f":"IF(Z130=8,TRUE,FALSE)","v":false},{"$f":"IF(Z130=7,TRUE,FALSE)","v":true},{"$f":"IF(Z130=6,TRUE,FALSE)","v":false},{"$f":"IF(Z130=5,TRUE,FALSE)","v":false},{"$f":"IF(Z130=4,TRUE,FALSE)","v":false},{"$f":"IF(Z130=3,TRUE,FALSE)","v":false},{"$f":"IF(Z130=2,TRUE,FALSE)","v":false},{"$f":"IF(Z130=1,TRUE,FALSE)","v":false},{"$f":"IF(AND(Q130=0,R131=FALSE),FALSE,TRUE)","v":true},{"$f":"IF(AND(R130=0,S131=FALSE),FALSE,TRUE)","v":true},{"$f":"IF(AND(S130=0,T131=FALSE),FALSE,TRUE)","v":false},{"$f":"IF(AND(T130=0,U131=FALSE),FALSE,TRUE)","v":false},{"$f":"IF(AND(U130=0,V131=FALSE),FALSE,TRUE)","v":false},{"$f":"IF(V130=0,FALSE,TRUE)","v":false},{"$f":"W130/(1000000/W132)","v":23}]
[null,{"$f":"convnumberletter(C132)","v":"vingt-trois"},{"$f":"W131","v":23},null,{"$f":"IF(AND(E$7-1<$Z130,E$7-1>=$AA130),0,E130)","v":3},7,1,3,0,0,5,7,{"$f":"IF(AND(M$7-1<$Z130,M$7-1>=$AA130),0,M130)","v":6},{"$f":"IF(AND(N$7-1<$Z130,N$7-1>=$AA130),0,N130)","v":3},{"$f":"IF(AND(O$7-1<$Z130,O$7-1>=$AA130),0,O130)","v":0},{"$f":"IF(AND(P$7-1<$Z130,P$7-1>=$AA130),0,P130)","v":4},{"$f":"IF(Q131=FALSE,\"\",Q130)","v":2},3,"","","","",{"$f":"SUM(Q133:V133)","v":100}]
[null,{"$f":"IF(C132>1,CONCATENATE(HLOOKUP(C133,$Q$7:$V$9,3,TRUE),\"s\"),HLOOKUP(C133,$Q$7:$V$9,3,TRUE))","v":"centièmes"},{"$f":"W132","v":100},null,null,null,null,null,null,null,null,null,null,null,null,null,{"$f":"IF(AND(R132=\"\",Q132<>\"\"),Q$7,0)","v":0},{"$f":"IF(AND(S132=\"\",R132<>\"\"),R$7,0)","v":100},{"$f":"IF(AND(T132=\"\",S132<>\"\"),S$7,0)","v":0},{"$f":"IF(AND(U132=\"\",T132<>\"\"),T$7,0)","v":0},{"$f":"IF(AND(V132=\"\",U132<>\"\"),U$7,0)","v":0},{"$f":"IF(AND(W133=\"\",V132<>\"\"),V$7,0)","v":0}]
[null,{"$f":"IF($C$8=\"virgule\",CONCATENATE(B131,\" virgule \",B132),CONCATENATE(B131,\"  et \",B132,\" \",B133))","v":"trois cent soixante et onze milliards trois cents millions cinq cent soixante-seize mille trois cent quatre virgule vingt-trois"}]
[null,null,null,null,{"$f":"IF(X135>100000000000,INT(RIGHT($X135,12)/100000000000),0)","v":9},{"$f":"IF(X135>10000000000,INT(RIGHT($X135,11)/10000000000),0)","v":0},{"$f":"IF(X135>1000000000,INT(RIGHT($X135,10)/1000000000),0)","v":2},{"$f":"IF(X135>100000000,INT(RIGHT($X135,9)/100000000),0)","v":7},{"$f":"IF(X135>10000000,INT(RIGHT($X135,8)/10000000),0)","v":2},{"$f":"IF(X135>1000000,INT(RIGHT($X135,7)/1000000),0)","v":3},{"$f":"IF(X135>100000,INT(RIGHT($X135,6)/100000),0)","v":5},{"$f":"IF(X135>10000,INT(RIGHT($X135,5)/10000),0)","v":8},{"$f":"IF(X135>1000,INT(RIGHT($X135,4)/1000),0)","v":5},{"$f":"IF(X135>100,INT(RIGHT($X135,3)/100),0)","v":1},{"$f":"IF(X135>10,INT(RIGHT($X135,2)/10),0)","v":6},{"$f":"INT(RIGHT($X135,1)/1)","v":5},{"$f":"INT(RIGHT($AC135,1))","v":6},{"$f":"INT(RIGHT($AC135,2)/10)","v":7},{"$f":"INT(RIGHT($AC135,3)/100)","v":0},{"$f":"INT(RIGHT($AC135,4)/1000)","v":0},{"$f":"INT(RIGHT($AC135,5)/10000)","v":0},{"$f":"INT(RIGHT($AC135,6)/100000)","v":0},{"$f":"((Q135*100000)+(R135*10000)+(S135*1000)+(T135*100)+(U135*10)+V135)","v":670000},{"$f":"C$3+INT(RAND()*(C$4-C$3+1))","v":902723585165},{"$f":"LEN(X135)","v":12},{"$f":"INT(RAND()*(Y135-C$5))+C$5","v":5},{"$f":"Z135-C$5","v":3},null,{"$f":"INT(RAND()*(POWER(10,$C$7))+1)","v":76},{"$f":"LEN(AC135)","v":2},{"$f":"INT(RAND()*(AD135-H$5))+H$5","v":1},{"$f":"AE135-H$5","v":1},{"$f":"(Q135*10^Q$6)+(R135*10^R$6)+(S135*10^S$6)+(T135*10^T$6)+(U135*10^U$6)+(V135*10^V$6)","v":0.67000000000000015}]
[26,{"$f":"convnumberletter(C136)","v":"neuf cent deux milliards sept cent vingt-trois millions cinq mille cent soixante-cinq"},{"$f":"(E137*10^E$7)+(F137*10^F$7)+(G137*10^G$7)+(H137*10^H$7)+(I137*10^I$7)+(J137*10^J$7)+(K137*10^K$7)+(L137*10^L$7)+(M137*10^M$7)+(N137*10^N$7)+(O137*10^O$7)+(P137*10^P$7)","v":902723005165},null,{"$f":"IF(Z135=12,TRUE,FALSE)","v":false},{"$f":"IF(Z135=11,TRUE,FALSE)","v":false},{"$f":"IF(Z135=10,TRUE,FALSE)","v":false},{"$f":"IF(Z135=9,TRUE,FALSE)","v":false},{"$f":"IF(Z135=8,TRUE,FALSE)","v":false},{"$f":"IF(Z135=7,TRUE,FALSE)","v":false},{"$f":"IF(Z135=6,TRUE,FALSE)","v":false},{"$f":"IF(Z135=5,TRUE,FALSE)","v":true},{"$f":"IF(Z135=4,TRUE,FALSE)","v":false},{"$f":"IF(Z135=3,TRUE,FALSE)","v":false},{"$f":"IF(Z135=2,TRUE,FALSE)","v":false},{"$f":"IF(Z135=1,TRUE,FALSE)","v":false},{"$f":"IF(AND(Q135=0,R136=FALSE),FALSE,TRUE)","v":true},{"$f":"IF(AND(R135=0,S136=FALSE),FALSE,TRUE)","v":true},{"$f":"IF(AND(S135=0,T136=FALSE),FALSE,TRUE)","v":false},{"$f":"IF(AND(T135=0,U136=FALSE),FALSE,TRUE)","v":false},{"$f":"IF(AND(U135=0,V136=FALSE),FALSE,TRUE)","v":false},{"$f":"IF(V135=0,FALSE,TRUE)","v":false},{"$f":"W135/(1000000/W137)","v":67}]
[null,{"$f":"convnumberletter(C137)","v":"soixante-sept"},{"$f":"W136","v":67},null,{"$f":"IF(AND(E$7-1<$Z135,E$7-1>=$AA135),0,E135)","v":9},0,2,7,2,3,0,0,{"$f":"IF(AND(M$7-1<$Z135,M$7-1>=$AA135),0,M135)","v":5},{"$f":"IF(AND(N$7-1<$Z135,N$7-1>=$AA135),0,N135)","v":1},{"$f":"IF(AND(O$7-1<$Z135,O$7-1>=$AA135),0,O135)","v":6},{"$f":"IF(AND(P$7-1<$Z135,P$7-1>=$AA135),0,P135)","v":5},{"$f":"IF(Q136=FALSE,\"\",Q135)","v":6},7,"","","","",{"$f":"SUM(Q138:V138)","v":100}]
[null,{"$f":"IF(C137>1,CONCATENATE(HLOOKUP(C138,$Q$7:$V$9,3,TRUE),\"s\"),HLOOKUP(C138,$Q$7:$V$9,3,TRUE))","v":"centièmes"},{"$f":"W137","v":100},null,null,null,null,null,null,null,null,null,null,null,null,null,{"$f":"IF(AND(R137=\"\",Q137<>\"\"),Q$7,0)","v":0},{"$f":"IF(AND(S137=\"\",R137<>\"\"),R$7,0)","v":100},{"$f":"IF(AND(T137=\"\",S137<>\"\"),S$7,0)","v":0},{"$f":"IF(AND(U137=\"\",T137<>\"\"),T$7,0)","v":0},{"$f":"IF(AND(V137=\"\",U137<>\"\"),U$7,0)","v":0},{"$f":"IF(AND(W138=\"\",V137<>\"\"),V$7,0)","v":0}]
[null,{"$f":"IF($C$8=\"virgule\",CONCATENATE(B136,\" virgule \",B137),CONCATENATE(B136,\"  et \",B137,\" \",B138))","v":"neuf cent deux milliards sept cent vingt-trois millions cinq mille cent soixante-cinq virgule soixante-sept"}]
[null,null,null,null,{"$f":"IF(X140>100000000000,INT(RIGHT($X140,12)/100000000000),0)","v":3},{"$f":"IF(X140>10000000000,INT(RIGHT($X140,11)/10000000000),0)","v":9},{"$f":"IF(X140>1000000000,INT(RIGHT($X140,10)/1000000000),0)","v":4},{"$f":"IF(X140>100000000,INT(RIGHT($X140,9)/100000000),0)","v":8},{"$f":"IF(X140>10000000,INT(RIGHT($X140,8)/10000000),0)","v":0},{"$f":"IF(X140>1000000,INT(RIGHT($X140,7)/1000000),0)","v":1},{"$f":"IF(X140>100000,INT(RIGHT($X140,6)/100000),0)","v":0},{"$f":"IF(X140>10000,INT(RIGHT($X140,5)/10000),0)","v":3},{"$f":"IF(X140>1000,INT(RIGHT($X140,4)/1000),0)","v":9},{"$f":"IF(X140>100,INT(RIGHT($X140,3)/100),0)","v":2},{"$f":"IF(X140>10,INT(RIGHT($X140,2)/10),0)","v":1},{"$f":"INT(RIGHT($X140,1)/1)","v":3},{"$f":"INT(RIGHT($AC140,1))","v":7},{"$f":"INT(RIGHT($AC140,2)/10)","v":3},{"$f":"INT(RIGHT($AC140,3)/100)","v":0},{"$f":"INT(RIGHT($AC140,4)/1000)","v":0},{"$f":"INT(RIGHT($AC140,5)/10000)","v":0},{"$f":"INT(RIGHT($AC140,6)/100000)","v":0},{"$f":"((Q140*100000)+(R140*10000)+(S140*1000)+(T140*100)+(U140*10)+V140)","v":730000},{"$f":"C$3+INT(RAND()*(C$4-C$3+1))","v":394801039213},{"$f":"LEN(X140)","v":12},{"$f":"INT(RAND()*(Y140-C$5))+C$5","v":3},{"$f":"Z140-C$5","v":1},null,{"$f":"INT(RAND()*(POWER(10,$C$7))+1)","v":37},{"$f":"LEN(AC140)","v":2},{"$f":"INT(RAND()*(AD140-H$5))+H$5","v":1},{"$f":"AE140-H$5","v":1},{"$f":"(Q140*10^Q$6)+(R140*10^R$6)+(S140*10^S$6)+(T140*10^T$6)+(U140*10^U$6)+(V140*10^V$6)","v":0.73000000000000009}]
[27,{"$f":"convnumberletter(C141)","v":"trois cent quatre-vingt-quatorze milliards huit cent un millions trente mille treize"},{"$f":"(E142*10^E$7)+(F142*10^F$7)+(G142*10^G$7)+(H142*10^H$7)+(I142*10^I$7)+(J142*10^J$7)+(K142*10^K$7)+(L142*10^L$7)+(M142*10^M$7)+(N142*10^N$7)+(O142*10^O$7)+(P142*10^P$7)","v":394801030013},null,{"$f":"IF(Z140=12,TRUE,FALSE)","v":false},{"$f":"IF(Z140=11,TRUE,FALSE)","v":false},{"$f":"IF(Z140=10,TRUE,FALSE)","v":false},{"$f":"IF(Z140=9,TRUE,FALSE)","v":false},{"$f":"IF(Z140=8,TRUE,FALSE)","v":false},{"$f":"IF(Z140=7,TRUE,FALSE)","v":false},{"$f":"IF(Z140=6,TRUE,FALSE)","v":false},{"$f":"IF(Z140=5,TRUE,FALSE)","v":false},{"$f":"IF(Z140=4,TRUE,FALSE)","v":false},{"$f":"IF(Z140=3,TRUE,FALSE)","v":true},{"$f":"IF(Z140=2,TRUE,FALSE)","v":false},{"$f":"IF(Z140=1,TRUE,FALSE)","v":false},{"$f":"IF(AND(Q140=0,R141=FALSE),FALSE,TRUE)","v":true},{"$f":"IF(AND(R140=0,S141=FALSE),FALSE,TRUE)","v":true},{"$f":"IF(AND(S140=0,T141=FALSE),FALSE,TRUE)","v":false},{"$f":"IF(AND(T140=0,U141=FALSE),FALSE,TRUE)","v":false},{"$f":"IF(AND(U140=0,V141=FALSE),FALSE,TRUE)","v":false},{"$f":"IF(V140=0,FALSE,TRUE)","v":false},{"$f":"W140/(1000000/W142)","v":73}]
[null,{"$f":"convnumberletter(C142)","v":"soixante-treize"},{"$f":"W141","v":73},null,{"$f":"IF(AND(E$7-1<$Z140,E$7-1>=$AA140),0,E140)","v":3},9,4,8,0,1,0,3,{"$f":"IF(AND(M$7-1<$Z140,M$7-1>=$AA140),0,M140)","v":0},{"$f":"IF(AND(N$7-1<$Z140,N$7-1>=$AA140),0,N140)","v":0},{"$f":"IF(AND(O$7-1<$Z140,O$7-1>=$AA140),0,O140)","v":1},{"$f":"IF(AND(P$7-1<$Z140,P$7-1>=$AA140),0,P140)","v":3},{"$f":"IF(Q141=FALSE,\"\",Q140)","v":7},3,"","","","",{"$f":"SUM(Q143:V143)","v":100}]
[null,{"$f":"IF(C142>1,CONCATENATE(HLOOKUP(C143,$Q$7:$V$9,3,TRUE),\"s\"),HLOOKUP(C143,$Q$7:$V$9,3,TRUE))","v":"centièmes"},{"$f":"W142","v":100},null,null,null,null,null,null,null,null,null,null,null,null,null,{"$f":"IF(AND(R142=\"\",Q142<>\"\"),Q$7,0)","v":0},{"$f":"IF(AND(S142=\"\",R142<>\"\"),R$7,0)","v":100},{"$f":"IF(AND(T142=\"\",S142<>\"\"),S$7,0)","v":0},{"$f":"IF(AND(U142=\"\",T142<>\"\"),T$7,0)","v":0},{"$f":"IF(AND(V142=\"\",U142<>\"\"),U$7,0)","v":0},{"$f":"IF(AND(W143=\"\",V142<>\"\"),V$7,0)","v":0}]
[null,{"$f":"IF($C$8=\"virgule\",CONCATENATE(B141,\" virgule \",B142),CONCATENATE(B141,\"  et \",B142,\" \",B143))","v":"trois cent quatre-vingt-quatorze milliards huit cent un millions trente mille treize virgule soixante-treize"}]
[null,null,null,null,{"$f":"IF(X145>100000000000,INT(RIGHT($X145,12)/100000000000),0)","v":2},{"$f":"IF(X145>10000000000,INT(RIGHT($X145,11)/10000000000),0)","v":0},{"$f":"IF(X145>1000000000,INT(RIGHT($X145,10)/1000000000),0)","v":7},{"$f":"IF(X145>100000000,INT(RIGHT($X145,9)/100000000),0)","v":4},{"$f":"IF(X145>10000000,INT(RIGHT($X145,8)/10000000),0)","v":1},{"$f":"IF(X145>1000000,INT(RIGHT($X145,7)/1000000),0)","v":5},{"$f":"IF(X145>100000,INT(RIGHT($X145,6)/100000),0)","v":7},{"$f":"IF(X145>10000,INT(RIGHT($X145,5)/10000),0)","v":2},{"$f":"IF(X145>1000,INT(RIGHT($X145,4)/1000),0)","v":9},{"$f":"IF(X145>100,INT(RIGHT($X145,3)/100),0)","v":9},{"$f":"IF(X145>10,INT(RIGHT($X145,2)/10),0)","v":2},{"$f":"INT(RIGHT($X145,1)/1)","v":8},{"$f":"INT(RIGHT($AC145,1))","v":5},{"$f":"INT(RIGHT($AC145,2)/10)","v":2},{"$f":"INT(RIGHT($AC145,3)/100)","v":0},{"$f":"INT(RIGHT($AC145,4)/1000)","v":0},{"$f":"INT(RIGHT($AC145,5)/10000)","v":0},{"$f":"INT(RIGHT($AC145,6)/100000)","v":0},{"$f":"((Q145*100000)+(R145*10000)+(S145*1000)+(T145*100)+(U145*10)+V145)","v":520000},{"$f":"C$3+INT(RAND()*(C$4-C$3+1))","v":207415729928},{"$f":"LEN(X145)","v":12},{"$f":"INT(RAND()*(Y145-C$5))+C$5","v":3},{"$f":"Z145-C$5","v":1},null,{"$f":"INT(RAND()*(POWER(10,$C$7))+1)","v":25},{"$f":"LEN(AC145)","v":2},{"$f":"INT(RAND()*(AD145-H$5))+H$5","v":0},{"$f":"AE145-H$5","v":0},{"$f":"(Q145*10^Q$6)+(R145*10^R$6)+(S145*10^S$6)+(T145*10^T$6)+(U145*10^U$6)+(V145*10^V$6)","v":0.52}]
[28,{"$f":"convnumberletter(C146)","v":"deux cent sept milliards quatre cent quinze millions sept cent vingt mille vingt-huit"},{"$f":"(E147*10^E$7)+(F147*10^F$7)+(G147*10^G$7)+(H147*10^H$7)+(I147*10^I$7)+(J147*10^J$7)+(K147*10^K$7)+(L147*10^L$7)+(M147*10^M$7)+(N147*10^N$7)+(O147*10^O$7)+(P147*10^P$7)","v":207415720028},null,{"$f":"IF(Z145=12,TRUE,FALSE)","v":false},{"$f":"IF(Z145=11,TRUE,FALSE)","v":false},{"$f":"IF(Z145=10,TRUE,FALSE)","v":false},{"$f":"IF(Z145=9,TRUE,FALSE)","v":false},{"$f":"IF(Z145=8,TRUE,FALSE)","v":false},{"$f":"IF(Z145=7,TRUE,FALSE)","v":false},{"$f":"IF(Z145=6,TRUE,FALSE)","v":false},{"$f":"IF(Z145=5,TRUE,FALSE)","v":false},{"$f":"IF(Z145=4,TRUE,FALSE)","v":false},{"$f":"IF(Z145=3,TRUE,FALSE)","v":true},{"$f":"IF(Z145=2,TRUE,FALSE)","v":false},{"$f":"IF(Z145=1,TRUE,FALSE)","v":false},{"$f":"IF(AND(Q145=0,R146=FALSE),FALSE,TRUE)","v":true},{"$f":"IF(AND(R145=0,S146=FALSE),FALSE,TRUE)","v":true},{"$f":"IF(AND(S145=0,T146=FALSE),FALSE,TRUE)","v":false},{"$f":"IF(AND(T145=0,U146=FALSE),FALSE,TRUE)","v":false},{"$f":"IF(AND(U145=0,V146=FALSE),FALSE,TRUE)","v":false},{"$f":"IF(V145=0,FALSE,TRUE)","v":false},{"$f":"W145/(1000000/W147)","v":52}]
[null,{"$f":"convnumberletter(C147)","v":"cinquante-deux"},{"$f":"W146","v":52},null,{"$f":"IF(AND(E$7-1<$Z145,E$7-1>=$AA145),0,E145)","v":2},0,7,4,1,5,7,2,{"$f":"IF(AND(M$7-1<$Z145,M$7-1>=$AA145),0,M145)","v":0},{"$f":"IF(AND(N$7-1<$Z145,N$7-1>=$AA145),0,N145)","v":0},{"$f":"IF(AND(O$7-1<$Z145,O$7-1>=$AA145),0,O145)","v":2},{"$f":"IF(AND(P$7-1<$Z145,P$7-1>=$AA145),0,P145)","v":8},{"$f":"IF(Q146=FALSE,\"\",Q145)","v":5},2,"","","","",{"$f":"SUM(Q148:V148)","v":100}]
[null,{"$f":"IF(C147>1,CONCATENATE(HLOOKUP(C148,$Q$7:$V$9,3,TRUE),\"s\"),HLOOKUP(C148,$Q$7:$V$9,3,TRUE))","v":"centièmes"},{"$f":"W147","v":100},null,null,null,null,null,null,null,null,null,null,null,null,null,{"$f":"IF(AND(R147=\"\",Q147<>\"\"),Q$7,0)","v":0},{"$f":"IF(AND(S147=\"\",R147<>\"\"),R$7,0)","v":100},{"$f":"IF(AND(T147=\"\",S147<>\"\"),S$7,0)","v":0},{"$f":"IF(AND(U147=\"\",T147<>\"\"),T$7,0)","v":0},{"$f":"IF(AND(V147=\"\",U147<>\"\"),U$7,0)","v":0},{"$f":"IF(AND(W148=\"\",V147<>\"\"),V$7,0)","v":0}]
[null,{"$f":"IF($C$8=\"virgule\",CONCATENATE(B146,\" virgule \",B147),CONCATENATE(B146,\"  et \",B147,\" \",B148))","v":"deux cent sept milliards quatre cent quinze millions sept cent vingt mille vingt-huit virgule cinquante-deux"}]
[null,null,null,null,{"$f":"IF(X150>100000000000,INT(RIGHT($X150,12)/100000000000),0)","v":7},{"$f":"IF(X150>10000000000,INT(RIGHT($X150,11)/10000000000),0)","v":1},{"$f":"IF(X150>1000000000,INT(RIGHT($X150,10)/1000000000),0)","v":8},{"$f":"IF(X150>100000000,INT(RIGHT($X150,9)/100000000),0)","v":0},{"$f":"IF(X150>10000000,INT(RIGHT($X150,8)/10000000),0)","v":8},{"$f":"IF(X150>1000000,INT(RIGHT($X150,7)/1000000),0)","v":2},{"$f":"IF(X150>100000,INT(RIGHT($X150,6)/100000),0)","v":9},{"$f":"IF(X150>10000,INT(RIGHT($X150,5)/10000),0)","v":6},{"$f":"IF(X150>1000,INT(RIGHT($X150,4)/1000),0)","v":9},{"$f":"IF(X150>100,INT(RIGHT($X150,3)/100),0)","v":4},{"$f":"IF(X150>10,INT(RIGHT($X150,2)/10),0)","v":0},{"$f":"INT(RIGHT($X150,1)/1)","v":4},{"$f":"INT(RIGHT($AC150,1))","v":9},{"$f":"INT(RIGHT($AC150,2)/10)","v":6},{"$f":"INT(RIGHT($AC150,3)/100)","v":0},{"$f":"INT(RIGHT($AC150,4)/1000)","v":0},{"$f":"INT(RIGHT($AC150,5)/10000)","v":0},{"$f":"INT(RIGHT($AC150,6)/100000)","v":0},{"$f":"((Q150*100000)+(R150*10000)+(S150*1000)+(T150*100)+(U150*10)+V150)","v":960000},{"$f":"C$3+INT(RAND()*(C$4-C$3+1))","v":718082969404},{"$f":"LEN(X150)","v":12},{"$f":"INT(RAND()*(Y150-C$5))+C$5","v":2},{"$f":"Z150-C$5","v":0},null,{"$f":"INT(RAND()*(POWER(10,$C$7))+1)","v":69},{"$f":"LEN(AC150)","v":2},{"$f":"INT(RAND()*(AD150-H$5))+H$5","v":1},{"$f":"AE150-H$5","v":1},{"$f":"(Q150*10^Q$6)+(R150*10^R$6)+(S150*10^S$6)+(T150*10^T$6)+(U150*10^U$6)+(V150*10^V$6)","v":0.96}]
[29,{"$f":"convnumberletter(C151)","v":"sept cent dix-huit milliards quatre-vingt-deux millions neuf cent soixante-neuf mille quatre"},{"$f":"(E152*10^E$7)+(F152*10^F$7)+(G152*10^G$7)+(H152*10^H$7)+(I152*10^I$7)+(J152*10^J$7)+(K152*10^K$7)+(L152*10^L$7)+(M152*10^M$7)+(N152*10^N$7)+(O152*10^O$7)+(P152*10^P$7)","v":718082969004},null,{"$f":"IF(Z150=12,TRUE,FALSE)","v":false},{"$f":"IF(Z150=11,TRUE,FALSE)","v":false},{"$f":"IF(Z150=10,TRUE,FALSE)","v":false},{"$f":"IF(Z150=9,TRUE,FALSE)","v":false},{"$f":"IF(Z150=8,TRUE,FALSE)","v":false},{"$f":"IF(Z150=7,TRUE,FALSE)","v":false},{"$f":"IF(Z150=6,TRUE,FALSE)","v":false},{"$f":"IF(Z150=5,TRUE,FALSE)","v":false},{"$f":"IF(Z150=4,TRUE,FALSE)","v":false},{"$f":"IF(Z150=3,TRUE,FALSE)","v":false},{"$f":"IF(Z150=2,TRUE,FALSE)","v":true},{"$f":"IF(Z150=1,TRUE,FALSE)","v":false},{"$f":"IF(AND(Q150=0,R151=FALSE),FALSE,TRUE)","v":true},{"$f":"IF(AND(R150=0,S151=FALSE),FALSE,TRUE)","v":true},{"$f":"IF(AND(S150=0,T151=FALSE),FALSE,TRUE)","v":false},{"$f":"IF(AND(T150=0,U151=FALSE),FALSE,TRUE)","v":false},{"$f":"IF(AND(U150=0,V151=FALSE),FALSE,TRUE)","v":false},{"$f":"IF(V150=0,FALSE,TRUE)","v":false},{"$f":"W150/(1000000/W152)","v":96}]
[null,{"$f":"convnumberletter(C152)","v":"quatre-vingt-seize"},{"$f":"W151","v":96},null,{"$f":"IF(AND(E$7-1<$Z150,E$7-1>=$AA150),0,E150)","v":7},1,8,0,8,2,9,6,{"$f":"IF(AND(M$7-1<$Z150,M$7-1>=$AA150),0,M150)","v":9},{"$f":"IF(AND(N$7-1<$Z150,N$7-1>=$AA150),0,N150)","v":0},{"$f":"IF(AND(O$7-1<$Z150,O$7-1>=$AA150),0,O150)","v":0},{"$f":"IF(AND(P$7-1<$Z150,P$7-1>=$AA150),0,P150)","v":4},{"$f":"IF(Q151=FALSE,\"\",Q150)","v":9},6,"","","","",{"$f":"SUM(Q153:V153)","v":100}]
[null,{"$f":"IF(C152>1,CONCATENATE(HLOOKUP(C153,$Q$7:$V$9,3,TRUE),\"s\"),HLOOKUP(C153,$Q$7:$V$9,3,TRUE))","v":"centièmes"},{"$f":"W152","v":100},null,null,null,null,null,null,null,null,null,null,null,null,null,{"$f":"IF(AND(R152=\"\",Q152<>\"\"),Q$7,0)","v":0},{"$f":"IF(AND(S152=\"\",R152<>\"\"),R$7,0)","v":100},{"$f":"IF(AND(T152=\"\",S152<>\"\"),S$7,0)","v":0},{"$f":"IF(AND(U152=\"\",T152<>\"\"),T$7,0)","v":0},{"$f":"IF(AND(V152=\"\",U152<>\"\"),U$7,0)","v":0},{"$f":"IF(AND(W153=\"\",V152<>\"\"),V$7,0)","v":0}]
[null,{"$f":"IF($C$8=\"virgule\",CONCATENATE(B151,\" virgule \",B152),CONCATENATE(B151,\"  et \",B152,\" \",B153))","v":"sept cent dix-huit milliards quatre-vingt-deux millions neuf cent soixante-neuf mille quatre virgule quatre-vingt-seize"}]
[null,null,null,null,{"$f":"IF(X155>100000000000,INT(RIGHT($X155,12)/100000000000),0)","v":8},{"$f":"IF(X155>10000000000,INT(RIGHT($X155,11)/10000000000),0)","v":8},{"$f":"IF(X155>1000000000,INT(RIGHT($X155,10)/1000000000),0)","v":5},{"$f":"IF(X155>100000000,INT(RIGHT($X155,9)/100000000),0)","v":5},{"$f":"IF(X155>10000000,INT(RIGHT($X155,8)/10000000),0)","v":9},{"$f":"IF(X155>1000000,INT(RIGHT($X155,7)/1000000),0)","v":3},{"$f":"IF(X155>100000,INT(RIGHT($X155,6)/100000),0)","v":2},{"$f":"IF(X155>10000,INT(RIGHT($X155,5)/10000),0)","v":3},{"$f":"IF(X155>1000,INT(RIGHT($X155,4)/1000),0)","v":6},{"$f":"IF(X155>100,INT(RIGHT($X155,3)/100),0)","v":4},{"$f":"IF(X155>10,INT(RIGHT($X155,2)/10),0)","v":6},{"$f":"INT(RIGHT($X155,1)/1)","v":3},{"$f":"INT(RIGHT($AC155,1))","v":9},{"$f":"INT(RIGHT($AC155,2)/10)","v":9},{"$f":"INT(RIGHT($AC155,3)/100)","v":0},{"$f":"INT(RIGHT($AC155,4)/1000)","v":0},{"$f":"INT(RIGHT($AC155,5)/10000)","v":0},{"$f":"INT(RIGHT($AC155,6)/100000)","v":0},{"$f":"((Q155*100000)+(R155*10000)+(S155*1000)+(T155*100)+(U155*10)+V155)","v":990000},{"$f":"C$3+INT(RAND()*(C$4-C$3+1))","v":885593236463},{"$f":"LEN(X155)","v":12},{"$f":"INT(RAND()*(Y155-C$5))+C$5","v":2},{"$f":"Z155-C$5","v":0},null,{"$f":"INT(RAND()*(POWER(10,$C$7))+1)","v":99},{"$f":"LEN(AC155)","v":2},{"$f":"INT(RAND()*(AD155-H$5))+H$5","v":0},{"$f":"AE155-H$5","v":0},{"$f":"(Q155*10^Q$6)+(R155*10^R$6)+(S155*10^S$6)+(T155*10^T$6)+(U155*10^U$6)+(V155*10^V$6)","v":0.99}]
[30,{"$f":"convnumberletter(C156)","v":"huit cent quatre-vingt-cinq milliards cinq cent quatre-vingt-treize millions deux cent trente-six mille trois"},{"$f":"(E157*10^E$7)+(F157*10^F$7)+(G157*10^G$7)+(H157*10^H$7)+(I157*10^I$7)+(J157*10^J$7)+(K157*10^K$7)+(L157*10^L$7)+(M157*10^M$7)+(N157*10^N$7)+(O157*10^O$7)+(P157*10^P$7)","v":885593236003},null,{"$f":"IF(Z155=12,TRUE,FALSE)","v":false},{"$f":"IF(Z155=11,TRUE,FALSE)","v":false},{"$f":"IF(Z155=10,TRUE,FALSE)","v":false},{"$f":"IF(Z155=9,TRUE,FALSE)","v":false},{"$f":"IF(Z155=8,TRUE,FALSE)","v":false},{"$f":"IF(Z155=7,TRUE,FALSE)","v":false},{"$f":"IF(Z155=6,TRUE,FALSE)","v":false},{"$f":"IF(Z155=5,TRUE,FALSE)","v":false},{"$f":"IF(Z155=4,TRUE,FALSE)","v":false},{"$f":"IF(Z155=3,TRUE,FALSE)","v":false},{"$f":"IF(Z155=2,TRUE,FALSE)","v":true},{"$f":"IF(Z155=1,TRUE,FALSE)","v":false},{"$f":"IF(AND(Q155=0,R156=FALSE),FALSE,TRUE)","v":true},{"$f":"IF(AND(R155=0,S156=FALSE),FALSE,TRUE)","v":true},{"$f":"IF(AND(S155=0,T156=FALSE),FALSE,TRUE)","v":false},{"$f":"IF(AND(T155=0,U156=FALSE),FALSE,TRUE)","v":false},{"$f":"IF(AND(U155=0,V156=FALSE),FALSE,TRUE)","v":false},{"$f":"IF(V155=0,FALSE,TRUE)","v":false},{"$f":"W155/(1000000/W157)","v":99}]
[null,{"$f":"convnumberletter(C157)","v":"quatre-vingt-dix-neuf"},{"$f":"W156","v":99},null,{"$f":"IF(AND(E$7-1<$Z155,E$7-1>=$AA155),0,E155)","v":8},8,5,5,9,3,2,3,{"$f":"IF(AND(M$7-1<$Z155,M$7-1>=$AA155),0,M155)","v":6},{"$f":"IF(AND(N$7-1<$Z155,N$7-1>=$AA155),0,N155)","v":0},{"$f":"IF(AND(O$7-1<$Z155,O$7-1>=$AA155),0,O155)","v":0},{"$f":"IF(AND(P$7-1<$Z155,P$7-1>=$AA155),0,P155)","v":3},{"$f":"IF(Q156=FALSE,\"\",Q155)","v":9},9,"","","","",{"$f":"SUM(Q158:V158)","v":100}]
[null,{"$f":"IF(C157>1,CONCATENATE(HLOOKUP(C158,$Q$7:$V$9,3,TRUE),\"s\"),HLOOKUP(C158,$Q$7:$V$9,3,TRUE))","v":"centièmes"},{"$f":"W157","v":100},null,null,null,null,null,null,null,null,null,null,null,null,null,{"$f":"IF(AND(R157=\"\",Q157<>\"\"),Q$7,0)","v":0},{"$f":"IF(AND(S157=\"\",R157<>\"\"),R$7,0)","v":100},{"$f":"IF(AND(T157=\"\",S157<>\"\"),S$7,0)","v":0},{"$f":"IF(AND(U157=\"\",T157<>\"\"),T$7,0)","v":0},{"$f":"IF(AND(V157=\"\",U157<>\"\"),U$7,0)","v":0},{"$f":"IF(AND(W158=\"\",V157<>\"\"),V$7,0)","v":0}]
[null,{"$f":"IF($C$8=\"virgule\",CONCATENATE(B156,\" virgule \",B157),CONCATENATE(B156,\"  et \",B157,\" \",B158))","v":"huit cent quatre-vingt-cinq milliards cinq cent quatre-vingt-treize millions deux cent trente-six mille trois virgule quatre-vingt-dix-neuf"}]
[null,null,null,null,{"$f":"IF(X160>100000000000,INT(RIGHT($X160,12)/100000000000),0)","v":1},{"$f":"IF(X160>10000000000,INT(RIGHT($X160,11)/10000000000),0)","v":3},{"$f":"IF(X160>1000000000,INT(RIGHT($X160,10)/1000000000),0)","v":4},{"$f":"IF(X160>100000000,INT(RIGHT($X160,9)/100000000),0)","v":0},{"$f":"IF(X160>10000000,INT(RIGHT($X160,8)/10000000),0)","v":4},{"$f":"IF(X160>1000000,INT(RIGHT($X160,7)/1000000),0)","v":6},{"$f":"IF(X160>100000,INT(RIGHT($X160,6)/100000),0)","v":1},{"$f":"IF(X160>10000,INT(RIGHT($X160,5)/10000),0)","v":0},{"$f":"IF(X160>1000,INT(RIGHT($X160,4)/1000),0)","v":6},{"$f":"IF(X160>100,INT(RIGHT($X160,3)/100),0)","v":7},{"$f":"IF(X160>10,INT(RIGHT($X160,2)/10),0)","v":3},{"$f":"INT(RIGHT($X160,1)/1)","v":2},{"$f":"INT(RIGHT($AC160,1))","v":7},{"$f":"INT(RIGHT($AC160,2)/10)","v":4},{"$f":"INT(RIGHT($AC160,3)/100)","v":0},{"$f":"INT(RIGHT($AC160,4)/1000)","v":0},{"$f":"INT(RIGHT($AC160,5)/10000)","v":0},{"$f":"INT(RIGHT($AC160,6)/100000)","v":0},{"$f":"((Q160*100000)+(R160*10000)+(S160*1000)+(T160*100)+(U160*10)+V160)","v":740000},{"$f":"C$3+INT(RAND()*(C$4-C$3+1))","v":134046106732},{"$f":"LEN(X160)","v":12},{"$f":"INT(RAND()*(Y160-C$5))+C$5","v":8},{"$f":"Z160-C$5","v":6},null,{"$f":"INT(RAND()*(POWER(10,$C$7))+1)","v":47},{"$f":"LEN(AC160)","v":2},{"$f":"INT(RAND()*(AD160-H$5))+H$5","v":0},{"$f":"AE160-H$5","v":0},{"$f":"(Q160*10^Q$6)+(R160*10^R$6)+(S160*10^S$6)+(T160*10^T$6)+(U160*10^U$6)+(V160*10^V$6)","v":0.7400000000000001}]
[31,{"$f":"convnumberletter(C161)","v":"cent trente-quatre milliards six millions cent six mille sept cent trente-deux"},{"$f":"(E162*10^E$7)+(F162*10^F$7)+(G162*10^G$7)+(H162*10^H$7)+(I162*10^I$7)+(J162*10^J$7)+(K162*10^K$7)+(L162*10^L$7)+(M162*10^M$7)+(N162*10^N$7)+(O162*10^O$7)+(P162*10^P$7)","v":134006106732},null,{"$f":"IF(Z160=12,TRUE,FALSE)","v":false},{"$f":"IF(Z160=11,TRUE,FALSE)","v":false},{"$f":"IF(Z160=10,TRUE,FALSE)","v":false},{"$f":"IF(Z160=9,TRUE,FALSE)","v":false},{"$f":"IF(Z160=8,TRUE,FALSE)","v":true},{"$f":"IF(Z160=7,TRUE,FALSE)","v":false},{"$f":"IF(Z160=6,TRUE,FALSE)","v":false},{"$f":"IF(Z160=5,TRUE,FALSE)","v":false},{"$f":"IF(Z160=4,TRUE,FALSE)","v":false},{"$f":"IF(Z160=3,TRUE,FALSE)","v":false},{"$f":"IF(Z160=2,TRUE,FALSE)","v":false},{"$f":"IF(Z160=1,TRUE,FALSE)","v":false},{"$f":"IF(AND(Q160=0,R161=FALSE),FALSE,TRUE)","v":true},{"$f":"IF(AND(R160=0,S161=FALSE),FALSE,TRUE)","v":true},{"$f":"IF(AND(S160=0,T161=FALSE),FALSE,TRUE)","v":false},{"$f":"IF(AND(T160=0,U161=FALSE),FALSE,TRUE)","v":false},{"$f":"IF(AND(U160=0,V161=FALSE),FALSE,TRUE)","v":false},{"$f":"IF(V160=0,FALSE,TRUE)","v":false},{"$f":"W160/(1000000/W162)","v":74}]
[null,{"$f":"convnumberletter(C162)","v":"soixante-quatorze"},{"$f":"W161","v":74},null,{"$f":"IF(AND(E$7-1<$Z160,E$7-1>=$AA160),0,E160)","v":1},3,4,0,0,6,1,0,{"$f":"IF(AND(M$7-1<$Z160,M$7-1>=$AA160),0,M160)","v":6},{"$f":"IF(AND(N$7-1<$Z160,N$7-1>=$AA160),0,N160)","v":7},{"$f":"IF(AND(O$7-1<$Z160,O$7-1>=$AA160),0,O160)","v":3},{"$f":"IF(AND(P$7-1<$Z160,P$7-1>=$AA160),0,P160)","v":2},{"$f":"IF(Q161=FALSE,\"\",Q160)","v":7},4,"","","","",{"$f":"SUM(Q163:V163)","v":100}]
[null,{"$f":"IF(C162>1,CONCATENATE(HLOOKUP(C163,$Q$7:$V$9,3,TRUE),\"s\"),HLOOKUP(C163,$Q$7:$V$9,3,TRUE))","v":"centièmes"},{"$f":"W162","v":100},null,null,null,null,null,null,null,null,null,null,null,null,null,{"$f":"IF(AND(R162=\"\",Q162<>\"\"),Q$7,0)","v":0},{"$f":"IF(AND(S162=\"\",R162<>\"\"),R$7,0)","v":100},{"$f":"IF(AND(T162=\"\",S162<>\"\"),S$7,0)","v":0},{"$f":"IF(AND(U162=\"\",T162<>\"\"),T$7,0)","v":0},{"$f":"IF(AND(V162=\"\",U162<>\"\"),U$7,0)","v":0},{"$f":"IF(AND(W163=\"\",V162<>\"\"),V$7,0)","v":0}]
[null,{"$f":"IF($C$8=\"virgule\",CONCATENATE(B161,\" virgule \",B162),CONCATENATE(B161,\"  et \",B162,\" \",B163))","v":"cent trente-quatre milliards six millions cent six mille sept cent trente-deux virgule soixante-quatorze"}]
[null,null,null,null,{"$f":"IF(X165>100000000000,INT(RIGHT($X165,12)/100000000000),0)","v":6},{"$f":"IF(X165>10000000000,INT(RIGHT($X165,11)/10000000000),0)","v":8},{"$f":"IF(X165>1000000000,INT(RIGHT($X165,10)/1000000000),0)","v":5},{"$f":"IF(X165>100000000,INT(RIGHT($X165,9)/100000000),0)","v":5},{"$f":"IF(X165>10000000,INT(RIGHT($X165,8)/10000000),0)","v":0},{"$f":"IF(X165>1000000,INT(RIGHT($X165,7)/1000000),0)","v":9},{"$f":"IF(X165>100000,INT(RIGHT($X165,6)/100000),0)","v":8},{"$f":"IF(X165>10000,INT(RIGHT($X165,5)/10000),0)","v":4},{"$f":"IF(X165>1000,INT(RIGHT($X165,4)/1000),0)","v":0},{"$f":"IF(X165>100,INT(RIGHT($X165,3)/100),0)","v":3},{"$f":"IF(X165>10,INT(RIGHT($X165,2)/10),0)","v":5},{"$f":"INT(RIGHT($X165,1)/1)","v":8},{"$f":"INT(RIGHT($AC165,1))","v":9},{"$f":"INT(RIGHT($AC165,2)/10)","v":0},{"$f":"INT(RIGHT($AC165,3)/100)","v":0},{"$f":"INT(RIGHT($AC165,4)/1000)","v":0},{"$f":"INT(RIGHT($AC165,5)/10000)","v":0},{"$f":"INT(RIGHT($AC165,6)/100000)","v":0},{"$f":"((Q165*100000)+(R165*10000)+(S165*1000)+(T165*100)+(U165*10)+V165)","v":900000},{"$f":"C$3+INT(RAND()*(C$4-C$3+1))","v":685509840358},{"$f":"LEN(X165)","v":12},{"$f":"INT(RAND()*(Y165-C$5))+C$5","v":7},{"$f":"Z165-C$5","v":5},null,{"$f":"INT(RAND()*(POWER(10,$C$7))+1)","v":9},{"$f":"LEN(AC165)","v":1},{"$f":"INT(RAND()*(AD165-H$5))+H$5","v":0},{"$f":"AE165-H$5","v":0},{"$f":"(Q165*10^Q$6)+(R165*10^R$6)+(S165*10^S$6)+(T165*10^T$6)+(U165*10^U$6)+(V165*10^V$6)","v":0.9}]
[32,{"$f":"convnumberletter(C166)","v":"six cent quatre-vingt-cinq milliards cinq cents millions huit cent quarante mille trois cent cinquante-huit"},{"$f":"(E167*10^E$7)+(F167*10^F$7)+(G167*10^G$7)+(H167*10^H$7)+(I167*10^I$7)+(J167*10^J$7)+(K167*10^K$7)+(L167*10^L$7)+(M167*10^M$7)+(N167*10^N$7)+(O167*10^O$7)+(P167*10^P$7)","v":685500840358},null,{"$f":"IF(Z165=12,TRUE,FALSE)","v":false},{"$f":"IF(Z165=11,TRUE,FALSE)","v":false},{"$f":"IF(Z165=10,TRUE,FALSE)","v":false},{"$f":"IF(Z165=9,TRUE,FALSE)","v":false},{"$f":"IF(Z165=8,TRUE,FALSE)","v":false},{"$f":"IF(Z165=7,TRUE,FALSE)","v":true},{"$f":"IF(Z165=6,TRUE,FALSE)","v":false},{"$f":"IF(Z165=5,TRUE,FALSE)","v":false},{"$f":"IF(Z165=4,TRUE,FALSE)","v":false},{"$f":"IF(Z165=3,TRUE,FALSE)","v":false},{"$f":"IF(Z165=2,TRUE,FALSE)","v":false},{"$f":"IF(Z165=1,TRUE,FALSE)","v":false},{"$f":"IF(AND(Q165=0,R166=FALSE),FALSE,TRUE)","v":true},{"$f":"IF(AND(R165=0,S166=FALSE),FALSE,TRUE)","v":false},{"$f":"IF(AND(S165=0,T166=FALSE),FALSE,TRUE)","v":false},{"$f":"IF(AND(T165=0,U166=FALSE),FALSE,TRUE)","v":false},{"$f":"IF(AND(U165=0,V166=FALSE),FALSE,TRUE)","v":false},{"$f":"IF(V165=0,FALSE,TRUE)","v":false},{"$f":"W165/(1000000/W167)","v":9}]
[null,{"$f":"convnumberletter(C167)","v":"neuf"},{"$f":"W166","v":9},null,{"$f":"IF(AND(E$7-1<$Z165,E$7-1>=$AA165),0,E165)","v":6},8,5,5,0,0,8,4,{"$f":"IF(AND(M$7-1<$Z165,M$7-1>=$AA165),0,M165)","v":0},{"$f":"IF(AND(N$7-1<$Z165,N$7-1>=$AA165),0,N165)","v":3},{"$f":"IF(AND(O$7-1<$Z165,O$7-1>=$AA165),0,O165)","v":5},{"$f":"IF(AND(P$7-1<$Z165,P$7-1>=$AA165),0,P165)","v":8},{"$f":"IF(Q166=FALSE,\"\",Q165)","v":9},"","","","","",{"$f":"SUM(Q168:V168)","v":10}]
[null,{"$f":"IF(C167>1,CONCATENATE(HLOOKUP(C168,$Q$7:$V$9,3,TRUE),\"s\"),HLOOKUP(C168,$Q$7:$V$9,3,TRUE))","v":"dixièmes"},{"$f":"W167","v":10},null,null,null,null,null,null,null,null,null,null,null,null,null,{"$f":"IF(AND(R167=\"\",Q167<>\"\"),Q$7,0)","v":10},{"$f":"IF(AND(S167=\"\",R167<>\"\"),R$7,0)","v":0},{"$f":"IF(AND(T167=\"\",S167<>\"\"),S$7,0)","v":0},{"$f":"IF(AND(U167=\"\",T167<>\"\"),T$7,0)","v":0},{"$f":"IF(AND(V167=\"\",U167<>\"\"),U$7,0)","v":0},{"$f":"IF(AND(W168=\"\",V167<>\"\"),V$7,0)","v":0}]
[null,{"$f":"IF($C$8=\"virgule\",CONCATENATE(B166,\" virgule \",B167),CONCATENATE(B166,\"  et \",B167,\" \",B168))","v":"six cent quatre-vingt-cinq milliards cinq cents millions huit cent quarante mille trois cent cinquante-huit virgule neuf"}]
[null,null,null,null,{"$f":"IF(X170>100000000000,INT(RIGHT($X170,12)/100000000000),0)","v":3},{"$f":"IF(X170>10000000000,INT(RIGHT($X170,11)/10000000000),0)","v":8},{"$f":"IF(X170>1000000000,INT(RIGHT($X170,10)/1000000000),0)","v":1},{"$f":"IF(X170>100000000,INT(RIGHT($X170,9)/100000000),0)","v":2},{"$f":"IF(X170>10000000,INT(RIGHT($X170,8)/10000000),0)","v":9},{"$f":"IF(X170>1000000,INT(RIGHT($X170,7)/1000000),0)","v":5},{"$f":"IF(X170>100000,INT(RIGHT($X170,6)/100000),0)","v":5},{"$f":"IF(X170>10000,INT(RIGHT($X170,5)/10000),0)","v":4},{"$f":"IF(X170>1000,INT(RIGHT($X170,4)/1000),0)","v":0},{"$f":"IF(X170>100,INT(RIGHT($X170,3)/100),0)","v":9},{"$f":"IF(X170>10,INT(RIGHT($X170,2)/10),0)","v":6},{"$f":"INT(RIGHT($X170,1)/1)","v":6},{"$f":"INT(RIGHT($AC170,1))","v":1},{"$f":"INT(RIGHT($AC170,2)/10)","v":6},{"$f":"INT(RIGHT($AC170,3)/100)","v":0},{"$f":"INT(RIGHT($AC170,4)/1000)","v":0},{"$f":"INT(RIGHT($AC170,5)/10000)","v":0},{"$f":"INT(RIGHT($AC170,6)/100000)","v":0},{"$f":"((Q170*100000)+(R170*10000)+(S170*1000)+(T170*100)+(U170*10)+V170)","v":160000},{"$f":"C$3+INT(RAND()*(C$4-C$3+1))","v":381295540966},{"$f":"LEN(X170)","v":12},{"$f":"INT(RAND()*(Y170-C$5))+C$5","v":3},{"$f":"Z170-C$5","v":1},null,{"$f":"INT(RAND()*(POWER(10,$C$7))+1)","v":61},{"$f":"LEN(AC170)","v":2},{"$f":"INT(RAND()*(AD170-H$5))+H$5","v":1},{"$f":"AE170-H$5","v":1},{"$f":"(Q170*10^Q$6)+(R170*10^R$6)+(S170*10^S$6)+(T170*10^T$6)+(U170*10^U$6)+(V170*10^V$6)","v":0.16}]
[33,{"$f":"convnumberletter(C171)","v":"trois cent quatre-vingt-un milliards deux cent quatre-vingt-quinze millions cinq cent quarante mille soixante-six"},{"$f":"(E172*10^E$7)+(F172*10^F$7)+(G172*10^G$7)+(H172*10^H$7)+(I172*10^I$7)+(J172*10^J$7)+(K172*10^K$7)+(L172*10^L$7)+(M172*10^M$7)+(N172*10^N$7)+(O172*10^O$7)+(P172*10^P$7)","v":381295540066},null,{"$f":"IF(Z170=12,TRUE,FALSE)","v":false},{"$f":"IF(Z170=11,TRUE,FALSE)","v":false},{"$f":"IF(Z170=10,TRUE,FALSE)","v":false},{"$f":"IF(Z170=9,TRUE,FALSE)","v":false},{"$f":"IF(Z170=8,TRUE,FALSE)","v":false},{"$f":"IF(Z170=7,TRUE,FALSE)","v":false},{"$f":"IF(Z170=6,TRUE,FALSE)","v":false},{"$f":"IF(Z170=5,TRUE,FALSE)","v":false},{"$f":"IF(Z170=4,TRUE,FALSE)","v":false},{"$f":"IF(Z170=3,TRUE,FALSE)","v":true},{"$f":"IF(Z170=2,TRUE,FALSE)","v":false},{"$f":"IF(Z170=1,TRUE,FALSE)","v":false},{"$f":"IF(AND(Q170=0,R171=FALSE),FALSE,TRUE)","v":true},{"$f":"IF(AND(R170=0,S171=FALSE),FALSE,TRUE)","v":true},{"$f":"IF(AND(S170=0,T171=FALSE),FALSE,TRUE)","v":false},{"$f":"IF(AND(T170=0,U171=FALSE),FALSE,TRUE)","v":false},{"$f":"IF(AND(U170=0,V171=FALSE),FALSE,TRUE)","v":false},{"$f":"IF(V170=0,FALSE,TRUE)","v":false},{"$f":"W170/(1000000/W172)","v":16}]
[null,{"$f":"convnumberletter(C172)","v":"seize"},{"$f":"W171","v":16},null,{"$f":"IF(AND(E$7-1<$Z170,E$7-1>=$AA170),0,E170)","v":3},8,1,2,9,5,5,4,{"$f":"IF(AND(M$7-1<$Z170,M$7-1>=$AA170),0,M170)","v":0},{"$f":"IF(AND(N$7-1<$Z170,N$7-1>=$AA170),0,N170)","v":0},{"$f":"IF(AND(O$7-1<$Z170,O$7-1>=$AA170),0,O170)","v":6},{"$f":"IF(AND(P$7-1<$Z170,P$7-1>=$AA170),0,P170)","v":6},{"$f":"IF(Q171=FALSE,\"\",Q170)","v":1},6,"","","","",{"$f":"SUM(Q173:V173)","v":100}]
[null,{"$f":"IF(C172>1,CONCATENATE(HLOOKUP(C173,$Q$7:$V$9,3,TRUE),\"s\"),HLOOKUP(C173,$Q$7:$V$9,3,TRUE))","v":"centièmes"},{"$f":"W172","v":100},null,null,null,null,null,null,null,null,null,null,null,null,null,{"$f":"IF(AND(R172=\"\",Q172<>\"\"),Q$7,0)","v":0},{"$f":"IF(AND(S172=\"\",R172<>\"\"),R$7,0)","v":100},{"$f":"IF(AND(T172=\"\",S172<>\"\"),S$7,0)","v":0},{"$f":"IF(AND(U172=\"\",T172<>\"\"),T$7,0)","v":0},{"$f":"IF(AND(V172=\"\",U172<>\"\"),U$7,0)","v":0},{"$f":"IF(AND(W173=\"\",V172<>\"\"),V$7,0)","v":0}]
[null,{"$f":"IF($C$8=\"virgule\",CONCATENATE(B171,\" virgule \",B172),CONCATENATE(B171,\"  et \",B172,\" \",B173))","v":"trois cent quatre-vingt-un milliards deux cent quatre-vingt-quinze millions cinq cent quarante mille soixante-six virgule seize"}]
[null,null,null,null,{"$f":"IF(X175>100000000000,INT(RIGHT($X175,12)/100000000000),0)","v":8},{"$f":"IF(X175>10000000000,INT(RIGHT($X175,11)/10000000000),0)","v":4},{"$f":"IF(X175>1000000000,INT(RIGHT($X175,10)/1000000000),0)","v":6},{"$f":"IF(X175>100000000,INT(RIGHT($X175,9)/100000000),0)","v":4},{"$f":"IF(X175>10000000,INT(RIGHT($X175,8)/10000000),0)","v":4},{"$f":"IF(X175>1000000,INT(RIGHT($X175,7)/1000000),0)","v":6},{"$f":"IF(X175>100000,INT(RIGHT($X175,6)/100000),0)","v":8},{"$f":"IF(X175>10000,INT(RIGHT($X175,5)/10000),0)","v":1},{"$f":"IF(X175>1000,INT(RIGHT($X175,4)/1000),0)","v":1},{"$f":"IF(X175>100,INT(RIGHT($X175,3)/100),0)","v":4},{"$f":"IF(X175>10,INT(RIGHT($X175,2)/10),0)","v":0},{"$f":"INT(RIGHT($X175,1)/1)","v":5},{"$f":"INT(RIGHT($AC175,1))","v":4},{"$f":"INT(RIGHT($AC175,2)/10)","v":6},{"$f":"INT(RIGHT($AC175,3)/100)","v":0},{"$f":"INT(RIGHT($AC175,4)/1000)","v":0},{"$f":"INT(RIGHT($AC175,5)/10000)","v":0},{"$f":"INT(RIGHT($AC175,6)/100000)","v":0},{"$f":"((Q175*100000)+(R175*10000)+(S175*1000)+(T175*100)+(U175*10)+V175)","v":460000},{"$f":"C$3+INT(RAND()*(C$4-C$3+1))","v":846446811405},{"$f":"LEN(X175)","v":12},{"$f":"INT(RAND()*(Y175-C$5))+C$5","v":11},{"$f":"Z175-C$5","v":9},null,{"$f":"INT(RAND()*(POWER(10,$C$7))+1)","v":64},{"$f":"LEN(AC175)","v":2},{"$f":"INT(RAND()*(AD175-H$5))+H$5","v":1},{"$f":"AE175-H$5","v":1}]
[34,{"$f":"convnumberletter(C176)","v":"six milliards quatre cent quarante-six millions huit cent onze mille quatre cent cinq"},{"$f":"(E177*10^E$7)+(F177*10^F$7)+(G177*10^G$7)+(H177*10^H$7)+(I177*10^I$7)+(J177*10^J$7)+(K177*10^K$7)+(L177*10^L$7)+(M177*10^M$7)+(N177*10^N$7)+(O177*10^O$7)+(P177*10^P$7)","v":6446811405},null,{"$f":"IF(Z175=12,TRUE,FALSE)","v":false},{"$f":"IF(Z175=11,TRUE,FALSE)","v":true},{"$f":"IF(Z175=10,TRUE,FALSE)","v":false},{"$f":"IF(Z175=9,TRUE,FALSE)","v":false},{"$f":"IF(Z175=8,TRUE,FALSE)","v":false},{"$f":"IF(Z175=7,TRUE,FALSE)","v":false},{"$f":"IF(Z175=6,TRUE,FALSE)","v":false},{"$f":"IF(Z175=5,TRUE,FALSE)","v":false},{"$f":"IF(Z175=4,TRUE,FALSE)","v":false},{"$f":"IF(Z175=3,TRUE,FALSE)","v":false},{"$f":"IF(Z175=2,TRUE,FALSE)","v":false},{"$f":"IF(Z175=1,TRUE,FALSE)","v":false},{"$f":"IF(AND(Q175=0,R176=FALSE),FALSE,TRUE)","v":true},{"$f":"IF(AND(R175=0,S176=FALSE),FALSE,TRUE)","v":true},{"$f":"IF(AND(S175=0,T176=FALSE),FALSE,TRUE)","v":false},{"$f":"IF(AND(T175=0,U176=FALSE),FALSE,TRUE)","v":false},{"$f":"IF(AND(U175=0,V176=FALSE),FALSE,TRUE)","v":false},{"$f":"IF(V175=0,FALSE,TRUE)","v":false},{"$f":"W175/(1000000/W177)","v":46}]
[null,{"$f":"convnumberletter(C177)","v":"quarante-six"},{"$f":"W176","v":46},null,{"$f":"IF(AND(E$7-1<$Z175,E$7-1>=$AA175),0,E175)","v":0},0,6,4,4,6,8,1,{"$f":"IF(AND(M$7-1<$Z175,M$7-1>=$AA175),0,M175)","v":1},{"$f":"IF(AND(N$7-1<$Z175,N$7-1>=$AA175),0,N175)","v":4},{"$f":"IF(AND(O$7-1<$Z175,O$7-1>=$AA175),0,O175)","v":0},{"$f":"IF(AND(P$7-1<$Z175,P$7-1>=$AA175),0,P175)","v":5},{"$f":"IF(Q176=FALSE,\"\",Q175)","v":4},6,"","","","",{"$f":"SUM(Q178:V178)","v":100}]
[null,{"$f":"IF(C177>1,CONCATENATE(HLOOKUP(C178,$Q$7:$V$9,3,TRUE),\"s\"),HLOOKUP(C178,$Q$7:$V$9,3,TRUE))","v":"centièmes"},{"$f":"W177","v":100},null,null,null,null,null,null,null,null,null,null,null,null,null,{"$f":"IF(AND(R177=\"\",Q177<>\"\"),Q$7,0)","v":0},{"$f":"IF(AND(S177=\"\",R177<>\"\"),R$7,0)","v":100},{"$f":"IF(AND(T177=\"\",S177<>\"\"),S$7,0)","v":0},{"$f":"IF(AND(U177=\"\",T177<>\"\"),T$7,0)","v":0},{"$f":"IF(AND(V177=\"\",U177<>\"\"),U$7,0)","v":0},{"$f":"IF(AND(W178=\"\",V177<>\"\"),V$7,0)","v":0}]
[null,{"$f":"IF($C$8=\"virgule\",CONCATENATE(B176,\" virgule \",B177),CONCATENATE(B176,\"  et \",B177,\" \",B178))","v":"six milliards quatre cent quarante-six millions huit cent onze mille quatre cent cinq virgule quarante-six"}]
[null,null,null,null,{"$f":"IF(X180>100000000000,INT(RIGHT($X180,12)/100000000000),0)","v":4},{"$f":"IF(X180>10000000000,INT(RIGHT($X180,11)/10000000000),0)","v":1},{"$f":"IF(X180>1000000000,INT(RIGHT($X180,10)/1000000000),0)","v":3},{"$f":"IF(X180>100000000,INT(RIGHT($X180,9)/100000000),0)","v":1},{"$f":"IF(X180>10000000,INT(RIGHT($X180,8)/10000000),0)","v":3},{"$f":"IF(X180>1000000,INT(RIGHT($X180,7)/1000000),0)","v":6},{"$f":"IF(X180>100000,INT(RIGHT($X180,6)/100000),0)","v":8},{"$f":"IF(X180>10000,INT(RIGHT($X180,5)/10000),0)","v":4},{"$f":"IF(X180>1000,INT(RIGHT($X180,4)/1000),0)","v":8},{"$f":"IF(X180>100,INT(RIGHT($X180,3)/100),0)","v":1},{"$f":"IF(X180>10,INT(RIGHT($X180,2)/10),0)","v":8},{"$f":"INT(RIGHT($X180,1)/1)","v":5},{"$f":"INT(RIGHT($AC180,1))","v":6},{"$f":"INT(RIGHT($AC180,2)/10)","v":5},{"$f":"INT(RIGHT($AC180,3)/100)","v":0},{"$f":"INT(RIGHT($AC180,4)/1000)","v":0},{"$f":"INT(RIGHT($AC180,5)/10000)","v":0},{"$f":"INT(RIGHT($AC180,6)/100000)","v":0},{"$f":"((Q180*100000)+(R180*10000)+(S180*1000)+(T180*100)+(U180*10)+V180)","v":650000},{"$f":"C$3+INT(RAND()*(C$4-C$3+1))","v":413136848185},{"$f":"LEN(X180)","v":12},{"$f":"INT(RAND()*(Y180-C$5))+C$5","v":7},{"$f":"Z180-C$5","v":5},null,{"$f":"INT(RAND()*(POWER(10,$C$7))+1)","v":56},{"$f":"LEN(AC180)","v":2},{"$f":"INT(RAND()*(AD180-H$5))+H$5","v":0},{"$f":"AE180-H$5","v":0}]
[35,{"$f":"convnumberletter(C181)","v":"quatre cent treize milliards cent millions huit cent quarante-huit mille cent quatre-vingt-cinq"},{"$f":"(E182*10^E$7)+(F182*10^F$7)+(G182*10^G$7)+(H182*10^H$7)+(I182*10^I$7)+(J182*10^J$7)+(K182*10^K$7)+(L182*10^L$7)+(M182*10^M$7)+(N182*10^N$7)+(O182*10^O$7)+(P182*10^P$7)","v":413100848185},null,{"$f":"IF(Z180=12,TRUE,FALSE)","v":false},{"$f":"IF(Z180=11,TRUE,FALSE)","v":false},{"$f":"IF(Z180=10,TRUE,FALSE)","v":false},{"$f":"IF(Z180=9,TRUE,FALSE)","v":false},{"$f":"IF(Z180=8,TRUE,FALSE)","v":false},{"$f":"IF(Z180=7,TRUE,FALSE)","v":true},{"$f":"IF(Z180=6,TRUE,FALSE)","v":false},{"$f":"IF(Z180=5,TRUE,FALSE)","v":false},{"$f":"IF(Z180=4,TRUE,FALSE)","v":false},{"$f":"IF(Z180=3,TRUE,FALSE)","v":false},{"$f":"IF(Z180=2,TRUE,FALSE)","v":false},{"$f":"IF(Z180=1,TRUE,FALSE)","v":false},{"$f":"IF(AND(Q180=0,R181=FALSE),FALSE,TRUE)","v":true},{"$f":"IF(AND(R180=0,S181=FALSE),FALSE,TRUE)","v":true},{"$f":"IF(AND(S180=0,T181=FALSE),FALSE,TRUE)","v":false},{"$f":"IF(AND(T180=0,U181=FALSE),FALSE,TRUE)","v":false},{"$f":"IF(AND(U180=0,V181=FALSE),FALSE,TRUE)","v":false},{"$f":"IF(V180=0,FALSE,TRUE)","v":false},{"$f":"W180/(1000000/W182)","v":65}]
[null,{"$f":"convnumberletter(C182)","v":"soixante-cinq"},{"$f":"W181","v":65},null,{"$f":"IF(AND(E$7-1<$Z180,E$7-1>=$AA180),0,E180)","v":4},1,3,1,0,0,8,4,{"$f":"IF(AND(M$7-1<$Z180,M$7-1>=$AA180),0,M180)","v":8},{"$f":"IF(AND(N$7-1<$Z180,N$7-1>=$AA180),0,N180)","v":1},{"$f":"IF(AND(O$7-1<$Z180,O$7-1>=$AA180),0,O180)","v":8},{"$f":"IF(AND(P$7-1<$Z180,P$7-1>=$AA180),0,P180)","v":5},{"$f":"IF(Q181=FALSE,\"\",Q180)","v":6},5,"","","","",{"$f":"SUM(Q183:V183)","v":100}]
[null,{"$f":"IF(C182>1,CONCATENATE(HLOOKUP(C183,$Q$7:$V$9,3,TRUE),\"s\"),HLOOKUP(C183,$Q$7:$V$9,3,TRUE))","v":"centièmes"},{"$f":"W182","v":100},null,null,null,null,null,null,null,null,null,null,null,null,null,{"$f":"IF(AND(R182=\"\",Q182<>\"\"),Q$7,0)","v":0},{"$f":"IF(AND(S182=\"\",R182<>\"\"),R$7,0)","v":100},{"$f":"IF(AND(T182=\"\",S182<>\"\"),S$7,0)","v":0},{"$f":"IF(AND(U182=\"\",T182<>\"\"),T$7,0)","v":0},{"$f":"IF(AND(V182=\"\",U182<>\"\"),U$7,0)","v":0},{"$f":"IF(AND(W183=\"\",V182<>\"\"),V$7,0)","v":0}]
[null,{"$f":"IF($C$8=\"virgule\",CONCATENATE(B181,\" virgule \",B182),CONCATENATE(B181,\"  et \",B182,\" \",B183))","v":"quatre cent treize milliards cent millions huit cent quarante-huit mille cent quatre-vingt-cinq virgule soixante-cinq"}]
[null,null,null,null,{"$f":"IF(X185>100000000000,INT(RIGHT($X185,12)/100000000000),0)","v":0},{"$f":"IF(X185>10000000000,INT(RIGHT($X185,11)/10000000000),0)","v":1},{"$f":"IF(X185>1000000000,INT(RIGHT($X185,10)/1000000000),0)","v":3},{"$f":"IF(X185>100000000,INT(RIGHT($X185,9)/100000000),0)","v":1},{"$f":"IF(X185>10000000,INT(RIGHT($X185,8)/10000000),0)","v":1},{"$f":"IF(X185>1000000,INT(RIGHT($X185,7)/1000000),0)","v":4},{"$f":"IF(X185>100000,INT(RIGHT($X185,6)/100000),0)","v":7},{"$f":"IF(X185>10000,INT(RIGHT($X185,5)/10000),0)","v":6},{"$f":"IF(X185>1000,INT(RIGHT($X185,4)/1000),0)","v":5},{"$f":"IF(X185>100,INT(RIGHT($X185,3)/100),0)","v":3},{"$f":"IF(X185>10,INT(RIGHT($X185,2)/10),0)","v":6},{"$f":"INT(RIGHT($X185,1)/1)","v":8},{"$f":"INT(RIGHT($AC185,1))","v":9},{"$f":"INT(RIGHT($AC185,2)/10)","v":8},{"$f":"INT(RIGHT($AC185,3)/100)","v":0},{"$f":"INT(RIGHT($AC185,4)/1000)","v":0},{"$f":"INT(RIGHT($AC185,5)/10000)","v":0},{"$f":"INT(RIGHT($AC185,6)/100000)","v":0},{"$f":"((Q185*100000)+(R185*10000)+(S185*1000)+(T185*100)+(U185*10)+V185)","v":980000},{"$f":"C$3+INT(RAND()*(C$4-C$3+1))","v":13114765368},{"$f":"LEN(X185)","v":11},{"$f":"INT(RAND()*(Y185-C$5))+C$5","v":4},{"$f":"Z185-C$5","v":2},null,{"$f":"INT(RAND()*(POWER(10,$C$7))+1)","v":89},{"$f":"LEN(AC185)","v":2},{"$f":"INT(RAND()*(AD185-H$5))+H$5","v":1},{"$f":"AE185-H$5","v":1}]
[36,{"$f":"convnumberletter(C186)","v":"treize milliards cent quatorze millions sept cents mille trois cent soixante-huit"},{"$f":"(E187*10^E$7)+(F187*10^F$7)+(G187*10^G$7)+(H187*10^H$7)+(I187*10^I$7)+(J187*10^J$7)+(K187*10^K$7)+(L187*10^L$7)+(M187*10^M$7)+(N187*10^N$7)+(O187*10^O$7)+(P187*10^P$7)","v":13114700368},null,{"$f":"IF(Z185=12,TRUE,FALSE)","v":false},{"$f":"IF(Z185=11,TRUE,FALSE)","v":false},{"$f":"IF(Z185=10,TRUE,FALSE)","v":false},{"$f":"IF(Z185=9,TRUE,FALSE)","v":false},{"$f":"IF(Z185=8,TRUE,FALSE)","v":false},{"$f":"IF(Z185=7,TRUE,FALSE)","v":false},{"$f":"IF(Z185=6,TRUE,FALSE)","v":false},{"$f":"IF(Z185=5,TRUE,FALSE)","v":false},{"$f":"IF(Z185=4,TRUE,FALSE)","v":true},{"$f":"IF(Z185=3,TRUE,FALSE)","v":false},{"$f":"IF(Z185=2,TRUE,FALSE)","v":false},{"$f":"IF(Z185=1,TRUE,FALSE)","v":false},{"$f":"IF(AND(Q185=0,R186=FALSE),FALSE,TRUE)","v":true},{"$f":"IF(AND(R185=0,S186=FALSE),FALSE,TRUE)","v":true},{"$f":"IF(AND(S185=0,T186=FALSE),FALSE,TRUE)","v":false},{"$f":"IF(AND(T185=0,U186=FALSE),FALSE,TRUE)","v":false},{"$f":"IF(AND(U185=0,V186=FALSE),FALSE,TRUE)","v":false},{"$f":"IF(V185=0,FALSE,TRUE)","v":false},{"$f":"W185/(1000000/W187)","v":98}]
[null,{"$f":"convnumberletter(C187)","v":"quatre-vingt-dix-huit"},{"$f":"W186","v":98},null,{"$f":"IF(AND(E$7-1<$Z185,E$7-1>=$AA185),0,E185)","v":0},1,3,1,1,4,7,0,{"$f":"IF(AND(M$7-1<$Z185,M$7-1>=$AA185),0,M185)","v":0},{"$f":"IF(AND(N$7-1<$Z185,N$7-1>=$AA185),0,N185)","v":3},{"$f":"IF(AND(O$7-1<$Z185,O$7-1>=$AA185),0,O185)","v":6},{"$f":"IF(AND(P$7-1<$Z185,P$7-1>=$AA185),0,P185)","v":8},{"$f":"IF(Q186=FALSE,\"\",Q185)","v":9},8,"","","","",{"$f":"SUM(Q188:V188)","v":100}]
[null,{"$f":"IF(C187>1,CONCATENATE(HLOOKUP(C188,$Q$7:$V$9,3,TRUE),\"s\"),HLOOKUP(C188,$Q$7:$V$9,3,TRUE))","v":"centièmes"},{"$f":"W187","v":100},null,null,null,null,null,null,null,null,null,null,null,null,null,{"$f":"IF(AND(R187=\"\",Q187<>\"\"),Q$7,0)","v":0},{"$f":"IF(AND(S187=\"\",R187<>\"\"),R$7,0)","v":100},{"$f":"IF(AND(T187=\"\",S187<>\"\"),S$7,0)","v":0},{"$f":"IF(AND(U187=\"\",T187<>\"\"),T$7,0)","v":0},{"$f":"IF(AND(V187=\"\",U187<>\"\"),U$7,0)","v":0},{"$f":"IF(AND(W188=\"\",V187<>\"\"),V$7,0)","v":0}]
[null,{"$f":"IF($C$8=\"virgule\",CONCATENATE(B186,\" virgule \",B187),CONCATENATE(B186,\"  et \",B187,\" \",B188))","v":"treize milliards cent quatorze millions sept cents mille trois cent soixante-huit virgule quatre-vingt-dix-huit"}]
[null,null,null,null,{"$f":"IF(X190>100000000000,INT(RIGHT($X190,12)/100000000000),0)","v":3},{"$f":"IF(X190>10000000000,INT(RIGHT($X190,11)/10000000000),0)","v":3},{"$f":"IF(X190>1000000000,INT(RIGHT($X190,10)/1000000000),0)","v":4},{"$f":"IF(X190>100000000,INT(RIGHT($X190,9)/100000000),0)","v":5},{"$f":"IF(X190>10000000,INT(RIGHT($X190,8)/10000000),0)","v":1},{"$f":"IF(X190>1000000,INT(RIGHT($X190,7)/1000000),0)","v":9},{"$f":"IF(X190>100000,INT(RIGHT($X190,6)/100000),0)","v":0},{"$f":"IF(X190>10000,INT(RIGHT($X190,5)/10000),0)","v":5},{"$f":"IF(X190>1000,INT(RIGHT($X190,4)/1000),0)","v":1},{"$f":"IF(X190>100,INT(RIGHT($X190,3)/100),0)","v":4},{"$f":"IF(X190>10,INT(RIGHT($X190,2)/10),0)","v":6},{"$f":"INT(RIGHT($X190,1)/1)","v":0},{"$f":"INT(RIGHT($AC190,1))","v":3},{"$f":"INT(RIGHT($AC190,2)/10)","v":7},{"$f":"INT(RIGHT($AC190,3)/100)","v":0},{"$f":"INT(RIGHT($AC190,4)/1000)","v":0},{"$f":"INT(RIGHT($AC190,5)/10000)","v":0},{"$f":"INT(RIGHT($AC190,6)/100000)","v":0},{"$f":"((Q190*100000)+(R190*10000)+(S190*1000)+(T190*100)+(U190*10)+V190)","v":370000},{"$f":"C$3+INT(RAND()*(C$4-C$3+1))","v":334519051460},{"$f":"LEN(X190)","v":12},{"$f":"INT(RAND()*(Y190-C$5))+C$5","v":2},{"$f":"Z190-C$5","v":0},null,{"$f":"INT(RAND()*(POWER(10,$C$7))+1)","v":73},{"$f":"LEN(AC190)","v":2},{"$f":"INT(RAND()*(AD190-H$5))+H$5","v":1},{"$f":"AE190-H$5","v":1}]
[37,{"$f":"convnumberletter(C191)","v":"trois cent trente-quatre milliards cinq cent dix-neuf millions cinquante et un mille"},{"$f":"(E192*10^E$7)+(F192*10^F$7)+(G192*10^G$7)+(H192*10^H$7)+(I192*10^I$7)+(J192*10^J$7)+(K192*10^K$7)+(L192*10^L$7)+(M192*10^M$7)+(N192*10^N$7)+(O192*10^O$7)+(P192*10^P$7)","v":334519051000},null,{"$f":"IF(Z190=12,TRUE,FALSE)","v":false},{"$f":"IF(Z190=11,TRUE,FALSE)","v":false},{"$f":"IF(Z190=10,TRUE,FALSE)","v":false},{"$f":"IF(Z190=9,TRUE,FALSE)","v":false},{"$f":"IF(Z190=8,TRUE,FALSE)","v":false},{"$f":"IF(Z190=7,TRUE,FALSE)","v":false},{"$f":"IF(Z190=6,TRUE,FALSE)","v":false},{"$f":"IF(Z190=5,TRUE,FALSE)","v":false},{"$f":"IF(Z190=4,TRUE,FALSE)","v":false},{"$f":"IF(Z190=3,TRUE,FALSE)","v":false},{"$f":"IF(Z190=2,TRUE,FALSE)","v":true},{"$f":"IF(Z190=1,TRUE,FALSE)","v":false},{"$f":"IF(AND(Q190=0,R191=FALSE),FALSE,TRUE)","v":true},{"$f":"IF(AND(R190=0,S191=FALSE),FALSE,TRUE)","v":true},{"$f":"IF(AND(S190=0,T191=FALSE),FALSE,TRUE)","v":false},{"$f":"IF(AND(T190=0,U191=FALSE),FALSE,TRUE)","v":false},{"$f":"IF(AND(U190=0,V191=FALSE),FALSE,TRUE)","v":false},{"$f":"IF(V190=0,FALSE,TRUE)","v":false},{"$f":"W190/(1000000/W192)","v":37}]
[null,{"$f":"convnumberletter(C192)","v":"trente-sept"},{"$f":"W191","v":37},null,{"$f":"IF(AND(E$7-1<$Z190,E$7-1>=$AA190),0,E190)","v":3},3,4,5,1,9,0,5,{"$f":"IF(AND(M$7-1<$Z190,M$7-1>=$AA190),0,M190)","v":1},{"$f":"IF(AND(N$7-1<$Z190,N$7-1>=$AA190),0,N190)","v":0},{"$f":"IF(AND(O$7-1<$Z190,O$7-1>=$AA190),0,O190)","v":0},{"$f":"IF(AND(P$7-1<$Z190,P$7-1>=$AA190),0,P190)","v":0},{"$f":"IF(Q191=FALSE,\"\",Q190)","v":3},7,"","","","",{"$f":"SUM(Q193:V193)","v":100}]
[null,{"$f":"IF(C192>1,CONCATENATE(HLOOKUP(C193,$Q$7:$V$9,3,TRUE),\"s\"),HLOOKUP(C193,$Q$7:$V$9,3,TRUE))","v":"centièmes"},{"$f":"W192","v":100},null,null,null,null,null,null,null,null,null,null,null,null,null,{"$f":"IF(AND(R192=\"\",Q192<>\"\"),Q$7,0)","v":0},{"$f":"IF(AND(S192=\"\",R192<>\"\"),R$7,0)","v":100},{"$f":"IF(AND(T192=\"\",S192<>\"\"),S$7,0)","v":0},{"$f":"IF(AND(U192=\"\",T192<>\"\"),T$7,0)","v":0},{"$f":"IF(AND(V192=\"\",U192<>\"\"),U$7,0)","v":0},{"$f":"IF(AND(W193=\"\",V192<>\"\"),V$7,0)","v":0}]
[null,{"$f":"IF($C$8=\"virgule\",CONCATENATE(B191,\" virgule \",B192),CONCATENATE(B191,\"  et \",B192,\" \",B193))","v":"trois cent trente-quatre milliards cinq cent dix-neuf millions cinquante et un mille virgule trente-sept"}]
[null,null,null,null,{"$f":"IF(X195>100000000000,INT(RIGHT($X195,12)/100000000000),0)","v":5},{"$f":"IF(X195>10000000000,INT(RIGHT($X195,11)/10000000000),0)","v":4},{"$f":"IF(X195>1000000000,INT(RIGHT($X195,10)/1000000000),0)","v":7},{"$f":"IF(X195>100000000,INT(RIGHT($X195,9)/100000000),0)","v":2},{"$f":"IF(X195>10000000,INT(RIGHT($X195,8)/10000000),0)","v":6},{"$f":"IF(X195>1000000,INT(RIGHT($X195,7)/1000000),0)","v":7},{"$f":"IF(X195>100000,INT(RIGHT($X195,6)/100000),0)","v":9},{"$f":"IF(X195>10000,INT(RIGHT($X195,5)/10000),0)","v":5},{"$f":"IF(X195>1000,INT(RIGHT($X195,4)/1000),0)","v":3},{"$f":"IF(X195>100,INT(RIGHT($X195,3)/100),0)","v":7},{"$f":"IF(X195>10,INT(RIGHT($X195,2)/10),0)","v":4},{"$f":"INT(RIGHT($X195,1)/1)","v":0},{"$f":"INT(RIGHT($AC195,1))","v":9},{"$f":"INT(RIGHT($AC195,2)/10)","v":9},{"$f":"INT(RIGHT($AC195,3)/100)","v":0},{"$f":"INT(RIGHT($AC195,4)/1000)","v":0},{"$f":"INT(RIGHT($AC195,5)/10000)","v":0},{"$f":"INT(RIGHT($AC195,6)/100000)","v":0},{"$f":"((Q195*100000)+(R195*10000)+(S195*1000)+(T195*100)+(U195*10)+V195)","v":990000},{"$f":"C$3+INT(RAND()*(C$4-C$3+1))","v":547267953740},{"$f":"LEN(X195)","v":12},{"$f":"INT(RAND()*(Y195-C$5))+C$5","v":2},{"$f":"Z195-C$5","v":0},null,{"$f":"INT(RAND()*(POWER(10,$C$7))+1)","v":99},{"$f":"LEN(AC195)","v":2},{"$f":"INT(RAND()*(AD195-H$5))+H$5","v":0},{"$f":"AE195-H$5","v":0}]
[38,{"$f":"convnumberletter(C196)","v":"cinq cent quarante-sept milliards deux cent soixante-sept millions neuf cent cinquante-trois mille"},{"$f":"(E197*10^E$7)+(F197*10^F$7)+(G197*10^G$7)+(H197*10^H$7)+(I197*10^I$7)+(J197*10^J$7)+(K197*10^K$7)+(L197*10^L$7)+(M197*10^M$7)+(N197*10^N$7)+(O197*10^O$7)+(P197*10^P$7)","v":547267953000},null,{"$f":"IF(Z195=12,TRUE,FALSE)","v":false},{"$f":"IF(Z195=11,TRUE,FALSE)","v":false},{"$f":"IF(Z195=10,TRUE,FALSE)","v":false},{"$f":"IF(Z195=9,TRUE,FALSE)","v":false},{"$f":"IF(Z195=8,TRUE,FALSE)","v":false},{"$f":"IF(Z195=7,TRUE,FALSE)","v":false},{"$f":"IF(Z195=6,TRUE,FALSE)","v":false},{"$f":"IF(Z195=5,TRUE,FALSE)","v":false},{"$f":"IF(Z195=4,TRUE,FALSE)","v":false},{"$f":"IF(Z195=3,TRUE,FALSE)","v":false},{"$f":"IF(Z195=2,TRUE,FALSE)","v":true},{"$f":"IF(Z195=1,TRUE,FALSE)","v":false},{"$f":"IF(AND(Q195=0,R196=FALSE),FALSE,TRUE)","v":true},{"$f":"IF(AND(R195=0,S196=FALSE),FALSE,TRUE)","v":true},{"$f":"IF(AND(S195=0,T196=FALSE),FALSE,TRUE)","v":false},{"$f":"IF(AND(T195=0,U196=FALSE),FALSE,TRUE)","v":false},{"$f":"IF(AND(U195=0,V196=FALSE),FALSE,TRUE)","v":false},{"$f":"IF(V195=0,FALSE,TRUE)","v":false},{"$f":"W195/(1000000/W197)","v":99}]
[null,{"$f":"convnumberletter(C197)","v":"quatre-vingt-dix-neuf"},{"$f":"W196","v":99},null,{"$f":"IF(AND(E$7-1<$Z195,E$7-1>=$AA195),0,E195)","v":5},4,7,2,6,7,9,5,{"$f":"IF(AND(M$7-1<$Z195,M$7-1>=$AA195),0,M195)","v":3},{"$f":"IF(AND(N$7-1<$Z195,N$7-1>=$AA195),0,N195)","v":0},{"$f":"IF(AND(O$7-1<$Z195,O$7-1>=$AA195),0,O195)","v":0},{"$f":"IF(AND(P$7-1<$Z195,P$7-1>=$AA195),0,P195)","v":0},{"$f":"IF(Q196=FALSE,\"\",Q195)","v":9},9,"","","","",{"$f":"SUM(Q198:V198)","v":100}]
[null,{"$f":"IF(C197>1,CONCATENATE(HLOOKUP(C198,$Q$7:$V$9,3,TRUE),\"s\"),HLOOKUP(C198,$Q$7:$V$9,3,TRUE))","v":"centièmes"},{"$f":"W197","v":100},null,null,null,null,null,null,null,null,null,null,null,null,null,{"$f":"IF(AND(R197=\"\",Q197<>\"\"),Q$7,0)","v":0},{"$f":"IF(AND(S197=\"\",R197<>\"\"),R$7,0)","v":100},{"$f":"IF(AND(T197=\"\",S197<>\"\"),S$7,0)","v":0},{"$f":"IF(AND(U197=\"\",T197<>\"\"),T$7,0)","v":0},{"$f":"IF(AND(V197=\"\",U197<>\"\"),U$7,0)","v":0},{"$f":"IF(AND(W198=\"\",V197<>\"\"),V$7,0)","v":0}]
[null,{"$f":"IF($C$8=\"virgule\",CONCATENATE(B196,\" virgule \",B197),CONCATENATE(B196,\"  et \",B197,\" \",B198))","v":"cinq cent quarante-sept milliards deux cent soixante-sept millions neuf cent cinquante-trois mille virgule quatre-vingt-dix-neuf"}]
[null,null,null,null,{"$f":"IF(X200>100000000000,INT(RIGHT($X200,12)/100000000000),0)","v":8},{"$f":"IF(X200>10000000000,INT(RIGHT($X200,11)/10000000000),0)","v":0},{"$f":"IF(X200>1000000000,INT(RIGHT($X200,10)/1000000000),0)","v":9},{"$f":"IF(X200>100000000,INT(RIGHT($X200,9)/100000000),0)","v":6},{"$f":"IF(X200>10000000,INT(RIGHT($X200,8)/10000000),0)","v":6},{"$f":"IF(X200>1000000,INT(RIGHT($X200,7)/1000000),0)","v":4},{"$f":"IF(X200>100000,INT(RIGHT($X200,6)/100000),0)","v":7},{"$f":"IF(X200>10000,INT(RIGHT($X200,5)/10000),0)","v":7},{"$f":"IF(X200>1000,INT(RIGHT($X200,4)/1000),0)","v":4},{"$f":"IF(X200>100,INT(RIGHT($X200,3)/100),0)","v":2},{"$f":"IF(X200>10,INT(RIGHT($X200,2)/10),0)","v":1},{"$f":"INT(RIGHT($X200,1)/1)","v":5},{"$f":"INT(RIGHT($AC200,1))","v":0},{"$f":"INT(RIGHT($AC200,2)/10)","v":7},{"$f":"INT(RIGHT($AC200,3)/100)","v":0},{"$f":"INT(RIGHT($AC200,4)/1000)","v":0},{"$f":"INT(RIGHT($AC200,5)/10000)","v":0},{"$f":"INT(RIGHT($AC200,6)/100000)","v":0},{"$f":"((Q200*100000)+(R200*10000)+(S200*1000)+(T200*100)+(U200*10)+V200)","v":70000},{"$f":"C$3+INT(RAND()*(C$4-C$3+1))","v":809664774215},{"$f":"LEN(X200)","v":12},{"$f":"INT(RAND()*(Y200-C$5))+C$5","v":4},{"$f":"Z200-C$5","v":2},null,{"$f":"INT(RAND()*(POWER(10,$C$7))+1)","v":70},{"$f":"LEN(AC200)","v":2},{"$f":"INT(RAND()*(AD200-H$5))+H$5","v":0},{"$f":"AE200-H$5","v":0}]
[39,{"$f":"convnumberletter(C201)","v":"huit cent neuf milliards six cent soixante-quatre millions sept cents mille deux cent quinze"},{"$f":"(E202*10^E$7)+(F202*10^F$7)+(G202*10^G$7)+(H202*10^H$7)+(I202*10^I$7)+(J202*10^J$7)+(K202*10^K$7)+(L202*10^L$7)+(M202*10^M$7)+(N202*10^N$7)+(O202*10^O$7)+(P202*10^P$7)","v":809664700215},null,{"$f":"IF(Z200=12,TRUE,FALSE)","v":false},{"$f":"IF(Z200=11,TRUE,FALSE)","v":false},{"$f":"IF(Z200=10,TRUE,FALSE)","v":false},{"$f":"IF(Z200=9,TRUE,FALSE)","v":false},{"$f":"IF(Z200=8,TRUE,FALSE)","v":false},{"$f":"IF(Z200=7,TRUE,FALSE)","v":false},{"$f":"IF(Z200=6,TRUE,FALSE)","v":false},{"$f":"IF(Z200=5,TRUE,FALSE)","v":false},{"$f":"IF(Z200=4,TRUE,FALSE)","v":true},{"$f":"IF(Z200=3,TRUE,FALSE)","v":false},{"$f":"IF(Z200=2,TRUE,FALSE)","v":false},{"$f":"IF(Z200=1,TRUE,FALSE)","v":false},{"$f":"IF(AND(Q200=0,R201=FALSE),FALSE,TRUE)","v":true},{"$f":"IF(AND(R200=0,S201=FALSE),FALSE,TRUE)","v":true},{"$f":"IF(AND(S200=0,T201=FALSE),FALSE,TRUE)","v":false},{"$f":"IF(AND(T200=0,U201=FALSE),FALSE,TRUE)","v":false},{"$f":"IF(AND(U200=0,V201=FALSE),FALSE,TRUE)","v":false},{"$f":"IF(V200=0,FALSE,TRUE)","v":false},{"$f":"W200/(1000000/W202)","v":7}]
[null,{"$f":"convnumberletter(C202)","v":"sept"},{"$f":"W201","v":7},null,{"$f":"IF(AND(E$7-1<$Z200,E$7-1>=$AA200),0,E200)","v":8},0,9,6,6,4,7,0,{"$f":"IF(AND(M$7-1<$Z200,M$7-1>=$AA200),0,M200)","v":0},{"$f":"IF(AND(N$7-1<$Z200,N$7-1>=$AA200),0,N200)","v":2},{"$f":"IF(AND(O$7-1<$Z200,O$7-1>=$AA200),0,O200)","v":1},{"$f":"IF(AND(P$7-1<$Z200,P$7-1>=$AA200),0,P200)","v":5},{"$f":"IF(Q201=FALSE,\"\",Q200)","v":0},7,"","","","",{"$f":"SUM(Q203:V203)","v":100}]
[null,{"$f":"IF(C202>1,CONCATENATE(HLOOKUP(C203,$Q$7:$V$9,3,TRUE),\"s\"),HLOOKUP(C203,$Q$7:$V$9,3,TRUE))","v":"centièmes"},{"$f":"W202","v":100},null,null,null,null,null,null,null,null,null,null,null,null,null,{"$f":"IF(AND(R202=\"\",Q202<>\"\"),Q$7,0)","v":0},{"$f":"IF(AND(S202=\"\",R202<>\"\"),R$7,0)","v":100},{"$f":"IF(AND(T202=\"\",S202<>\"\"),S$7,0)","v":0},{"$f":"IF(AND(U202=\"\",T202<>\"\"),T$7,0)","v":0},{"$f":"IF(AND(V202=\"\",U202<>\"\"),U$7,0)","v":0},{"$f":"IF(AND(W203=\"\",V202<>\"\"),V$7,0)","v":0}]
[null,{"$f":"IF($C$8=\"virgule\",CONCATENATE(B201,\" virgule \",B202),CONCATENATE(B201,\"  et \",B202,\" \",B203))","v":"huit cent neuf milliards six cent soixante-quatre millions sept cents mille deux cent quinze virgule sept"}]
[null,null,null,null,{"$f":"IF(X205>100000000000,INT(RIGHT($X205,12)/100000000000),0)","v":8},{"$f":"IF(X205>10000000000,INT(RIGHT($X205,11)/10000000000),0)","v":7},{"$f":"IF(X205>1000000000,INT(RIGHT($X205,10)/1000000000),0)","v":3},{"$f":"IF(X205>100000000,INT(RIGHT($X205,9)/100000000),0)","v":8},{"$f":"IF(X205>10000000,INT(RIGHT($X205,8)/10000000),0)","v":4},{"$f":"IF(X205>1000000,INT(RIGHT($X205,7)/1000000),0)","v":6},{"$f":"IF(X205>100000,INT(RIGHT($X205,6)/100000),0)","v":7},{"$f":"IF(X205>10000,INT(RIGHT($X205,5)/10000),0)","v":8},{"$f":"IF(X205>1000,INT(RIGHT($X205,4)/1000),0)","v":3},{"$f":"IF(X205>100,INT(RIGHT($X205,3)/100),0)","v":0},{"$f":"IF(X205>10,INT(RIGHT($X205,2)/10),0)","v":9},{"$f":"INT(RIGHT($X205,1)/1)","v":8},{"$f":"INT(RIGHT($AC205,1))","v":2},{"$f":"INT(RIGHT($AC205,2)/10)","v":4},{"$f":"INT(RIGHT($AC205,3)/100)","v":0},{"$f":"INT(RIGHT($AC205,4)/1000)","v":0},{"$f":"INT(RIGHT($AC205,5)/10000)","v":0},{"$f":"INT(RIGHT($AC205,6)/100000)","v":0},{"$f":"((Q205*100000)+(R205*10000)+(S205*1000)+(T205*100)+(U205*10)+V205)","v":240000},{"$f":"C$3+INT(RAND()*(C$4-C$3+1))","v":873846783098},{"$f":"LEN(X205)","v":12},{"$f":"INT(RAND()*(Y205-C$5))+C$5","v":7},{"$f":"Z205-C$5","v":5},null,{"$f":"INT(RAND()*(POWER(10,$C$7))+1)","v":42},{"$f":"LEN(AC205)","v":2},{"$f":"INT(RAND()*(AD205-H$5))+H$5","v":0},{"$f":"AE205-H$5","v":0}]
[40,{"$f":"convnumberletter(C206)","v":"huit cent soixante-treize milliards huit cents millions sept cent quatre-vingt-trois mille quatre-vingt-dix-huit"},{"$f":"(E207*10^E$7)+(F207*10^F$7)+(G207*10^G$7)+(H207*10^H$7)+(I207*10^I$7)+(J207*10^J$7)+(K207*10^K$7)+(L207*10^L$7)+(M207*10^M$7)+(N207*10^N$7)+(O207*10^O$7)+(P207*10^P$7)","v":873800783098},null,{"$f":"IF(Z205=12,TRUE,FALSE)","v":false},{"$f":"IF(Z205=11,TRUE,FALSE)","v":false},{"$f":"IF(Z205=10,TRUE,FALSE)","v":false},{"$f":"IF(Z205=9,TRUE,FALSE)","v":false},{"$f":"IF(Z205=8,TRUE,FALSE)","v":false},{"$f":"IF(Z205=7,TRUE,FALSE)","v":true},{"$f":"IF(Z205=6,TRUE,FALSE)","v":false},{"$f":"IF(Z205=5,TRUE,FALSE)","v":false},{"$f":"IF(Z205=4,TRUE,FALSE)","v":false},{"$f":"IF(Z205=3,TRUE,FALSE)","v":false},{"$f":"IF(Z205=2,TRUE,FALSE)","v":false},{"$f":"IF(Z205=1,TRUE,FALSE)","v":false},{"$f":"IF(AND(Q205=0,R206=FALSE),FALSE,TRUE)","v":true},{"$f":"IF(AND(R205=0,S206=FALSE),FALSE,TRUE)","v":true},{"$f":"IF(AND(S205=0,T206=FALSE),FALSE,TRUE)","v":false},{"$f":"IF(AND(T205=0,U206=FALSE),FALSE,TRUE)","v":false},{"$f":"IF(AND(U205=0,V206=FALSE),FALSE,TRUE)","v":false},{"$f":"IF(V205=0,FALSE,TRUE)","v":false},{"$f":"W205/(1000000/W207)","v":24}]
[null,{"$f":"convnumberletter(C207)","v":"vingt-quatre"},{"$f":"W206","v":24},null,{"$f":"IF(AND(E$7-1<$Z205,E$7-1>=$AA205),0,E205)","v":8},7,3,8,0,0,7,8,{"$f":"IF(AND(M$7-1<$Z205,M$7-1>=$AA205),0,M205)","v":3},{"$f":"IF(AND(N$7-1<$Z205,N$7-1>=$AA205),0,N205)","v":0},{"$f":"IF(AND(O$7-1<$Z205,O$7-1>=$AA205),0,O205)","v":9},{"$f":"IF(AND(P$7-1<$Z205,P$7-1>=$AA205),0,P205)","v":8},{"$f":"IF(Q206=FALSE,\"\",Q205)","v":2},4,"","","","",{"$f":"SUM(Q208:V208)","v":100}]
[null,{"$f":"IF(C207>1,CONCATENATE(HLOOKUP(C208,$Q$7:$V$9,3,TRUE),\"s\"),HLOOKUP(C208,$Q$7:$V$9,3,TRUE))","v":"centièmes"},{"$f":"W207","v":100},null,null,null,null,null,null,null,null,null,null,null,null,null,{"$f":"IF(AND(R207=\"\",Q207<>\"\"),Q$7,0)","v":0},{"$f":"IF(AND(S207=\"\",R207<>\"\"),R$7,0)","v":100},{"$f":"IF(AND(T207=\"\",S207<>\"\"),S$7,0)","v":0},{"$f":"IF(AND(U207=\"\",T207<>\"\"),T$7,0)","v":0},{"$f":"IF(AND(V207=\"\",U207<>\"\"),U$7,0)","v":0},{"$f":"IF(AND(W208=\"\",V207<>\"\"),V$7,0)","v":0}]
[null,{"$f":"IF($C$8=\"virgule\",CONCATENATE(B206,\" virgule \",B207),CONCATENATE(B206,\"  et \",B207,\" \",B208))","v":"huit cent soixante-treize milliards huit cents millions sept cent quatre-vingt-trois mille quatre-vingt-dix-huit virgule vingt-quatre"}]
[null,null,null,null,{"$f":"IF(X210>100000000000,INT(RIGHT($X210,12)/100000000000),0)","v":9},{"$f":"IF(X210>10000000000,INT(RIGHT($X210,11)/10000000000),0)","v":6},{"$f":"IF(X210>1000000000,INT(RIGHT($X210,10)/1000000000),0)","v":3},{"$f":"IF(X210>100000000,INT(RIGHT($X210,9)/100000000),0)","v":5},{"$f":"IF(X210>10000000,INT(RIGHT($X210,8)/10000000),0)","v":5},{"$f":"IF(X210>1000000,INT(RIGHT($X210,7)/1000000),0)","v":2},{"$f":"IF(X210>100000,INT(RIGHT($X210,6)/100000),0)","v":7},{"$f":"IF(X210>10000,INT(RIGHT($X210,5)/10000),0)","v":5},{"$f":"IF(X210>1000,INT(RIGHT($X210,4)/1000),0)","v":6},{"$f":"IF(X210>100,INT(RIGHT($X210,3)/100),0)","v":8},{"$f":"IF(X210>10,INT(RIGHT($X210,2)/10),0)","v":7},{"$f":"INT(RIGHT($X210,1)/1)","v":0},{"$f":"INT(RIGHT($AC210,1))","v":4},{"$f":"INT(RIGHT($AC210,2)/10)","v":3},{"$f":"INT(RIGHT($AC210,3)/100)","v":0},{"$f":"INT(RIGHT($AC210,4)/1000)","v":0},{"$f":"INT(RIGHT($AC210,5)/10000)","v":0},{"$f":"INT(RIGHT($AC210,6)/100000)","v":0},{"$f":"((Q210*100000)+(R210*10000)+(S210*1000)+(T210*100)+(U210*10)+V210)","v":430000},{"$f":"C$3+INT(RAND()*(C$4-C$3+1))","v":963552756870},{"$f":"LEN(X210)","v":12},{"$f":"INT(RAND()*(Y210-C$5))+C$5","v":6},{"$f":"Z210-C$5","v":4},null,{"$f":"INT(RAND()*(POWER(10,$C$7))+1)","v":34},{"$f":"LEN(AC210)","v":2},{"$f":"INT(RAND()*(AD210-H$5))+H$5","v":1},{"$f":"AE210-H$5","v":1}]
[41,{"$f":"convnumberletter(C211)","v":"neuf cent soixante-trois milliards cinq cent cinquante millions cinquante-six mille huit cent soixante-dix"},{"$f":"(E212*10^E$7)+(F212*10^F$7)+(G212*10^G$7)+(H212*10^H$7)+(I212*10^I$7)+(J212*10^J$7)+(K212*10^K$7)+(L212*10^L$7)+(M212*10^M$7)+(N212*10^N$7)+(O212*10^O$7)+(P212*10^P$7)","v":963550056870},null,{"$f":"IF(Z210=12,TRUE,FALSE)","v":false},{"$f":"IF(Z210=11,TRUE,FALSE)","v":false},{"$f":"IF(Z210=10,TRUE,FALSE)","v":false},{"$f":"IF(Z210=9,TRUE,FALSE)","v":false},{"$f":"IF(Z210=8,TRUE,FALSE)","v":false},{"$f":"IF(Z210=7,TRUE,FALSE)","v":false},{"$f":"IF(Z210=6,TRUE,FALSE)","v":true},{"$f":"IF(Z210=5,TRUE,FALSE)","v":false},{"$f":"IF(Z210=4,TRUE,FALSE)","v":false},{"$f":"IF(Z210=3,TRUE,FALSE)","v":false},{"$f":"IF(Z210=2,TRUE,FALSE)","v":false},{"$f":"IF(Z210=1,TRUE,FALSE)","v":false},{"$f":"IF(AND(Q210=0,R211=FALSE),FALSE,TRUE)","v":true},{"$f":"IF(AND(R210=0,S211=FALSE),FALSE,TRUE)","v":true},{"$f":"IF(AND(S210=0,T211=FALSE),FALSE,TRUE)","v":false},{"$f":"IF(AND(T210=0,U211=FALSE),FALSE,TRUE)","v":false},{"$f":"IF(AND(U210=0,V211=FALSE),FALSE,TRUE)","v":false},{"$f":"IF(V210=0,FALSE,TRUE)","v":false},{"$f":"W210/(1000000/W212)","v":43}]
[null,{"$f":"convnumberletter(C212)","v":"quarante-trois"},{"$f":"W211","v":43},null,{"$f":"IF(AND(E$7-1<$Z210,E$7-1>=$AA210),0,E210)","v":9},6,3,5,5,0,0,5,{"$f":"IF(AND(M$7-1<$Z210,M$7-1>=$AA210),0,M210)","v":6},{"$f":"IF(AND(N$7-1<$Z210,N$7-1>=$AA210),0,N210)","v":8},{"$f":"IF(AND(O$7-1<$Z210,O$7-1>=$AA210),0,O210)","v":7},{"$f":"IF(AND(P$7-1<$Z210,P$7-1>=$AA210),0,P210)","v":0},{"$f":"IF(Q211=FALSE,\"\",Q210)","v":4},3,"","","","",{"$f":"SUM(Q213:V213)","v":100}]
[null,{"$f":"IF(C212>1,CONCATENATE(HLOOKUP(C213,$Q$7:$V$9,3,TRUE),\"s\"),HLOOKUP(C213,$Q$7:$V$9,3,TRUE))","v":"centièmes"},{"$f":"W212","v":100},null,null,null,null,null,null,null,null,null,null,null,null,null,{"$f":"IF(AND(R212=\"\",Q212<>\"\"),Q$7,0)","v":0},{"$f":"IF(AND(S212=\"\",R212<>\"\"),R$7,0)","v":100},{"$f":"IF(AND(T212=\"\",S212<>\"\"),S$7,0)","v":0},{"$f":"IF(AND(U212=\"\",T212<>\"\"),T$7,0)","v":0},{"$f":"IF(AND(V212=\"\",U212<>\"\"),U$7,0)","v":0},{"$f":"IF(AND(W213=\"\",V212<>\"\"),V$7,0)","v":0}]
[null,{"$f":"IF($C$8=\"virgule\",CONCATENATE(B211,\" virgule \",B212),CONCATENATE(B211,\"  et \",B212,\" \",B213))","v":"neuf cent soixante-trois milliards cinq cent cinquante millions cinquante-six mille huit cent soixante-dix virgule quarante-trois"}]
[null,null,null,null,{"$f":"IF(X215>100000000000,INT(RIGHT($X215,12)/100000000000),0)","v":2},{"$f":"IF(X215>10000000000,INT(RIGHT($X215,11)/10000000000),0)","v":1},{"$f":"IF(X215>1000000000,INT(RIGHT($X215,10)/1000000000),0)","v":6},{"$f":"IF(X215>100000000,INT(RIGHT($X215,9)/100000000),0)","v":0},{"$f":"IF(X215>10000000,INT(RIGHT($X215,8)/10000000),0)","v":7},{"$f":"IF(X215>1000000,INT(RIGHT($X215,7)/1000000),0)","v":7},{"$f":"IF(X215>100000,INT(RIGHT($X215,6)/100000),0)","v":7},{"$f":"IF(X215>10000,INT(RIGHT($X215,5)/10000),0)","v":0},{"$f":"IF(X215>1000,INT(RIGHT($X215,4)/1000),0)","v":8},{"$f":"IF(X215>100,INT(RIGHT($X215,3)/100),0)","v":1},{"$f":"IF(X215>10,INT(RIGHT($X215,2)/10),0)","v":6},{"$f":"INT(RIGHT($X215,1)/1)","v":7},{"$f":"INT(RIGHT($AC215,1))","v":8},{"$f":"INT(RIGHT($AC215,2)/10)","v":1},{"$f":"INT(RIGHT($AC215,3)/100)","v":0},{"$f":"INT(RIGHT($AC215,4)/1000)","v":0},{"$f":"INT(RIGHT($AC215,5)/10000)","v":0},{"$f":"INT(RIGHT($AC215,6)/100000)","v":0},{"$f":"((Q215*100000)+(R215*10000)+(S215*1000)+(T215*100)+(U215*10)+V215)","v":810000},{"$f":"C$3+INT(RAND()*(C$4-C$3+1))","v":216077708167},{"$f":"LEN(X215)","v":12},{"$f":"INT(RAND()*(Y215-C$5))+C$5","v":7},{"$f":"Z215-C$5","v":5},null,{"$f":"INT(RAND()*(POWER(10,$C$7))+1)","v":18},{"$f":"LEN(AC215)","v":2},{"$f":"INT(RAND()*(AD215-H$5))+H$5","v":1},{"$f":"AE215-H$5","v":1}]
[42,{"$f":"convnumberletter(C216)","v":"deux cent seize milliards sept cent huit mille cent soixante-sept"},{"$f":"(E217*10^E$7)+(F217*10^F$7)+(G217*10^G$7)+(H217*10^H$7)+(I217*10^I$7)+(J217*10^J$7)+(K217*10^K$7)+(L217*10^L$7)+(M217*10^M$7)+(N217*10^N$7)+(O217*10^O$7)+(P217*10^P$7)","v":216000708167},null,{"$f":"IF(Z215=12,TRUE,FALSE)","v":false},{"$f":"IF(Z215=11,TRUE,FALSE)","v":false},{"$f":"IF(Z215=10,TRUE,FALSE)","v":false},{"$f":"IF(Z215=9,TRUE,FALSE)","v":false},{"$f":"IF(Z215=8,TRUE,FALSE)","v":false},{"$f":"IF(Z215=7,TRUE,FALSE)","v":true},{"$f":"IF(Z215=6,TRUE,FALSE)","v":false},{"$f":"IF(Z215=5,TRUE,FALSE)","v":false},{"$f":"IF(Z215=4,TRUE,FALSE)","v":false},{"$f":"IF(Z215=3,TRUE,FALSE)","v":false},{"$f":"IF(Z215=2,TRUE,FALSE)","v":false},{"$f":"IF(Z215=1,TRUE,FALSE)","v":false},{"$f":"IF(AND(Q215=0,R216=FALSE),FALSE,TRUE)","v":true},{"$f":"IF(AND(R215=0,S216=FALSE),FALSE,TRUE)","v":true},{"$f":"IF(AND(S215=0,T216=FALSE),FALSE,TRUE)","v":false},{"$f":"IF(AND(T215=0,U216=FALSE),FALSE,TRUE)","v":false},{"$f":"IF(AND(U215=0,V216=FALSE),FALSE,TRUE)","v":false},{"$f":"IF(V215=0,FALSE,TRUE)","v":false},{"$f":"W215/(1000000/W217)","v":81}]
[null,{"$f":"convnumberletter(C217)","v":"quatre-vingt-un"},{"$f":"W216","v":81},null,{"$f":"IF(AND(E$7-1<$Z215,E$7-1>=$AA215),0,E215)","v":2},1,6,0,0,0,7,0,{"$f":"IF(AND(M$7-1<$Z215,M$7-1>=$AA215),0,M215)","v":8},{"$f":"IF(AND(N$7-1<$Z215,N$7-1>=$AA215),0,N215)","v":1},{"$f":"IF(AND(O$7-1<$Z215,O$7-1>=$AA215),0,O215)","v":6},{"$f":"IF(AND(P$7-1<$Z215,P$7-1>=$AA215),0,P215)","v":7},{"$f":"IF(Q216=FALSE,\"\",Q215)","v":8},1,"","","","",{"$f":"SUM(Q218:V218)","v":100}]
[null,{"$f":"IF(C217>1,CONCATENATE(HLOOKUP(C218,$Q$7:$V$9,3,TRUE),\"s\"),HLOOKUP(C218,$Q$7:$V$9,3,TRUE))","v":"centièmes"},{"$f":"W217","v":100},null,null,null,null,null,null,null,null,null,null,null,null,null,{"$f":"IF(AND(R217=\"\",Q217<>\"\"),Q$7,0)","v":0},{"$f":"IF(AND(S217=\"\",R217<>\"\"),R$7,0)","v":100},{"$f":"IF(AND(T217=\"\",S217<>\"\"),S$7,0)","v":0},{"$f":"IF(AND(U217=\"\",T217<>\"\"),T$7,0)","v":0},{"$f":"IF(AND(V217=\"\",U217<>\"\"),U$7,0)","v":0},{"$f":"IF(AND(W218=\"\",V217<>\"\"),V$7,0)","v":0}]
[null,{"$f":"IF($C$8=\"virgule\",CONCATENATE(B216,\" virgule \",B217),CONCATENATE(B216,\"  et \",B217,\" \",B218))","v":"deux cent seize milliards sept cent huit mille cent soixante-sept virgule quatre-vingt-un"}]
[null,null,null,null,{"$f":"IF(X220>100000000000,INT(RIGHT($X220,12)/100000000000),0)","v":5},{"$f":"IF(X220>10000000000,INT(RIGHT($X220,11)/10000000000),0)","v":2},{"$f":"IF(X220>1000000000,INT(RIGHT($X220,10)/1000000000),0)","v":1},{"$f":"IF(X220>100000000,INT(RIGHT($X220,9)/100000000),0)","v":4},{"$f":"IF(X220>10000000,INT(RIGHT($X220,8)/10000000),0)","v":7},{"$f":"IF(X220>1000000,INT(RIGHT($X220,7)/1000000),0)","v":5},{"$f":"IF(X220>100000,INT(RIGHT($X220,6)/100000),0)","v":6},{"$f":"IF(X220>10000,INT(RIGHT($X220,5)/10000),0)","v":8},{"$f":"IF(X220>1000,INT(RIGHT($X220,4)/1000),0)","v":1},{"$f":"IF(X220>100,INT(RIGHT($X220,3)/100),0)","v":2},{"$f":"IF(X220>10,INT(RIGHT($X220,2)/10),0)","v":6},{"$f":"INT(RIGHT($X220,1)/1)","v":6},{"$f":"INT(RIGHT($AC220,1))","v":4},{"$f":"INT(RIGHT($AC220,2)/10)","v":2},{"$f":"INT(RIGHT($AC220,3)/100)","v":0},{"$f":"INT(RIGHT($AC220,4)/1000)","v":0},{"$f":"INT(RIGHT($AC220,5)/10000)","v":0},{"$f":"INT(RIGHT($AC220,6)/100000)","v":0},{"$f":"((Q220*100000)+(R220*10000)+(S220*1000)+(T220*100)+(U220*10)+V220)","v":420000},{"$f":"C$3+INT(RAND()*(C$4-C$3+1))","v":521475681266},{"$f":"LEN(X220)","v":12},{"$f":"INT(RAND()*(Y220-C$5))+C$5","v":6},{"$f":"Z220-C$5","v":4},null,{"$f":"INT(RAND()*(POWER(10,$C$7))+1)","v":24},{"$f":"LEN(AC220)","v":2},{"$f":"INT(RAND()*(AD220-H$5))+H$5","v":1},{"$f":"AE220-H$5","v":1}]
[43,{"$f":"convnumberletter(C221)","v":"cinq cent vingt et un milliards quatre cent soixante-dix millions quatre-vingt-un mille deux cent soixante-six"},{"$f":"(E222*10^E$7)+(F222*10^F$7)+(G222*10^G$7)+(H222*10^H$7)+(I222*10^I$7)+(J222*10^J$7)+(K222*10^K$7)+(L222*10^L$7)+(M222*10^M$7)+(N222*10^N$7)+(O222*10^O$7)+(P222*10^P$7)","v":521470081266},null,{"$f":"IF(Z220=12,TRUE,FALSE)","v":false},{"$f":"IF(Z220=11,TRUE,FALSE)","v":false},{"$f":"IF(Z220=10,TRUE,FALSE)","v":false},{"$f":"IF(Z220=9,TRUE,FALSE)","v":false},{"$f":"IF(Z220=8,TRUE,FALSE)","v":false},{"$f":"IF(Z220=7,TRUE,FALSE)","v":false},{"$f":"IF(Z220=6,TRUE,FALSE)","v":true},{"$f":"IF(Z220=5,TRUE,FALSE)","v":false},{"$f":"IF(Z220=4,TRUE,FALSE)","v":false},{"$f":"IF(Z220=3,TRUE,FALSE)","v":false},{"$f":"IF(Z220=2,TRUE,FALSE)","v":false},{"$f":"IF(Z220=1,TRUE,FALSE)","v":false},{"$f":"IF(AND(Q220=0,R221=FALSE),FALSE,TRUE)","v":true},{"$f":"IF(AND(R220=0,S221=FALSE),FALSE,TRUE)","v":true},{"$f":"IF(AND(S220=0,T221=FALSE),FALSE,TRUE)","v":false},{"$f":"IF(AND(T220=0,U221=FALSE),FALSE,TRUE)","v":false},{"$f":"IF(AND(U220=0,V221=FALSE),FALSE,TRUE)","v":false},{"$f":"IF(V220=0,FALSE,TRUE)","v":false},{"$f":"W220/(1000000/W222)","v":42}]
[null,{"$f":"convnumberletter(C222)","v":"quarante-deux"},{"$f":"W221","v":42},null,{"$f":"IF(AND(E$7-1<$Z220,E$7-1>=$AA220),0,E220)","v":5},2,1,4,7,0,0,8,{"$f":"IF(AND(M$7-1<$Z220,M$7-1>=$AA220),0,M220)","v":1},{"$f":"IF(AND(N$7-1<$Z220,N$7-1>=$AA220),0,N220)","v":2},{"$f":"IF(AND(O$7-1<$Z220,O$7-1>=$AA220),0,O220)","v":6},{"$f":"IF(AND(P$7-1<$Z220,P$7-1>=$AA220),0,P220)","v":6},{"$f":"IF(Q221=FALSE,\"\",Q220)","v":4},2,"","","","",{"$f":"SUM(Q223:V223)","v":100}]
[null,{"$f":"IF(C222>1,CONCATENATE(HLOOKUP(C223,$Q$7:$V$9,3,TRUE),\"s\"),HLOOKUP(C223,$Q$7:$V$9,3,TRUE))","v":"centièmes"},{"$f":"W222","v":100},null,null,null,null,null,null,null,null,null,null,null,null,null,{"$f":"IF(AND(R222=\"\",Q222<>\"\"),Q$7,0)","v":0},{"$f":"IF(AND(S222=\"\",R222<>\"\"),R$7,0)","v":100},{"$f":"IF(AND(T222=\"\",S222<>\"\"),S$7,0)","v":0},{"$f":"IF(AND(U222=\"\",T222<>\"\"),T$7,0)","v":0},{"$f":"IF(AND(V222=\"\",U222<>\"\"),U$7,0)","v":0},{"$f":"IF(AND(W223=\"\",V222<>\"\"),V$7,0)","v":0}]
[null,{"$f":"IF($C$8=\"virgule\",CONCATENATE(B221,\" virgule \",B222),CONCATENATE(B221,\"  et \",B222,\" \",B223))","v":"cinq cent vingt et un milliards quatre cent soixante-dix millions quatre-vingt-un mille deux cent soixante-six virgule quarante-deux"}]
[null,null,null,null,{"$f":"IF(X225>100000000000,INT(RIGHT($X225,12)/100000000000),0)","v":0},{"$f":"IF(X225>10000000000,INT(RIGHT($X225,11)/10000000000),0)","v":2},{"$f":"IF(X225>1000000000,INT(RIGHT($X225,10)/1000000000),0)","v":1},{"$f":"IF(X225>100000000,INT(RIGHT($X225,9)/100000000),0)","v":1},{"$f":"IF(X225>10000000,INT(RIGHT($X225,8)/10000000),0)","v":6},{"$f":"IF(X225>1000000,INT(RIGHT($X225,7)/1000000),0)","v":4},{"$f":"IF(X225>100000,INT(RIGHT($X225,6)/100000),0)","v":2},{"$f":"IF(X225>10000,INT(RIGHT($X225,5)/10000),0)","v":0},{"$f":"IF(X225>1000,INT(RIGHT($X225,4)/1000),0)","v":6},{"$f":"IF(X225>100,INT(RIGHT($X225,3)/100),0)","v":2},{"$f":"IF(X225>10,INT(RIGHT($X225,2)/10),0)","v":3},{"$f":"INT(RIGHT($X225,1)/1)","v":3},{"$f":"INT(RIGHT($AC225,1))","v":7},{"$f":"INT(RIGHT($AC225,2)/10)","v":5},{"$f":"INT(RIGHT($AC225,3)/100)","v":0},{"$f":"INT(RIGHT($AC225,4)/1000)","v":0},{"$f":"INT(RIGHT($AC225,5)/10000)","v":0},{"$f":"INT(RIGHT($AC225,6)/100000)","v":0},{"$f":"((Q225*100000)+(R225*10000)+(S225*1000)+(T225*100)+(U225*10)+V225)","v":750000},{"$f":"C$3+INT(RAND()*(C$4-C$3+1))","v":21164206233},{"$f":"LEN(X225)","v":11},{"$f":"INT(RAND()*(Y225-C$5))+C$5","v":6},{"$f":"Z225-C$5","v":4},null,{"$f":"INT(RAND()*(POWER(10,$C$7))+1)","v":57},{"$f":"LEN(AC225)","v":2},{"$f":"INT(RAND()*(AD225-H$5))+H$5","v":1},{"$f":"AE225-H$5","v":1}]
[44,{"$f":"convnumberletter(C226)","v":"vingt et un milliards cent soixante millions six mille deux cent trente-trois"},{"$f":"(E227*10^E$7)+(F227*10^F$7)+(G227*10^G$7)+(H227*10^H$7)+(I227*10^I$7)+(J227*10^J$7)+(K227*10^K$7)+(L227*10^L$7)+(M227*10^M$7)+(N227*10^N$7)+(O227*10^O$7)+(P227*10^P$7)","v":21160006233},null,{"$f":"IF(Z225=12,TRUE,FALSE)","v":false},{"$f":"IF(Z225=11,TRUE,FALSE)","v":false},{"$f":"IF(Z225=10,TRUE,FALSE)","v":false},{"$f":"IF(Z225=9,TRUE,FALSE)","v":false},{"$f":"IF(Z225=8,TRUE,FALSE)","v":false},{"$f":"IF(Z225=7,TRUE,FALSE)","v":false},{"$f":"IF(Z225=6,TRUE,FALSE)","v":true},{"$f":"IF(Z225=5,TRUE,FALSE)","v":false},{"$f":"IF(Z225=4,TRUE,FALSE)","v":false},{"$f":"IF(Z225=3,TRUE,FALSE)","v":false},{"$f":"IF(Z225=2,TRUE,FALSE)","v":false},{"$f":"IF(Z225=1,TRUE,FALSE)","v":false},{"$f":"IF(AND(Q225=0,R226=FALSE),FALSE,TRUE)","v":true},{"$f":"IF(AND(R225=0,S226=FALSE),FALSE,TRUE)","v":true},{"$f":"IF(AND(S225=0,T226=FALSE),FALSE,TRUE)","v":false},{"$f":"IF(AND(T225=0,U226=FALSE),FALSE,TRUE)","v":false},{"$f":"IF(AND(U225=0,V226=FALSE),FALSE,TRUE)","v":false},{"$f":"IF(V225=0,FALSE,TRUE)","v":false},{"$f":"W225/(1000000/W227)","v":75}]
[null,{"$f":"convnumberletter(C227)","v":"soixante-quinze"},{"$f":"W226","v":75},null,{"$f":"IF(AND(E$7-1<$Z225,E$7-1>=$AA225),0,E225)","v":0},2,1,1,6,0,0,0,{"$f":"IF(AND(M$7-1<$Z225,M$7-1>=$AA225),0,M225)","v":6},{"$f":"IF(AND(N$7-1<$Z225,N$7-1>=$AA225),0,N225)","v":2},{"$f":"IF(AND(O$7-1<$Z225,O$7-1>=$AA225),0,O225)","v":3},{"$f":"IF(AND(P$7-1<$Z225,P$7-1>=$AA225),0,P225)","v":3},{"$f":"IF(Q226=FALSE,\"\",Q225)","v":7},5,"","","","",{"$f":"SUM(Q228:V228)","v":100}]
[null,{"$f":"IF(C227>1,CONCATENATE(HLOOKUP(C228,$Q$7:$V$9,3,TRUE),\"s\"),HLOOKUP(C228,$Q$7:$V$9,3,TRUE))","v":"centièmes"},{"$f":"W227","v":100},null,null,null,null,null,null,null,null,null,null,null,null,null,{"$f":"IF(AND(R227=\"\",Q227<>\"\"),Q$7,0)","v":0},{"$f":"IF(AND(S227=\"\",R227<>\"\"),R$7,0)","v":100},{"$f":"IF(AND(T227=\"\",S227<>\"\"),S$7,0)","v":0},{"$f":"IF(AND(U227=\"\",T227<>\"\"),T$7,0)","v":0},{"$f":"IF(AND(V227=\"\",U227<>\"\"),U$7,0)","v":0},{"$f":"IF(AND(W228=\"\",V227<>\"\"),V$7,0)","v":0}]
[null,{"$f":"IF($C$8=\"virgule\",CONCATENATE(B226,\" virgule \",B227),CONCATENATE(B226,\"  et \",B227,\" \",B228))","v":"vingt et un milliards cent soixante millions six mille deux cent trente-trois virgule soixante-quinze"}]
[null,null,null,null,{"$f":"IF(X230>100000000000,INT(RIGHT($X230,12)/100000000000),0)","v":9},{"$f":"IF(X230>10000000000,INT(RIGHT($X230,11)/10000000000),0)","v":5},{"$f":"IF(X230>1000000000,INT(RIGHT($X230,10)/1000000000),0)","v":6},{"$f":"IF(X230>100000000,INT(RIGHT($X230,9)/100000000),0)","v":2},{"$f":"IF(X230>10000000,INT(RIGHT($X230,8)/10000000),0)","v":7},{"$f":"IF(X230>1000000,INT(RIGHT($X230,7)/1000000),0)","v":2},{"$f":"IF(X230>100000,INT(RIGHT($X230,6)/100000),0)","v":2},{"$f":"IF(X230>10000,INT(RIGHT($X230,5)/10000),0)","v":8},{"$f":"IF(X230>1000,INT(RIGHT($X230,4)/1000),0)","v":3},{"$f":"IF(X230>100,INT(RIGHT($X230,3)/100),0)","v":1},{"$f":"IF(X230>10,INT(RIGHT($X230,2)/10),0)","v":8},{"$f":"INT(RIGHT($X230,1)/1)","v":7},{"$f":"INT(RIGHT($AC230,1))","v":2},{"$f":"INT(RIGHT($AC230,2)/10)","v":0},{"$f":"INT(RIGHT($AC230,3)/100)","v":0},{"$f":"INT(RIGHT($AC230,4)/1000)","v":0},{"$f":"INT(RIGHT($AC230,5)/10000)","v":0},{"$f":"INT(RIGHT($AC230,6)/100000)","v":0},{"$f":"((Q230*100000)+(R230*10000)+(S230*1000)+(T230*100)+(U230*10)+V230)","v":200000},{"$f":"C$3+INT(RAND()*(C$4-C$3+1))","v":956272283187},{"$f":"LEN(X230)","v":12},{"$f":"INT(RAND()*(Y230-C$5))+C$5","v":9},{"$f":"Z230-C$5","v":7},null,{"$f":"INT(RAND()*(POWER(10,$C$7))+1)","v":2},{"$f":"LEN(AC230)","v":1},{"$f":"INT(RAND()*(AD230-H$5))+H$5","v":0},{"$f":"AE230-H$5","v":0}]
[45,{"$f":"convnumberletter(C231)","v":"neuf cent cinquante milliards soixante-douze millions deux cent quatre-vingt-trois mille cent quatre-vingt-sept"},{"$f":"(E232*10^E$7)+(F232*10^F$7)+(G232*10^G$7)+(H232*10^H$7)+(I232*10^I$7)+(J232*10^J$7)+(K232*10^K$7)+(L232*10^L$7)+(M232*10^M$7)+(N232*10^N$7)+(O232*10^O$7)+(P232*10^P$7)","v":950072283187},null,{"$f":"IF(Z230=12,TRUE,FALSE)","v":false},{"$f":"IF(Z230=11,TRUE,FALSE)","v":false},{"$f":"IF(Z230=10,TRUE,FALSE)","v":false},{"$f":"IF(Z230=9,TRUE,FALSE)","v":true},{"$f":"IF(Z230=8,TRUE,FALSE)","v":false},{"$f":"IF(Z230=7,TRUE,FALSE)","v":false},{"$f":"IF(Z230=6,TRUE,FALSE)","v":false},{"$f":"IF(Z230=5,TRUE,FALSE)","v":false},{"$f":"IF(Z230=4,TRUE,FALSE)","v":false},{"$f":"IF(Z230=3,TRUE,FALSE)","v":false},{"$f":"IF(Z230=2,TRUE,FALSE)","v":false},{"$f":"IF(Z230=1,TRUE,FALSE)","v":false},{"$f":"IF(AND(Q230=0,R231=FALSE),FALSE,TRUE)","v":true},{"$f":"IF(AND(R230=0,S231=FALSE),FALSE,TRUE)","v":false},{"$f":"IF(AND(S230=0,T231=FALSE),FALSE,TRUE)","v":false},{"$f":"IF(AND(T230=0,U231=FALSE),FALSE,TRUE)","v":false},{"$f":"IF(AND(U230=0,V231=FALSE),FALSE,TRUE)","v":false},{"$f":"IF(V230=0,FALSE,TRUE)","v":false},{"$f":"W230/(1000000/W232)","v":2}]
[null,{"$f":"convnumberletter(C232)","v":"deux"},{"$f":"W231","v":2},null,{"$f":"IF(AND(E$7-1<$Z230,E$7-1>=$AA230),0,E230)","v":9},5,0,0,7,2,2,8,{"$f":"IF(AND(M$7-1<$Z230,M$7-1>=$AA230),0,M230)","v":3},{"$f":"IF(AND(N$7-1<$Z230,N$7-1>=$AA230),0,N230)","v":1},{"$f":"IF(AND(O$7-1<$Z230,O$7-1>=$AA230),0,O230)","v":8},{"$f":"IF(AND(P$7-1<$Z230,P$7-1>=$AA230),0,P230)","v":7},{"$f":"IF(Q231=FALSE,\"\",Q230)","v":2},"","","","","",{"$f":"SUM(Q233:V233)","v":10}]
[null,{"$f":"IF(C232>1,CONCATENATE(HLOOKUP(C233,$Q$7:$V$9,3,TRUE),\"s\"),HLOOKUP(C233,$Q$7:$V$9,3,TRUE))","v":"dixièmes"},{"$f":"W232","v":10},null,null,null,null,null,null,null,null,null,null,null,null,null,{"$f":"IF(AND(R232=\"\",Q232<>\"\"),Q$7,0)","v":10},{"$f":"IF(AND(S232=\"\",R232<>\"\"),R$7,0)","v":0},{"$f":"IF(AND(T232=\"\",S232<>\"\"),S$7,0)","v":0},{"$f":"IF(AND(U232=\"\",T232<>\"\"),T$7,0)","v":0},{"$f":"IF(AND(V232=\"\",U232<>\"\"),U$7,0)","v":0},{"$f":"IF(AND(W233=\"\",V232<>\"\"),V$7,0)","v":0}]
[null,{"$f":"IF($C$8=\"virgule\",CONCATENATE(B231,\" virgule \",B232),CONCATENATE(B231,\"  et \",B232,\" \",B233))","v":"neuf cent cinquante milliards soixante-douze millions deux cent quatre-vingt-trois mille cent quatre-vingt-sept virgule deux"}]
[null,null,null,null,{"$f":"IF(X235>100000000000,INT(RIGHT($X235,12)/100000000000),0)","v":7},{"$f":"IF(X235>10000000000,INT(RIGHT($X235,11)/10000000000),0)","v":3},{"$f":"IF(X235>1000000000,INT(RIGHT($X235,10)/1000000000),0)","v":8},{"$f":"IF(X235>100000000,INT(RIGHT($X235,9)/100000000),0)","v":1},{"$f":"IF(X235>10000000,INT(RIGHT($X235,8)/10000000),0)","v":3},{"$f":"IF(X235>1000000,INT(RIGHT($X235,7)/1000000),0)","v":7},{"$f":"IF(X235>100000,INT(RIGHT($X235,6)/100000),0)","v":1},{"$f":"IF(X235>10000,INT(RIGHT($X235,5)/10000),0)","v":4},{"$f":"IF(X235>1000,INT(RIGHT($X235,4)/1000),0)","v":0},{"$f":"IF(X235>100,INT(RIGHT($X235,3)/100),0)","v":2},{"$f":"IF(X235>10,INT(RIGHT($X235,2)/10),0)","v":5},{"$f":"INT(RIGHT($X235,1)/1)","v":6},{"$f":"INT(RIGHT($AC235,1))","v":4},{"$f":"INT(RIGHT($AC235,2)/10)","v":7},{"$f":"INT(RIGHT($AC235,3)/100)","v":0},{"$f":"INT(RIGHT($AC235,4)/1000)","v":0},{"$f":"INT(RIGHT($AC235,5)/10000)","v":0},{"$f":"INT(RIGHT($AC235,6)/100000)","v":0},{"$f":"((Q235*100000)+(R235*10000)+(S235*1000)+(T235*100)+(U235*10)+V235)","v":470000},{"$f":"C$3+INT(RAND()*(C$4-C$3+1))","v":738137140256},{"$f":"LEN(X235)","v":12},{"$f":"INT(RAND()*(Y235-C$5))+C$5","v":3},{"$f":"Z235-C$5","v":1},null,{"$f":"INT(RAND()*(POWER(10,$C$7))+1)","v":74},{"$f":"LEN(AC235)","v":2},{"$f":"INT(RAND()*(AD235-H$5))+H$5","v":1},{"$f":"AE235-H$5","v":1}]
[46,{"$f":"convnumberletter(C236)","v":"sept cent trente-huit milliards cent trente-sept millions cent quarante mille cinquante-six"},{"$f":"(E237*10^E$7)+(F237*10^F$7)+(G237*10^G$7)+(H237*10^H$7)+(I237*10^I$7)+(J237*10^J$7)+(K237*10^K$7)+(L237*10^L$7)+(M237*10^M$7)+(N237*10^N$7)+(O237*10^O$7)+(P237*10^P$7)","v":738137140056},null,{"$f":"IF(Z235=12,TRUE,FALSE)","v":false},{"$f":"IF(Z235=11,TRUE,FALSE)","v":false},{"$f":"IF(Z235=10,TRUE,FALSE)","v":false},{"$f":"IF(Z235=9,TRUE,FALSE)","v":false},{"$f":"IF(Z235=8,TRUE,FALSE)","v":false},{"$f":"IF(Z235=7,TRUE,FALSE)","v":false},{"$f":"IF(Z235=6,TRUE,FALSE)","v":false},{"$f":"IF(Z235=5,TRUE,FALSE)","v":false},{"$f":"IF(Z235=4,TRUE,FALSE)","v":false},{"$f":"IF(Z235=3,TRUE,FALSE)","v":true},{"$f":"IF(Z235=2,TRUE,FALSE)","v":false},{"$f":"IF(Z235=1,TRUE,FALSE)","v":false},{"$f":"IF(AND(Q235=0,R236=FALSE),FALSE,TRUE)","v":true},{"$f":"IF(AND(R235=0,S236=FALSE),FALSE,TRUE)","v":true},{"$f":"IF(AND(S235=0,T236=FALSE),FALSE,TRUE)","v":false},{"$f":"IF(AND(T235=0,U236=FALSE),FALSE,TRUE)","v":false},{"$f":"IF(AND(U235=0,V236=FALSE),FALSE,TRUE)","v":false},{"$f":"IF(V235=0,FALSE,TRUE)","v":false},{"$f":"W235/(1000000/W237)","v":47}]
[null,{"$f":"convnumberletter(C237)","v":"quarante-sept"},{"$f":"W236","v":47},null,{"$f":"IF(AND(E$7-1<$Z235,E$7-1>=$AA235),0,E235)","v":7},3,8,1,3,7,1,4,{"$f":"IF(AND(M$7-1<$Z235,M$7-1>=$AA235),0,M235)","v":0},{"$f":"IF(AND(N$7-1<$Z235,N$7-1>=$AA235),0,N235)","v":0},{"$f":"IF(AND(O$7-1<$Z235,O$7-1>=$AA235),0,O235)","v":5},{"$f":"IF(AND(P$7-1<$Z235,P$7-1>=$AA235),0,P235)","v":6},{"$f":"IF(Q236=FALSE,\"\",Q235)","v":4},7,"","","","",{"$f":"SUM(Q238:V238)","v":100}]
[null,{"$f":"IF(C237>1,CONCATENATE(HLOOKUP(C238,$Q$7:$V$9,3,TRUE),\"s\"),HLOOKUP(C238,$Q$7:$V$9,3,TRUE))","v":"centièmes"},{"$f":"W237","v":100},null,null,null,null,null,null,null,null,null,null,null,null,null,{"$f":"IF(AND(R237=\"\",Q237<>\"\"),Q$7,0)","v":0},{"$f":"IF(AND(S237=\"\",R237<>\"\"),R$7,0)","v":100},{"$f":"IF(AND(T237=\"\",S237<>\"\"),S$7,0)","v":0},{"$f":"IF(AND(U237=\"\",T237<>\"\"),T$7,0)","v":0},{"$f":"IF(AND(V237=\"\",U237<>\"\"),U$7,0)","v":0},{"$f":"IF(AND(W238=\"\",V237<>\"\"),V$7,0)","v":0}]
[null,{"$f":"IF($C$8=\"virgule\",CONCATENATE(B236,\" virgule \",B237),CONCATENATE(B236,\"  et \",B237,\" \",B238))","v":"sept cent trente-huit milliards cent trente-sept millions cent quarante mille cinquante-six virgule quarante-sept"}]
[null,null,null,null,{"$f":"IF(X240>100000000000,INT(RIGHT($X240,12)/100000000000),0)","v":6},{"$f":"IF(X240>10000000000,INT(RIGHT($X240,11)/10000000000),0)","v":2},{"$f":"IF(X240>1000000000,INT(RIGHT($X240,10)/1000000000),0)","v":0},{"$f":"IF(X240>100000000,INT(RIGHT($X240,9)/100000000),0)","v":8},{"$f":"IF(X240>10000000,INT(RIGHT($X240,8)/10000000),0)","v":3},{"$f":"IF(X240>1000000,INT(RIGHT($X240,7)/1000000),0)","v":5},{"$f":"IF(X240>100000,INT(RIGHT($X240,6)/100000),0)","v":7},{"$f":"IF(X240>10000,INT(RIGHT($X240,5)/10000),0)","v":0},{"$f":"IF(X240>1000,INT(RIGHT($X240,4)/1000),0)","v":5},{"$f":"IF(X240>100,INT(RIGHT($X240,3)/100),0)","v":9},{"$f":"IF(X240>10,INT(RIGHT($X240,2)/10),0)","v":6},{"$f":"INT(RIGHT($X240,1)/1)","v":5},{"$f":"INT(RIGHT($AC240,1))","v":6},{"$f":"INT(RIGHT($AC240,2)/10)","v":3},{"$f":"INT(RIGHT($AC240,3)/100)","v":0},{"$f":"INT(RIGHT($AC240,4)/1000)","v":0},{"$f":"INT(RIGHT($AC240,5)/10000)","v":0},{"$f":"INT(RIGHT($AC240,6)/100000)","v":0},{"$f":"((Q240*100000)+(R240*10000)+(S240*1000)+(T240*100)+(U240*10)+V240)","v":630000},{"$f":"C$3+INT(RAND()*(C$4-C$3+1))","v":620835705965},{"$f":"LEN(X240)","v":12},{"$f":"INT(RAND()*(Y240-C$5))+C$5","v":11},{"$f":"Z240-C$5","v":9},null,{"$f":"INT(RAND()*(POWER(10,$C$7))+1)","v":36},{"$f":"LEN(AC240)","v":2},{"$f":"INT(RAND()*(AD240-H$5))+H$5","v":1},{"$f":"AE240-H$5","v":1}]
[47,{"$f":"convnumberletter(C241)","v":"huit cent trente-cinq millions sept cent cinq mille neuf cent soixante-cinq"},{"$f":"(E242*10^E$7)+(F242*10^F$7)+(G242*10^G$7)+(H242*10^H$7)+(I242*10^I$7)+(J242*10^J$7)+(K242*10^K$7)+(L242*10^L$7)+(M242*10^M$7)+(N242*10^N$7)+(O242*10^O$7)+(P242*10^P$7)","v":835705965},null,{"$f":"IF(Z240=12,TRUE,FALSE)","v":false},{"$f":"IF(Z240=11,TRUE,FALSE)","v":true},{"$f":"IF(Z240=10,TRUE,FALSE)","v":false},{"$f":"IF(Z240=9,TRUE,FALSE)","v":false},{"$f":"IF(Z240=8,TRUE,FALSE)","v":false},{"$f":"IF(Z240=7,TRUE,FALSE)","v":false},{"$f":"IF(Z240=6,TRUE,FALSE)","v":false},{"$f":"IF(Z240=5,TRUE,FALSE)","v":false},{"$f":"IF(Z240=4,TRUE,FALSE)","v":false},{"$f":"IF(Z240=3,TRUE,FALSE)","v":false},{"$f":"IF(Z240=2,TRUE,FALSE)","v":false},{"$f":"IF(Z240=1,TRUE,FALSE)","v":false},{"$f":"IF(AND(Q240=0,R241=FALSE),FALSE,TRUE)","v":true},{"$f":"IF(AND(R240=0,S241=FALSE),FALSE,TRUE)","v":true},{"$f":"IF(AND(S240=0,T241=FALSE),FALSE,TRUE)","v":false},{"$f":"IF(AND(T240=0,U241=FALSE),FALSE,TRUE)","v":false},{"$f":"IF(AND(U240=0,V241=FALSE),FALSE,TRUE)","v":false},{"$f":"IF(V240=0,FALSE,TRUE)","v":false},{"$f":"W240/(1000000/W242)","v":63}]
[null,{"$f":"convnumberletter(C242)","v":"soixante-trois"},{"$f":"W241","v":63},null,{"$f":"IF(AND(E$7-1<$Z240,E$7-1>=$AA240),0,E240)","v":0},0,0,8,3,5,7,0,{"$f":"IF(AND(M$7-1<$Z240,M$7-1>=$AA240),0,M240)","v":5},{"$f":"IF(AND(N$7-1<$Z240,N$7-1>=$AA240),0,N240)","v":9},{"$f":"IF(AND(O$7-1<$Z240,O$7-1>=$AA240),0,O240)","v":6},{"$f":"IF(AND(P$7-1<$Z240,P$7-1>=$AA240),0,P240)","v":5},{"$f":"IF(Q241=FALSE,\"\",Q240)","v":6},3,"","","","",{"$f":"SUM(Q243:V243)","v":100}]
[null,{"$f":"IF(C242>1,CONCATENATE(HLOOKUP(C243,$Q$7:$V$9,3,TRUE),\"s\"),HLOOKUP(C243,$Q$7:$V$9,3,TRUE))","v":"centièmes"},{"$f":"W242","v":100},null,null,null,null,null,null,null,null,null,null,null,null,null,{"$f":"IF(AND(R242=\"\",Q242<>\"\"),Q$7,0)","v":0},{"$f":"IF(AND(S242=\"\",R242<>\"\"),R$7,0)","v":100},{"$f":"IF(AND(T242=\"\",S242<>\"\"),S$7,0)","v":0},{"$f":"IF(AND(U242=\"\",T242<>\"\"),T$7,0)","v":0},{"$f":"IF(AND(V242=\"\",U242<>\"\"),U$7,0)","v":0},{"$f":"IF(AND(W243=\"\",V242<>\"\"),V$7,0)","v":0}]
[null,{"$f":"IF($C$8=\"virgule\",CONCATENATE(B241,\" virgule \",B242),CONCATENATE(B241,\"  et \",B242,\" \",B243))","v":"huit cent trente-cinq millions sept cent cinq mille neuf cent soixante-cinq virgule soixante-trois"}]
[null,null,null,null,{"$f":"IF(X245>100000000000,INT(RIGHT($X245,12)/100000000000),0)","v":2},{"$f":"IF(X245>10000000000,INT(RIGHT($X245,11)/10000000000),0)","v":2},{"$f":"IF(X245>1000000000,INT(RIGHT($X245,10)/1000000000),0)","v":0},{"$f":"IF(X245>100000000,INT(RIGHT($X245,9)/100000000),0)","v":7},{"$f":"IF(X245>10000000,INT(RIGHT($X245,8)/10000000),0)","v":1},{"$f":"IF(X245>1000000,INT(RIGHT($X245,7)/1000000),0)","v":0},{"$f":"IF(X245>100000,INT(RIGHT($X245,6)/100000),0)","v":7},{"$f":"IF(X245>10000,INT(RIGHT($X245,5)/10000),0)","v":4},{"$f":"IF(X245>1000,INT(RIGHT($X245,4)/1000),0)","v":2},{"$f":"IF(X245>100,INT(RIGHT($X245,3)/100),0)","v":1},{"$f":"IF(X245>10,INT(RIGHT($X245,2)/10),0)","v":9},{"$f":"INT(RIGHT($X245,1)/1)","v":9},{"$f":"INT(RIGHT($AC245,1))","v":0},{"$f":"INT(RIGHT($AC245,2)/10)","v":4},{"$f":"INT(RIGHT($AC245,3)/100)","v":0},{"$f":"INT(RIGHT($AC245,4)/1000)","v":0},{"$f":"INT(RIGHT($AC245,5)/10000)","v":0},{"$f":"INT(RIGHT($AC245,6)/100000)","v":0},{"$f":"((Q245*100000)+(R245*10000)+(S245*1000)+(T245*100)+(U245*10)+V245)","v":40000},{"$f":"C$3+INT(RAND()*(C$4-C$3+1))","v":220710742199},{"$f":"LEN(X245)","v":12},{"$f":"INT(RAND()*(Y245-C$5))+C$5","v":10},{"$f":"Z245-C$5","v":8},null,{"$f":"INT(RAND()*(POWER(10,$C$7))+1)","v":40},{"$f":"LEN(AC245)","v":2},{"$f":"INT(RAND()*(AD245-H$5))+H$5","v":0},{"$f":"AE245-H$5","v":0}]
[48,{"$f":"convnumberletter(C246)","v":"deux cents milliards sept cent dix millions sept cent quarante-deux mille cent quatre-vingt-dix-neuf"},{"$f":"(E247*10^E$7)+(F247*10^F$7)+(G247*10^G$7)+(H247*10^H$7)+(I247*10^I$7)+(J247*10^J$7)+(K247*10^K$7)+(L247*10^L$7)+(M247*10^M$7)+(N247*10^N$7)+(O247*10^O$7)+(P247*10^P$7)","v":200710742199},null,{"$f":"IF(Z245=12,TRUE,FALSE)","v":false},{"$f":"IF(Z245=11,TRUE,FALSE)","v":false},{"$f":"IF(Z245=10,TRUE,FALSE)","v":true},{"$f":"IF(Z245=9,TRUE,FALSE)","v":false},{"$f":"IF(Z245=8,TRUE,FALSE)","v":false},{"$f":"IF(Z245=7,TRUE,FALSE)","v":false},{"$f":"IF(Z245=6,TRUE,FALSE)","v":false},{"$f":"IF(Z245=5,TRUE,FALSE)","v":false},{"$f":"IF(Z245=4,TRUE,FALSE)","v":false},{"$f":"IF(Z245=3,TRUE,FALSE)","v":false},{"$f":"IF(Z245=2,TRUE,FALSE)","v":false},{"$f":"IF(Z245=1,TRUE,FALSE)","v":false},{"$f":"IF(AND(Q245=0,R246=FALSE),FALSE,TRUE)","v":true},{"$f":"IF(AND(R245=0,S246=FALSE),FALSE,TRUE)","v":true},{"$f":"IF(AND(S245=0,T246=FALSE),FALSE,TRUE)","v":false},{"$f":"IF(AND(T245=0,U246=FALSE),FALSE,TRUE)","v":false},{"$f":"IF(AND(U245=0,V246=FALSE),FALSE,TRUE)","v":false},{"$f":"IF(V245=0,FALSE,TRUE)","v":false},{"$f":"W245/(1000000/W247)","v":4}]
[null,{"$f":"convnumberletter(C247)","v":"quatre"},{"$f":"W246","v":4},null,{"$f":"IF(AND(E$7-1<$Z245,E$7-1>=$AA245),0,E245)","v":2},0,0,7,1,0,7,4,{"$f":"IF(AND(M$7-1<$Z245,M$7-1>=$AA245),0,M245)","v":2},{"$f":"IF(AND(N$7-1<$Z245,N$7-1>=$AA245),0,N245)","v":1},{"$f":"IF(AND(O$7-1<$Z245,O$7-1>=$AA245),0,O245)","v":9},{"$f":"IF(AND(P$7-1<$Z245,P$7-1>=$AA245),0,P245)","v":9},{"$f":"IF(Q246=FALSE,\"\",Q245)","v":0},4,"","","","",{"$f":"SUM(Q248:V248)","v":100}]
[null,{"$f":"IF(C247>1,CONCATENATE(HLOOKUP(C248,$Q$7:$V$9,3,TRUE),\"s\"),HLOOKUP(C248,$Q$7:$V$9,3,TRUE))","v":"centièmes"},{"$f":"W247","v":100},null,null,null,null,null,null,null,null,null,null,null,null,null,{"$f":"IF(AND(R247=\"\",Q247<>\"\"),Q$7,0)","v":0},{"$f":"IF(AND(S247=\"\",R247<>\"\"),R$7,0)","v":100},{"$f":"IF(AND(T247=\"\",S247<>\"\"),S$7,0)","v":0},{"$f":"IF(AND(U247=\"\",T247<>\"\"),T$7,0)","v":0},{"$f":"IF(AND(V247=\"\",U247<>\"\"),U$7,0)","v":0},{"$f":"IF(AND(W248=\"\",V247<>\"\"),V$7,0)","v":0}]
[null,{"$f":"IF($C$8=\"virgule\",CONCATENATE(B246,\" virgule \",B247),CONCATENATE(B246,\"  et \",B247,\" \",B248))","v":"deux cents milliards sept cent dix millions sept cent quarante-deux mille cent quatre-vingt-dix-neuf virgule quatre"}]
[null,null,null,null,{"$f":"IF(X250>100000000000,INT(RIGHT($X250,12)/100000000000),0)","v":4},{"$f":"IF(X250>10000000000,INT(RIGHT($X250,11)/10000000000),0)","v":3},{"$f":"IF(X250>1000000000,INT(RIGHT($X250,10)/1000000000),0)","v":1},{"$f":"IF(X250>100000000,INT(RIGHT($X250,9)/100000000),0)","v":2},{"$f":"IF(X250>10000000,INT(RIGHT($X250,8)/10000000),0)","v":5},{"$f":"IF(X250>1000000,INT(RIGHT($X250,7)/1000000),0)","v":8},{"$f":"IF(X250>100000,INT(RIGHT($X250,6)/100000),0)","v":2},{"$f":"IF(X250>10000,INT(RIGHT($X250,5)/10000),0)","v":2},{"$f":"IF(X250>1000,INT(RIGHT($X250,4)/1000),0)","v":0},{"$f":"IF(X250>100,INT(RIGHT($X250,3)/100),0)","v":7},{"$f":"IF(X250>10,INT(RIGHT($X250,2)/10),0)","v":6},{"$f":"INT(RIGHT($X250,1)/1)","v":6},{"$f":"INT(RIGHT($AC250,1))","v":9},{"$f":"INT(RIGHT($AC250,2)/10)","v":6},{"$f":"INT(RIGHT($AC250,3)/100)","v":0},{"$f":"INT(RIGHT($AC250,4)/1000)","v":0},{"$f":"INT(RIGHT($AC250,5)/10000)","v":0},{"$f":"INT(RIGHT($AC250,6)/100000)","v":0},{"$f":"((Q250*100000)+(R250*10000)+(S250*1000)+(T250*100)+(U250*10)+V250)","v":960000},{"$f":"C$3+INT(RAND()*(C$4-C$3+1))","v":431258220766},{"$f":"LEN(X250)","v":12},{"$f":"INT(RAND()*(Y250-C$5))+C$5","v":5},{"$f":"Z250-C$5","v":3},null,{"$f":"INT(RAND()*(POWER(10,$C$7))+1)","v":69},{"$f":"LEN(AC250)","v":2},{"$f":"INT(RAND()*(AD250-H$5))+H$5","v":1},{"$f":"AE250-H$5","v":1}]
[49,{"$f":"convnumberletter(C251)","v":"quatre cent trente et un milliards deux cent cinquante-huit millions et sept cent soixante-six"},{"$f":"(E252*10^E$7)+(F252*10^F$7)+(G252*10^G$7)+(H252*10^H$7)+(I252*10^I$7)+(J252*10^J$7)+(K252*10^K$7)+(L252*10^L$7)+(M252*10^M$7)+(N252*10^N$7)+(O252*10^O$7)+(P252*10^P$7)","v":431258000766},null,{"$f":"IF(Z250=12,TRUE,FALSE)","v":false},{"$f":"IF(Z250=11,TRUE,FALSE)","v":false},{"$f":"IF(Z250=10,TRUE,FALSE)","v":false},{"$f":"IF(Z250=9,TRUE,FALSE)","v":false},{"$f":"IF(Z250=8,TRUE,FALSE)","v":false},{"$f":"IF(Z250=7,TRUE,FALSE)","v":false},{"$f":"IF(Z250=6,TRUE,FALSE)","v":false},{"$f":"IF(Z250=5,TRUE,FALSE)","v":true},{"$f":"IF(Z250=4,TRUE,FALSE)","v":false},{"$f":"IF(Z250=3,TRUE,FALSE)","v":false},{"$f":"IF(Z250=2,TRUE,FALSE)","v":false},{"$f":"IF(Z250=1,TRUE,FALSE)","v":false},{"$f":"IF(AND(Q250=0,R251=FALSE),FALSE,TRUE)","v":true},{"$f":"IF(AND(R250=0,S251=FALSE),FALSE,TRUE)","v":true},{"$f":"IF(AND(S250=0,T251=FALSE),FALSE,TRUE)","v":false},{"$f":"IF(AND(T250=0,U251=FALSE),FALSE,TRUE)","v":false},{"$f":"IF(AND(U250=0,V251=FALSE),FALSE,TRUE)","v":false},{"$f":"IF(V250=0,FALSE,TRUE)","v":false},{"$f":"W250/(1000000/W252)","v":96}]
[null,{"$f":"convnumberletter(C252)","v":"quatre-vingt-seize"},{"$f":"W251","v":96},null,{"$f":"IF(AND(E$7-1<$Z250,E$7-1>=$AA250),0,E250)","v":4},3,1,2,5,8,0,0,{"$f":"IF(AND(M$7-1<$Z250,M$7-1>=$AA250),0,M250)","v":0},{"$f":"IF(AND(N$7-1<$Z250,N$7-1>=$AA250),0,N250)","v":7},{"$f":"IF(AND(O$7-1<$Z250,O$7-1>=$AA250),0,O250)","v":6},{"$f":"IF(AND(P$7-1<$Z250,P$7-1>=$AA250),0,P250)","v":6},{"$f":"IF(Q251=FALSE,\"\",Q250)","v":9},6,"","","","",{"$f":"SUM(Q253:V253)","v":100}]
[null,{"$f":"IF(C252>1,CONCATENATE(HLOOKUP(C253,$Q$7:$V$9,3,TRUE),\"s\"),HLOOKUP(C253,$Q$7:$V$9,3,TRUE))","v":"centièmes"},{"$f":"W252","v":100},null,null,null,null,null,null,null,null,null,null,null,null,null,{"$f":"IF(AND(R252=\"\",Q252<>\"\"),Q$7,0)","v":0},{"$f":"IF(AND(S252=\"\",R252<>\"\"),R$7,0)","v":100},{"$f":"IF(AND(T252=\"\",S252<>\"\"),S$7,0)","v":0},{"$f":"IF(AND(U252=\"\",T252<>\"\"),T$7,0)","v":0},{"$f":"IF(AND(V252=\"\",U252<>\"\"),U$7,0)","v":0},{"$f":"IF(AND(W253=\"\",V252<>\"\"),V$7,0)","v":0}]
[null,{"$f":"IF($C$8=\"virgule\",CONCATENATE(B251,\" virgule \",B252),CONCATENATE(B251,\"  et \",B252,\" \",B253))","v":"quatre cent trente et un milliards deux cent cinquante-huit millions et sept cent soixante-six virgule quatre-vingt-seize"}]
[null,null,null,null,{"$f":"IF(X255>100000000000,INT(RIGHT($X255,12)/100000000000),0)","v":2},{"$f":"IF(X255>10000000000,INT(RIGHT($X255,11)/10000000000),0)","v":4},{"$f":"IF(X255>1000000000,INT(RIGHT($X255,10)/1000000000),0)","v":2},{"$f":"IF(X255>100000000,INT(RIGHT($X255,9)/100000000),0)","v":3},{"$f":"IF(X255>10000000,INT(RIGHT($X255,8)/10000000),0)","v":2},{"$f":"IF(X255>1000000,INT(RIGHT($X255,7)/1000000),0)","v":2},{"$f":"IF(X255>100000,INT(RIGHT($X255,6)/100000),0)","v":3},{"$f":"IF(X255>10000,INT(RIGHT($X255,5)/10000),0)","v":2},{"$f":"IF(X255>1000,INT(RIGHT($X255,4)/1000),0)","v":5},{"$f":"IF(X255>100,INT(RIGHT($X255,3)/100),0)","v":4},{"$f":"IF(X255>10,INT(RIGHT($X255,2)/10),0)","v":1},{"$f":"INT(RIGHT($X255,1)/1)","v":9},{"$f":"INT(RIGHT($AC255,1))","v":0},{"$f":"INT(RIGHT($AC255,2)/10)","v":4},{"$f":"INT(RIGHT($AC255,3)/100)","v":0},{"$f":"INT(RIGHT($AC255,4)/1000)","v":0},{"$f":"INT(RIGHT($AC255,5)/10000)","v":0},{"$f":"INT(RIGHT($AC255,6)/100000)","v":0},{"$f":"((Q255*100000)+(R255*10000)+(S255*1000)+(T255*100)+(U255*10)+V255)","v":40000},{"$f":"C$3+INT(RAND()*(C$4-C$3+1))","v":242322325419},{"$f":"LEN(X255)","v":12},{"$f":"INT(RAND()*(Y255-C$5))+C$5","v":8},{"$f":"Z255-C$5","v":6},null,{"$f":"INT(RAND()*(POWER(10,$C$7))+1)","v":40},{"$f":"LEN(AC255)","v":2},{"$f":"INT(RAND()*(AD255-H$5))+H$5","v":0},{"$f":"AE255-H$5","v":0}]
[50,{"$f":"convnumberletter(C256)","v":"deux cent quarante-deux milliards deux millions trois cent vingt-cinq mille quatre cent dix-neuf"},{"$f":"(E257*10^E$7)+(F257*10^F$7)+(G257*10^G$7)+(H257*10^H$7)+(I257*10^I$7)+(J257*10^J$7)+(K257*10^K$7)+(L257*10^L$7)+(M257*10^M$7)+(N257*10^N$7)+(O257*10^O$7)+(P257*10^P$7)","v":242002325419},null,{"$f":"IF(Z255=12,TRUE,FALSE)","v":false},{"$f":"IF(Z255=11,TRUE,FALSE)","v":false},{"$f":"IF(Z255=10,TRUE,FALSE)","v":false},{"$f":"IF(Z255=9,TRUE,FALSE)","v":false},{"$f":"IF(Z255=8,TRUE,FALSE)","v":true},{"$f":"IF(Z255=7,TRUE,FALSE)","v":false},{"$f":"IF(Z255=6,TRUE,FALSE)","v":false},{"$f":"IF(Z255=5,TRUE,FALSE)","v":false},{"$f":"IF(Z255=4,TRUE,FALSE)","v":false},{"$f":"IF(Z255=3,TRUE,FALSE)","v":false},{"$f":"IF(Z255=2,TRUE,FALSE)","v":false},{"$f":"IF(Z255=1,TRUE,FALSE)","v":false},{"$f":"IF(AND(Q255=0,R256=FALSE),FALSE,TRUE)","v":true},{"$f":"IF(AND(R255=0,S256=FALSE),FALSE,TRUE)","v":true},{"$f":"IF(AND(S255=0,T256=FALSE),FALSE,TRUE)","v":false},{"$f":"IF(AND(T255=0,U256=FALSE),FALSE,TRUE)","v":false},{"$f":"IF(AND(U255=0,V256=FALSE),FALSE,TRUE)","v":false},{"$f":"IF(V255=0,FALSE,TRUE)","v":false},{"$f":"W255/(1000000/W257)","v":4}]
[null,{"$f":"convnumberletter(C257)","v":"quatre"},{"$f":"W256","v":4},null,{"$f":"IF(AND(E$7-1<$Z255,E$7-1>=$AA255),0,E255)","v":2},4,2,0,0,2,3,2,{"$f":"IF(AND(M$7-1<$Z255,M$7-1>=$AA255),0,M255)","v":5},{"$f":"IF(AND(N$7-1<$Z255,N$7-1>=$AA255),0,N255)","v":4},{"$f":"IF(AND(O$7-1<$Z255,O$7-1>=$AA255),0,O255)","v":1},{"$f":"IF(AND(P$7-1<$Z255,P$7-1>=$AA255),0,P255)","v":9},{"$f":"IF(Q256=FALSE,\"\",Q255)","v":0},4,"","","","",{"$f":"SUM(Q258:V258)","v":100}]
[null,{"$f":"IF(C257>1,CONCATENATE(HLOOKUP(C258,$Q$7:$V$9,3,TRUE),\"s\"),HLOOKUP(C258,$Q$7:$V$9,3,TRUE))","v":"centièmes"},{"$f":"W257","v":100},null,null,null,null,null,null,null,null,null,null,null,null,null,{"$f":"IF(AND(R257=\"\",Q257<>\"\"),Q$7,0)","v":0},{"$f":"IF(AND(S257=\"\",R257<>\"\"),R$7,0)","v":100},{"$f":"IF(AND(T257=\"\",S257<>\"\"),S$7,0)","v":0},{"$f":"IF(AND(U257=\"\",T257<>\"\"),T$7,0)","v":0},{"$f":"IF(AND(V257=\"\",U257<>\"\"),U$7,0)","v":0},{"$f":"IF(AND(W258=\"\",V257<>\"\"),V$7,0)","v":0}]
[null,{"$f":"IF($C$8=\"virgule\",CONCATENATE(B256,\" virgule \",B257),CONCATENATE(B256,\"  et \",B257,\" \",B258))","v":"deux cent quarante-deux milliards deux millions trois cent vingt-cinq mille quatre cent dix-neuf virgule quatre"}]
[null,null,null,null,{"$f":"IF(X260>100000000000,INT(RIGHT($X260,12)/100000000000),0)","v":1},{"$f":"IF(X260>10000000000,INT(RIGHT($X260,11)/10000000000),0)","v":9},{"$f":"IF(X260>1000000000,INT(RIGHT($X260,10)/1000000000),0)","v":3},{"$f":"IF(X260>100000000,INT(RIGHT($X260,9)/100000000),0)","v":1},{"$f":"IF(X260>10000000,INT(RIGHT($X260,8)/10000000),0)","v":5},{"$f":"IF(X260>1000000,INT(RIGHT($X260,7)/1000000),0)","v":2},{"$f":"IF(X260>100000,INT(RIGHT($X260,6)/100000),0)","v":0},{"$f":"IF(X260>10000,INT(RIGHT($X260,5)/10000),0)","v":0},{"$f":"IF(X260>1000,INT(RIGHT($X260,4)/1000),0)","v":6},{"$f":"IF(X260>100,INT(RIGHT($X260,3)/100),0)","v":5},{"$f":"IF(X260>10,INT(RIGHT($X260,2)/10),0)","v":9},{"$f":"INT(RIGHT($X260,1)/1)","v":7},{"$f":"INT(RIGHT($AC260,1))","v":7},{"$f":"INT(RIGHT($AC260,2)/10)","v":1},{"$f":"INT(RIGHT($AC260,3)/100)","v":0},{"$f":"INT(RIGHT($AC260,4)/1000)","v":0},{"$f":"INT(RIGHT($AC260,5)/10000)","v":0},{"$f":"INT(RIGHT($AC260,6)/100000)","v":0},{"$f":"((Q260*100000)+(R260*10000)+(S260*1000)+(T260*100)+(U260*10)+V260)","v":710000},{"$f":"C$3+INT(RAND()*(C$4-C$3+1))","v":193152006597},{"$f":"LEN(X260)","v":12},{"$f":"INT(RAND()*(Y260-C$5))+C$5","v":2},{"$f":"Z260-C$5","v":0},null,{"$f":"INT(RAND()*(POWER(10,$C$7))+1)","v":17},{"$f":"LEN(AC260)","v":2},{"$f":"INT(RAND()*(AD260-H$5))+H$5","v":0},{"$f":"AE260-H$5","v":0}]
[51,{"$f":"convnumberletter(C261)","v":"cent quatre-vingt-treize milliards cent cinquante-deux millions six mille sept"},{"$f":"(E262*10^E$7)+(F262*10^F$7)+(G262*10^G$7)+(H262*10^H$7)+(I262*10^I$7)+(J262*10^J$7)+(K262*10^K$7)+(L262*10^L$7)+(M262*10^M$7)+(N262*10^N$7)+(O262*10^O$7)+(P262*10^P$7)","v":193152006007},null,{"$f":"IF(Z260=12,TRUE,FALSE)","v":false},{"$f":"IF(Z260=11,TRUE,FALSE)","v":false},{"$f":"IF(Z260=10,TRUE,FALSE)","v":false},{"$f":"IF(Z260=9,TRUE,FALSE)","v":false},{"$f":"IF(Z260=8,TRUE,FALSE)","v":false},{"$f":"IF(Z260=7,TRUE,FALSE)","v":false},{"$f":"IF(Z260=6,TRUE,FALSE)","v":false},{"$f":"IF(Z260=5,TRUE,FALSE)","v":false},{"$f":"IF(Z260=4,TRUE,FALSE)","v":false},{"$f":"IF(Z260=3,TRUE,FALSE)","v":false},{"$f":"IF(Z260=2,TRUE,FALSE)","v":true},{"$f":"IF(Z260=1,TRUE,FALSE)","v":false},{"$f":"IF(AND(Q260=0,R261=FALSE),FALSE,TRUE)","v":true},{"$f":"IF(AND(R260=0,S261=FALSE),FALSE,TRUE)","v":true},{"$f":"IF(AND(S260=0,T261=FALSE),FALSE,TRUE)","v":false},{"$f":"IF(AND(T260=0,U261=FALSE),FALSE,TRUE)","v":false},{"$f":"IF(AND(U260=0,V261=FALSE),FALSE,TRUE)","v":false},{"$f":"IF(V260=0,FALSE,TRUE)","v":false},{"$f":"W260/(1000000/W262)","v":71}]
[null,{"$f":"convnumberletter(C262)","v":"soixante et onze"},{"$f":"W261","v":71},null,{"$f":"IF(AND(E$7-1<$Z260,E$7-1>=$AA260),0,E260)","v":1},9,3,1,5,2,0,0,{"$f":"IF(AND(M$7-1<$Z260,M$7-1>=$AA260),0,M260)","v":6},{"$f":"IF(AND(N$7-1<$Z260,N$7-1>=$AA260),0,N260)","v":0},{"$f":"IF(AND(O$7-1<$Z260,O$7-1>=$AA260),0,O260)","v":0},{"$f":"IF(AND(P$7-1<$Z260,P$7-1>=$AA260),0,P260)","v":7},{"$f":"IF(Q261=FALSE,\"\",Q260)","v":7},1,"","","","",{"$f":"SUM(Q263:V263)","v":100}]
[null,{"$f":"IF(C262>1,CONCATENATE(HLOOKUP(C263,$Q$7:$V$9,3,TRUE),\"s\"),HLOOKUP(C263,$Q$7:$V$9,3,TRUE))","v":"centièmes"},{"$f":"W262","v":100},null,null,null,null,null,null,null,null,null,null,null,null,null,{"$f":"IF(AND(R262=\"\",Q262<>\"\"),Q$7,0)","v":0},{"$f":"IF(AND(S262=\"\",R262<>\"\"),R$7,0)","v":100},{"$f":"IF(AND(T262=\"\",S262<>\"\"),S$7,0)","v":0},{"$f":"IF(AND(U262=\"\",T262<>\"\"),T$7,0)","v":0},{"$f":"IF(AND(V262=\"\",U262<>\"\"),U$7,0)","v":0},{"$f":"IF(AND(W263=\"\",V262<>\"\"),V$7,0)","v":0}]
[null,{"$f":"IF($C$8=\"virgule\",CONCATENATE(B261,\" virgule \",B262),CONCATENATE(B261,\"  et \",B262,\" \",B263))","v":"cent quatre-vingt-treize milliards cent cinquante-deux millions six mille sept virgule soixante et onze"}]
[null,null,null,null,{"$f":"IF(X265>100000000000,INT(RIGHT($X265,12)/100000000000),0)","v":4},{"$f":"IF(X265>10000000000,INT(RIGHT($X265,11)/10000000000),0)","v":2},{"$f":"IF(X265>1000000000,INT(RIGHT($X265,10)/1000000000),0)","v":1},{"$f":"IF(X265>100000000,INT(RIGHT($X265,9)/100000000),0)","v":8},{"$f":"IF(X265>10000000,INT(RIGHT($X265,8)/10000000),0)","v":3},{"$f":"IF(X265>1000000,INT(RIGHT($X265,7)/1000000),0)","v":6},{"$f":"IF(X265>100000,INT(RIGHT($X265,6)/100000),0)","v":4},{"$f":"IF(X265>10000,INT(RIGHT($X265,5)/10000),0)","v":9},{"$f":"IF(X265>1000,INT(RIGHT($X265,4)/1000),0)","v":6},{"$f":"IF(X265>100,INT(RIGHT($X265,3)/100),0)","v":5},{"$f":"IF(X265>10,INT(RIGHT($X265,2)/10),0)","v":3},{"$f":"INT(RIGHT($X265,1)/1)","v":7},{"$f":"INT(RIGHT($AC265,1))","v":9},{"$f":"INT(RIGHT($AC265,2)/10)","v":5},{"$f":"INT(RIGHT($AC265,3)/100)","v":0},{"$f":"INT(RIGHT($AC265,4)/1000)","v":0},{"$f":"INT(RIGHT($AC265,5)/10000)","v":0},{"$f":"INT(RIGHT($AC265,6)/100000)","v":0},{"$f":"((Q265*100000)+(R265*10000)+(S265*1000)+(T265*100)+(U265*10)+V265)","v":950000},{"$f":"C$3+INT(RAND()*(C$4-C$3+1))","v":421836496537},{"$f":"LEN(X265)","v":12},{"$f":"INT(RAND()*(Y265-C$5))+C$5","v":7},{"$f":"Z265-C$5","v":5},null,{"$f":"INT(RAND()*(POWER(10,$C$7))+1)","v":59},{"$f":"LEN(AC265)","v":2},{"$f":"INT(RAND()*(AD265-H$5))+H$5","v":1},{"$f":"AE265-H$5","v":1}]
[52,{"$f":"convnumberletter(C266)","v":"quatre cent vingt et un milliards huit cents millions quatre cent quatre-vingt-seize mille cinq cent trente-sept"},{"$f":"(E267*10^E$7)+(F267*10^F$7)+(G267*10^G$7)+(H267*10^H$7)+(I267*10^I$7)+(J267*10^J$7)+(K267*10^K$7)+(L267*10^L$7)+(M267*10^M$7)+(N267*10^N$7)+(O267*10^O$7)+(P267*10^P$7)","v":421800496537},null,{"$f":"IF(Z265=12,TRUE,FALSE)","v":false},{"$f":"IF(Z265=11,TRUE,FALSE)","v":false},{"$f":"IF(Z265=10,TRUE,FALSE)","v":false},{"$f":"IF(Z265=9,TRUE,FALSE)","v":false},{"$f":"IF(Z265=8,TRUE,FALSE)","v":false},{"$f":"IF(Z265=7,TRUE,FALSE)","v":true},{"$f":"IF(Z265=6,TRUE,FALSE)","v":false},{"$f":"IF(Z265=5,TRUE,FALSE)","v":false},{"$f":"IF(Z265=4,TRUE,FALSE)","v":false},{"$f":"IF(Z265=3,TRUE,FALSE)","v":false},{"$f":"IF(Z265=2,TRUE,FALSE)","v":false},{"$f":"IF(Z265=1,TRUE,FALSE)","v":false},{"$f":"IF(AND(Q265=0,R266=FALSE),FALSE,TRUE)","v":true},{"$f":"IF(AND(R265=0,S266=FALSE),FALSE,TRUE)","v":true},{"$f":"IF(AND(S265=0,T266=FALSE),FALSE,TRUE)","v":false},{"$f":"IF(AND(T265=0,U266=FALSE),FALSE,TRUE)","v":false},{"$f":"IF(AND(U265=0,V266=FALSE),FALSE,TRUE)","v":false},{"$f":"IF(V265=0,FALSE,TRUE)","v":false},{"$f":"W265/(1000000/W267)","v":95}]
[null,{"$f":"convnumberletter(C267)","v":"quatre-vingt-quinze"},{"$f":"W266","v":95},null,{"$f":"IF(AND(E$7-1<$Z265,E$7-1>=$AA265),0,E265)","v":4},2,1,8,0,0,4,9,{"$f":"IF(AND(M$7-1<$Z265,M$7-1>=$AA265),0,M265)","v":6},{"$f":"IF(AND(N$7-1<$Z265,N$7-1>=$AA265),0,N265)","v":5},{"$f":"IF(AND(O$7-1<$Z265,O$7-1>=$AA265),0,O265)","v":3},{"$f":"IF(AND(P$7-1<$Z265,P$7-1>=$AA265),0,P265)","v":7},{"$f":"IF(Q266=FALSE,\"\",Q265)","v":9},5,"","","","",{"$f":"SUM(Q268:V268)","v":100}]
[null,{"$f":"IF(C267>1,CONCATENATE(HLOOKUP(C268,$Q$7:$V$9,3,TRUE),\"s\"),HLOOKUP(C268,$Q$7:$V$9,3,TRUE))","v":"centièmes"},{"$f":"W267","v":100},null,null,null,null,null,null,null,null,null,null,null,null,null,{"$f":"IF(AND(R267=\"\",Q267<>\"\"),Q$7,0)","v":0},{"$f":"IF(AND(S267=\"\",R267<>\"\"),R$7,0)","v":100},{"$f":"IF(AND(T267=\"\",S267<>\"\"),S$7,0)","v":0},{"$f":"IF(AND(U267=\"\",T267<>\"\"),T$7,0)","v":0},{"$f":"IF(AND(V267=\"\",U267<>\"\"),U$7,0)","v":0},{"$f":"IF(AND(W268=\"\",V267<>\"\"),V$7,0)","v":0}]
[null,{"$f":"IF($C$8=\"virgule\",CONCATENATE(B266,\" virgule \",B267),CONCATENATE(B266,\"  et \",B267,\" \",B268))","v":"quatre cent vingt et un milliards huit cents millions quatre cent quatre-vingt-seize mille cinq cent trente-sept virgule quatre-vingt-quinze"}]
[null,null,null,null,{"$f":"IF(X270>100000000000,INT(RIGHT($X270,12)/100000000000),0)","v":5},{"$f":"IF(X270>10000000000,INT(RIGHT($X270,11)/10000000000),0)","v":5},{"$f":"IF(X270>1000000000,INT(RIGHT($X270,10)/1000000000),0)","v":1},{"$f":"IF(X270>100000000,INT(RIGHT($X270,9)/100000000),0)","v":1},{"$f":"IF(X270>10000000,INT(RIGHT($X270,8)/10000000),0)","v":9},{"$f":"IF(X270>1000000,INT(RIGHT($X270,7)/1000000),0)","v":2},{"$f":"IF(X270>100000,INT(RIGHT($X270,6)/100000),0)","v":6},{"$f":"IF(X270>10000,INT(RIGHT($X270,5)/10000),0)","v":4},{"$f":"IF(X270>1000,INT(RIGHT($X270,4)/1000),0)","v":0},{"$f":"IF(X270>100,INT(RIGHT($X270,3)/100),0)","v":8},{"$f":"IF(X270>10,INT(RIGHT($X270,2)/10),0)","v":0},{"$f":"INT(RIGHT($X270,1)/1)","v":5},{"$f":"INT(RIGHT($AC270,1))","v":9},{"$f":"INT(RIGHT($AC270,2)/10)","v":6},{"$f":"INT(RIGHT($AC270,3)/100)","v":0},{"$f":"INT(RIGHT($AC270,4)/1000)","v":0},{"$f":"INT(RIGHT($AC270,5)/10000)","v":0},{"$f":"INT(RIGHT($AC270,6)/100000)","v":0},{"$f":"((Q270*100000)+(R270*10000)+(S270*1000)+(T270*100)+(U270*10)+V270)","v":960000},{"$f":"C$3+INT(RAND()*(C$4-C$3+1))","v":551192640805},{"$f":"LEN(X270)","v":12},{"$f":"INT(RAND()*(Y270-C$5))+C$5","v":9},{"$f":"Z270-C$5","v":7},null,{"$f":"INT(RAND()*(POWER(10,$C$7))+1)","v":69},{"$f":"LEN(AC270)","v":2},{"$f":"INT(RAND()*(AD270-H$5))+H$5","v":1},{"$f":"AE270-H$5","v":1}]
[53,{"$f":"convnumberletter(C271)","v":"cinq cent cinquante milliards quatre-vingt-douze millions six cent quarante mille huit cent cinq"},{"$f":"(E272*10^E$7)+(F272*10^F$7)+(G272*10^G$7)+(H272*10^H$7)+(I272*10^I$7)+(J272*10^J$7)+(K272*10^K$7)+(L272*10^L$7)+(M272*10^M$7)+(N272*10^N$7)+(O272*10^O$7)+(P272*10^P$7)","v":550092640805},null,{"$f":"IF(Z270=12,TRUE,FALSE)","v":false},{"$f":"IF(Z270=11,TRUE,FALSE)","v":false},{"$f":"IF(Z270=10,TRUE,FALSE)","v":false},{"$f":"IF(Z270=9,TRUE,FALSE)","v":true},{"$f":"IF(Z270=8,TRUE,FALSE)","v":false},{"$f":"IF(Z270=7,TRUE,FALSE)","v":false},{"$f":"IF(Z270=6,TRUE,FALSE)","v":false},{"$f":"IF(Z270=5,TRUE,FALSE)","v":false},{"$f":"IF(Z270=4,TRUE,FALSE)","v":false},{"$f":"IF(Z270=3,TRUE,FALSE)","v":false},{"$f":"IF(Z270=2,TRUE,FALSE)","v":false},{"$f":"IF(Z270=1,TRUE,FALSE)","v":false},{"$f":"IF(AND(Q270=0,R271=FALSE),FALSE,TRUE)","v":true},{"$f":"IF(AND(R270=0,S271=FALSE),FALSE,TRUE)","v":true},{"$f":"IF(AND(S270=0,T271=FALSE),FALSE,TRUE)","v":false},{"$f":"IF(AND(T270=0,U271=FALSE),FALSE,TRUE)","v":false},{"$f":"IF(AND(U270=0,V271=FALSE),FALSE,TRUE)","v":false},{"$f":"IF(V270=0,FALSE,TRUE)","v":false},{"$f":"W270/(1000000/W272)","v":96}]
[null,{"$f":"convnumberletter(C272)","v":"quatre-vingt-seize"},{"$f":"W271","v":96},null,{"$f":"IF(AND(E$7-1<$Z270,E$7-1>=$AA270),0,E270)","v":5},5,0,0,9,2,6,4,{"$f":"IF(AND(M$7-1<$Z270,M$7-1>=$AA270),0,M270)","v":0},{"$f":"IF(AND(N$7-1<$Z270,N$7-1>=$AA270),0,N270)","v":8},{"$f":"IF(AND(O$7-1<$Z270,O$7-1>=$AA270),0,O270)","v":0},{"$f":"IF(AND(P$7-1<$Z270,P$7-1>=$AA270),0,P270)","v":5},{"$f":"IF(Q271=FALSE,\"\",Q270)","v":9},6,"","","","",{"$f":"SUM(Q273:V273)","v":100}]
[null,{"$f":"IF(C272>1,CONCATENATE(HLOOKUP(C273,$Q$7:$V$9,3,TRUE),\"s\"),HLOOKUP(C273,$Q$7:$V$9,3,TRUE))","v":"centièmes"},{"$f":"W272","v":100},null,null,null,null,null,null,null,null,null,null,null,null,null,{"$f":"IF(AND(R272=\"\",Q272<>\"\"),Q$7,0)","v":0},{"$f":"IF(AND(S272=\"\",R272<>\"\"),R$7,0)","v":100},{"$f":"IF(AND(T272=\"\",S272<>\"\"),S$7,0)","v":0},{"$f":"IF(AND(U272=\"\",T272<>\"\"),T$7,0)","v":0},{"$f":"IF(AND(V272=\"\",U272<>\"\"),U$7,0)","v":0},{"$f":"IF(AND(W273=\"\",V272<>\"\"),V$7,0)","v":0}]
[null,{"$f":"IF($C$8=\"virgule\",CONCATENATE(B271,\" virgule \",B272),CONCATENATE(B271,\"  et \",B272,\" \",B273))","v":"cinq cent cinquante milliards quatre-vingt-douze millions six cent quarante mille huit cent cinq virgule quatre-vingt-seize"}]
[null,null,null,null,{"$f":"IF(X275>100000000000,INT(RIGHT($X275,12)/100000000000),0)","v":0},{"$f":"IF(X275>10000000000,INT(RIGHT($X275,11)/10000000000),0)","v":1},{"$f":"IF(X275>1000000000,INT(RIGHT($X275,10)/1000000000),0)","v":9},{"$f":"IF(X275>100000000,INT(RIGHT($X275,9)/100000000),0)","v":4},{"$f":"IF(X275>10000000,INT(RIGHT($X275,8)/10000000),0)","v":1},{"$f":"IF(X275>1000000,INT(RIGHT($X275,7)/1000000),0)","v":7},{"$f":"IF(X275>100000,INT(RIGHT($X275,6)/100000),0)","v":0},{"$f":"IF(X275>10000,INT(RIGHT($X275,5)/10000),0)","v":8},{"$f":"IF(X275>1000,INT(RIGHT($X275,4)/1000),0)","v":4},{"$f":"IF(X275>100,INT(RIGHT($X275,3)/100),0)","v":4},{"$f":"IF(X275>10,INT(RIGHT($X275,2)/10),0)","v":6},{"$f":"INT(RIGHT($X275,1)/1)","v":7},{"$f":"INT(RIGHT($AC275,1))","v":7},{"$f":"INT(RIGHT($AC275,2)/10)","v":5},{"$f":"INT(RIGHT($AC275,3)/100)","v":0},{"$f":"INT(RIGHT($AC275,4)/1000)","v":0},{"$f":"INT(RIGHT($AC275,5)/10000)","v":0},{"$f":"INT(RIGHT($AC275,6)/100000)","v":0},{"$f":"((Q275*100000)+(R275*10000)+(S275*1000)+(T275*100)+(U275*10)+V275)","v":750000},{"$f":"C$3+INT(RAND()*(C$4-C$3+1))","v":19417084467},{"$f":"LEN(X275)","v":11},{"$f":"INT(RAND()*(Y275-C$5))+C$5","v":6},{"$f":"Z275-C$5","v":4},null,{"$f":"INT(RAND()*(POWER(10,$C$7))+1)","v":57},{"$f":"LEN(AC275)","v":2},{"$f":"INT(RAND()*(AD275-H$5))+H$5","v":0},{"$f":"AE275-H$5","v":0}]
[54,{"$f":"convnumberletter(C276)","v":"dix-neuf milliards quatre cent dix millions quatre-vingt-quatre mille quatre cent soixante-sept"},{"$f":"(E277*10^E$7)+(F277*10^F$7)+(G277*10^G$7)+(H277*10^H$7)+(I277*10^I$7)+(J277*10^J$7)+(K277*10^K$7)+(L277*10^L$7)+(M277*10^M$7)+(N277*10^N$7)+(O277*10^O$7)+(P277*10^P$7)","v":19410084467},null,{"$f":"IF(Z275=12,TRUE,FALSE)","v":false},{"$f":"IF(Z275=11,TRUE,FALSE)","v":false},{"$f":"IF(Z275=10,TRUE,FALSE)","v":false},{"$f":"IF(Z275=9,TRUE,FALSE)","v":false},{"$f":"IF(Z275=8,TRUE,FALSE)","v":false},{"$f":"IF(Z275=7,TRUE,FALSE)","v":false},{"$f":"IF(Z275=6,TRUE,FALSE)","v":true},{"$f":"IF(Z275=5,TRUE,FALSE)","v":false},{"$f":"IF(Z275=4,TRUE,FALSE)","v":false},{"$f":"IF(Z275=3,TRUE,FALSE)","v":false},{"$f":"IF(Z275=2,TRUE,FALSE)","v":false},{"$f":"IF(Z275=1,TRUE,FALSE)","v":false},{"$f":"IF(AND(Q275=0,R276=FALSE),FALSE,TRUE)","v":true},{"$f":"IF(AND(R275=0,S276=FALSE),FALSE,TRUE)","v":true},{"$f":"IF(AND(S275=0,T276=FALSE),FALSE,TRUE)","v":false},{"$f":"IF(AND(T275=0,U276=FALSE),FALSE,TRUE)","v":false},{"$f":"IF(AND(U275=0,V276=FALSE),FALSE,TRUE)","v":false},{"$f":"IF(V275=0,FALSE,TRUE)","v":false},{"$f":"W275/(1000000/W277)","v":75}]
[null,{"$f":"convnumberletter(C277)","v":"soixante-quinze"},{"$f":"W276","v":75},null,{"$f":"IF(AND(E$7-1<$Z275,E$7-1>=$AA275),0,E275)","v":0},1,9,4,1,0,0,8,{"$f":"IF(AND(M$7-1<$Z275,M$7-1>=$AA275),0,M275)","v":4},{"$f":"IF(AND(N$7-1<$Z275,N$7-1>=$AA275),0,N275)","v":4},{"$f":"IF(AND(O$7-1<$Z275,O$7-1>=$AA275),0,O275)","v":6},{"$f":"IF(AND(P$7-1<$Z275,P$7-1>=$AA275),0,P275)","v":7},{"$f":"IF(Q276=FALSE,\"\",Q275)","v":7},5,"","","","",{"$f":"SUM(Q278:V278)","v":100}]
[null,{"$f":"IF(C277>1,CONCATENATE(HLOOKUP(C278,$Q$7:$V$9,3,TRUE),\"s\"),HLOOKUP(C278,$Q$7:$V$9,3,TRUE))","v":"centièmes"},{"$f":"W277","v":100},null,null,null,null,null,null,null,null,null,null,null,null,null,{"$f":"IF(AND(R277=\"\",Q277<>\"\"),Q$7,0)","v":0},{"$f":"IF(AND(S277=\"\",R277<>\"\"),R$7,0)","v":100},{"$f":"IF(AND(T277=\"\",S277<>\"\"),S$7,0)","v":0},{"$f":"IF(AND(U277=\"\",T277<>\"\"),T$7,0)","v":0},{"$f":"IF(AND(V277=\"\",U277<>\"\"),U$7,0)","v":0},{"$f":"IF(AND(W278=\"\",V277<>\"\"),V$7,0)","v":0}]
[null,{"$f":"IF($C$8=\"virgule\",CONCATENATE(B276,\" virgule \",B277),CONCATENATE(B276,\"  et \",B277,\" \",B278))","v":"dix-neuf milliards quatre cent dix millions quatre-vingt-quatre mille quatre cent soixante-sept virgule soixante-quinze"}]
[null,null,null,null,{"$f":"IF(X280>100000000000,INT(RIGHT($X280,12)/100000000000),0)","v":0},{"$f":"IF(X280>10000000000,INT(RIGHT($X280,11)/10000000000),0)","v":9},{"$f":"IF(X280>1000000000,INT(RIGHT($X280,10)/1000000000),0)","v":7},{"$f":"IF(X280>100000000,INT(RIGHT($X280,9)/100000000),0)","v":5},{"$f":"IF(X280>10000000,INT(RIGHT($X280,8)/10000000),0)","v":2},{"$f":"IF(X280>1000000,INT(RIGHT($X280,7)/1000000),0)","v":2},{"$f":"IF(X280>100000,INT(RIGHT($X280,6)/100000),0)","v":8},{"$f":"IF(X280>10000,INT(RIGHT($X280,5)/10000),0)","v":9},{"$f":"IF(X280>1000,INT(RIGHT($X280,4)/1000),0)","v":9},{"$f":"IF(X280>100,INT(RIGHT($X280,3)/100),0)","v":3},{"$f":"IF(X280>10,INT(RIGHT($X280,2)/10),0)","v":0},{"$f":"INT(RIGHT($X280,1)/1)","v":0},{"$f":"INT(RIGHT($AC280,1))","v":1},{"$f":"INT(RIGHT($AC280,2)/10)","v":0},{"$f":"INT(RIGHT($AC280,3)/100)","v":0},{"$f":"INT(RIGHT($AC280,4)/1000)","v":0},{"$f":"INT(RIGHT($AC280,5)/10000)","v":0},{"$f":"INT(RIGHT($AC280,6)/100000)","v":0},{"$f":"((Q280*100000)+(R280*10000)+(S280*1000)+(T280*100)+(U280*10)+V280)","v":100000},{"$f":"C$3+INT(RAND()*(C$4-C$3+1))","v":97522899300},{"$f":"LEN(X280)","v":11},{"$f":"INT(RAND()*(Y280-C$5))+C$5","v":3},{"$f":"Z280-C$5","v":1},null,{"$f":"INT(RAND()*(POWER(10,$C$7))+1)","v":1},{"$f":"LEN(AC280)","v":1},{"$f":"INT(RAND()*(AD280-H$5))+H$5","v":0},{"$f":"AE280-H$5","v":0}]
[55,{"$f":"convnumberletter(C281)","v":"quatre-vingt-dix-sept milliards cinq cent vingt-deux millions huit cent quatre-vingt-dix mille"},{"$f":"(E282*10^E$7)+(F282*10^F$7)+(G282*10^G$7)+(H282*10^H$7)+(I282*10^I$7)+(J282*10^J$7)+(K282*10^K$7)+(L282*10^L$7)+(M282*10^M$7)+(N282*10^N$7)+(O282*10^O$7)+(P282*10^P$7)","v":97522890000},null,{"$f":"IF(Z280=12,TRUE,FALSE)","v":false},{"$f":"IF(Z280=11,TRUE,FALSE)","v":false},{"$f":"IF(Z280=10,TRUE,FALSE)","v":false},{"$f":"IF(Z280=9,TRUE,FALSE)","v":false},{"$f":"IF(Z280=8,TRUE,FALSE)","v":false},{"$f":"IF(Z280=7,TRUE,FALSE)","v":false},{"$f":"IF(Z280=6,TRUE,FALSE)","v":false},{"$f":"IF(Z280=5,TRUE,FALSE)","v":false},{"$f":"IF(Z280=4,TRUE,FALSE)","v":false},{"$f":"IF(Z280=3,TRUE,FALSE)","v":true},{"$f":"IF(Z280=2,TRUE,FALSE)","v":false},{"$f":"IF(Z280=1,TRUE,FALSE)","v":false},{"$f":"IF(AND(Q280=0,R281=FALSE),FALSE,TRUE)","v":true},{"$f":"IF(AND(R280=0,S281=FALSE),FALSE,TRUE)","v":false},{"$f":"IF(AND(S280=0,T281=FALSE),FALSE,TRUE)","v":false},{"$f":"IF(AND(T280=0,U281=FALSE),FALSE,TRUE)","v":false},{"$f":"IF(AND(U280=0,V281=FALSE),FALSE,TRUE)","v":false},{"$f":"IF(V280=0,FALSE,TRUE)","v":false},{"$f":"W280/(1000000/W282)","v":1}]
[null,{"$f":"convnumberletter(C282)","v":"un"},{"$f":"W281","v":1},null,{"$f":"IF(AND(E$7-1<$Z280,E$7-1>=$AA280),0,E280)","v":0},9,7,5,2,2,8,9,{"$f":"IF(AND(M$7-1<$Z280,M$7-1>=$AA280),0,M280)","v":0},{"$f":"IF(AND(N$7-1<$Z280,N$7-1>=$AA280),0,N280)","v":0},{"$f":"IF(AND(O$7-1<$Z280,O$7-1>=$AA280),0,O280)","v":0},{"$f":"IF(AND(P$7-1<$Z280,P$7-1>=$AA280),0,P280)","v":0},{"$f":"IF(Q281=FALSE,\"\",Q280)","v":1},"","","","","",{"$f":"SUM(Q283:V283)","v":10}]
[null,{"$f":"IF(C282>1,CONCATENATE(HLOOKUP(C283,$Q$7:$V$9,3,TRUE),\"s\"),HLOOKUP(C283,$Q$7:$V$9,3,TRUE))","v":"dixième"},{"$f":"W282","v":10},null,null,null,null,null,null,null,null,null,null,null,null,null,{"$f":"IF(AND(R282=\"\",Q282<>\"\"),Q$7,0)","v":10},{"$f":"IF(AND(S282=\"\",R282<>\"\"),R$7,0)","v":0},{"$f":"IF(AND(T282=\"\",S282<>\"\"),S$7,0)","v":0},{"$f":"IF(AND(U282=\"\",T282<>\"\"),T$7,0)","v":0},{"$f":"IF(AND(V282=\"\",U282<>\"\"),U$7,0)","v":0},{"$f":"IF(AND(W283=\"\",V282<>\"\"),V$7,0)","v":0}]
[null,{"$f":"IF($C$8=\"virgule\",CONCATENATE(B281,\" virgule \",B282),CONCATENATE(B281,\"  et \",B282,\" \",B283))","v":"quatre-vingt-dix-sept milliards cinq cent vingt-deux millions huit cent quatre-vingt-dix mille virgule un"}]
[null,null,null,null,{"$f":"IF(X285>100000000000,INT(RIGHT($X285,12)/100000000000),0)","v":5},{"$f":"IF(X285>10000000000,INT(RIGHT($X285,11)/10000000000),0)","v":5},{"$f":"IF(X285>1000000000,INT(RIGHT($X285,10)/1000000000),0)","v":7},{"$f":"IF(X285>100000000,INT(RIGHT($X285,9)/100000000),0)","v":5},{"$f":"IF(X285>10000000,INT(RIGHT($X285,8)/10000000),0)","v":5},{"$f":"IF(X285>1000000,INT(RIGHT($X285,7)/1000000),0)","v":8},{"$f":"IF(X285>100000,INT(RIGHT($X285,6)/100000),0)","v":5},{"$f":"IF(X285>10000,INT(RIGHT($X285,5)/10000),0)","v":3},{"$f":"IF(X285>1000,INT(RIGHT($X285,4)/1000),0)","v":2},{"$f":"IF(X285>100,INT(RIGHT($X285,3)/100),0)","v":9},{"$f":"IF(X285>10,INT(RIGHT($X285,2)/10),0)","v":5},{"$f":"INT(RIGHT($X285,1)/1)","v":2},{"$f":"INT(RIGHT($AC285,1))","v":6},{"$f":"INT(RIGHT($AC285,2)/10)","v":1},{"$f":"INT(RIGHT($AC285,3)/100)","v":0},{"$f":"INT(RIGHT($AC285,4)/1000)","v":0},{"$f":"INT(RIGHT($AC285,5)/10000)","v":0},{"$f":"INT(RIGHT($AC285,6)/100000)","v":0},{"$f":"((Q285*100000)+(R285*10000)+(S285*1000)+(T285*100)+(U285*10)+V285)","v":610000},{"$f":"C$3+INT(RAND()*(C$4-C$3+1))","v":557558532952},{"$f":"LEN(X285)","v":12},{"$f":"INT(RAND()*(Y285-C$5))+C$5","v":8},{"$f":"Z285-C$5","v":6},null,{"$f":"INT(RAND()*(POWER(10,$C$7))+1)","v":16},{"$f":"LEN(AC285)","v":2},{"$f":"INT(RAND()*(AD285-H$5))+H$5","v":0},{"$f":"AE285-H$5","v":0}]
[56,{"$f":"convnumberletter(C286)","v":"cinq cent cinquante-sept milliards huit millions cinq cent trente-deux mille neuf cent cinquante-deux"},{"$f":"(E287*10^E$7)+(F287*10^F$7)+(G287*10^G$7)+(H287*10^H$7)+(I287*10^I$7)+(J287*10^J$7)+(K287*10^K$7)+(L287*10^L$7)+(M287*10^M$7)+(N287*10^N$7)+(O287*10^O$7)+(P287*10^P$7)","v":557008532952},null,{"$f":"IF(Z285=12,TRUE,FALSE)","v":false},{"$f":"IF(Z285=11,TRUE,FALSE)","v":false},{"$f":"IF(Z285=10,TRUE,FALSE)","v":false},{"$f":"IF(Z285=9,TRUE,FALSE)","v":false},{"$f":"IF(Z285=8,TRUE,FALSE)","v":true},{"$f":"IF(Z285=7,TRUE,FALSE)","v":false},{"$f":"IF(Z285=6,TRUE,FALSE)","v":false},{"$f":"IF(Z285=5,TRUE,FALSE)","v":false},{"$f":"IF(Z285=4,TRUE,FALSE)","v":false},{"$f":"IF(Z285=3,TRUE,FALSE)","v":false},{"$f":"IF(Z285=2,TRUE,FALSE)","v":false},{"$f":"IF(Z285=1,TRUE,FALSE)","v":false},{"$f":"IF(AND(Q285=0,R286=FALSE),FALSE,TRUE)","v":true},{"$f":"IF(AND(R285=0,S286=FALSE),FALSE,TRUE)","v":true},{"$f":"IF(AND(S285=0,T286=FALSE),FALSE,TRUE)","v":false},{"$f":"IF(AND(T285=0,U286=FALSE),FALSE,TRUE)","v":false},{"$f":"IF(AND(U285=0,V286=FALSE),FALSE,TRUE)","v":false},{"$f":"IF(V285=0,FALSE,TRUE)","v":false},{"$f":"W285/(1000000/W287)","v":61}]
[null,{"$f":"convnumberletter(C287)","v":"soixante et un"},{"$f":"W286","v":61},null,{"$f":"IF(AND(E$7-1<$Z285,E$7-1>=$AA285),0,E285)","v":5},5,7,0,0,8,5,3,{"$f":"IF(AND(M$7-1<$Z285,M$7-1>=$AA285),0,M285)","v":2},{"$f":"IF(AND(N$7-1<$Z285,N$7-1>=$AA285),0,N285)","v":9},{"$f":"IF(AND(O$7-1<$Z285,O$7-1>=$AA285),0,O285)","v":5},{"$f":"IF(AND(P$7-1<$Z285,P$7-1>=$AA285),0,P285)","v":2},{"$f":"IF(Q286=FALSE,\"\",Q285)","v":6},1,"","","","",{"$f":"SUM(Q288:V288)","v":100}]
[null,{"$f":"IF(C287>1,CONCATENATE(HLOOKUP(C288,$Q$7:$V$9,3,TRUE),\"s\"),HLOOKUP(C288,$Q$7:$V$9,3,TRUE))","v":"centièmes"},{"$f":"W287","v":100},null,null,null,null,null,null,null,null,null,null,null,null,null,{"$f":"IF(AND(R287=\"\",Q287<>\"\"),Q$7,0)","v":0},{"$f":"IF(AND(S287=\"\",R287<>\"\"),R$7,0)","v":100},{"$f":"IF(AND(T287=\"\",S287<>\"\"),S$7,0)","v":0},{"$f":"IF(AND(U287=\"\",T287<>\"\"),T$7,0)","v":0},{"$f":"IF(AND(V287=\"\",U287<>\"\"),U$7,0)","v":0},{"$f":"IF(AND(W288=\"\",V287<>\"\"),V$7,0)","v":0}]
[null,{"$f":"IF($C$8=\"virgule\",CONCATENATE(B286,\" virgule \",B287),CONCATENATE(B286,\"  et \",B287,\" \",B288))","v":"cinq cent cinquante-sept milliards huit millions cinq cent trente-deux mille neuf cent cinquante-deux virgule soixante et un"}]
[null,null,null,null,{"$f":"IF(X290>100000000000,INT(RIGHT($X290,12)/100000000000),0)","v":1},{"$f":"IF(X290>10000000000,INT(RIGHT($X290,11)/10000000000),0)","v":9},{"$f":"IF(X290>1000000000,INT(RIGHT($X290,10)/1000000000),0)","v":4},{"$f":"IF(X290>100000000,INT(RIGHT($X290,9)/100000000),0)","v":3},{"$f":"IF(X290>10000000,INT(RIGHT($X290,8)/10000000),0)","v":6},{"$f":"IF(X290>1000000,INT(RIGHT($X290,7)/1000000),0)","v":3},{"$f":"IF(X290>100000,INT(RIGHT($X290,6)/100000),0)","v":7},{"$f":"IF(X290>10000,INT(RIGHT($X290,5)/10000),0)","v":4},{"$f":"IF(X290>1000,INT(RIGHT($X290,4)/1000),0)","v":9},{"$f":"IF(X290>100,INT(RIGHT($X290,3)/100),0)","v":9},{"$f":"IF(X290>10,INT(RIGHT($X290,2)/10),0)","v":4},{"$f":"INT(RIGHT($X290,1)/1)","v":3},{"$f":"INT(RIGHT($AC290,1))","v":4},{"$f":"INT(RIGHT($AC290,2)/10)","v":2},{"$f":"INT(RIGHT($AC290,3)/100)","v":0},{"$f":"INT(RIGHT($AC290,4)/1000)","v":0},{"$f":"INT(RIGHT($AC290,5)/10000)","v":0},{"$f":"INT(RIGHT($AC290,6)/100000)","v":0},{"$f":"((Q290*100000)+(R290*10000)+(S290*1000)+(T290*100)+(U290*10)+V290)","v":420000},{"$f":"C$3+INT(RAND()*(C$4-C$3+1))","v":194363749943},{"$f":"LEN(X290)","v":12},{"$f":"INT(RAND()*(Y290-C$5))+C$5","v":6},{"$f":"Z290-C$5","v":4},null,{"$f":"INT(RAND()*(POWER(10,$C$7))+1)","v":24},{"$f":"LEN(AC290)","v":2},{"$f":"INT(RAND()*(AD290-H$5))+H$5","v":0},{"$f":"AE290-H$5","v":0}]
[57,{"$f":"convnumberletter(C291)","v":"cent quatre-vingt-quatorze milliards trois cent soixante millions quarante-neuf mille neuf cent quarante-trois"},{"$f":"(E292*10^E$7)+(F292*10^F$7)+(G292*10^G$7)+(H292*10^H$7)+(I292*10^I$7)+(J292*10^J$7)+(K292*10^K$7)+(L292*10^L$7)+(M292*10^M$7)+(N292*10^N$7)+(O292*10^O$7)+(P292*10^P$7)","v":194360049943},null,{"$f":"IF(Z290=12,TRUE,FALSE)","v":false},{"$f":"IF(Z290=11,TRUE,FALSE)","v":false},{"$f":"IF(Z290=10,TRUE,FALSE)","v":false},{"$f":"IF(Z290=9,TRUE,FALSE)","v":false},{"$f":"IF(Z290=8,TRUE,FALSE)","v":false},{"$f":"IF(Z290=7,TRUE,FALSE)","v":false},{"$f":"IF(Z290=6,TRUE,FALSE)","v":true},{"$f":"IF(Z290=5,TRUE,FALSE)","v":false},{"$f":"IF(Z290=4,TRUE,FALSE)","v":false},{"$f":"IF(Z290=3,TRUE,FALSE)","v":false},{"$f":"IF(Z290=2,TRUE,FALSE)","v":false},{"$f":"IF(Z290=1,TRUE,FALSE)","v":false},{"$f":"IF(AND(Q290=0,R291=FALSE),FALSE,TRUE)","v":true},{"$f":"IF(AND(R290=0,S291=FALSE),FALSE,TRUE)","v":true},{"$f":"IF(AND(S290=0,T291=FALSE),FALSE,TRUE)","v":false},{"$f":"IF(AND(T290=0,U291=FALSE),FALSE,TRUE)","v":false},{"$f":"IF(AND(U290=0,V291=FALSE),FALSE,TRUE)","v":false},{"$f":"IF(V290=0,FALSE,TRUE)","v":false},{"$f":"W290/(1000000/W292)","v":42}]
[null,{"$f":"convnumberletter(C292)","v":"quarante-deux"},{"$f":"W291","v":42},null,{"$f":"IF(AND(E$7-1<$Z290,E$7-1>=$AA290),0,E290)","v":1},9,4,3,6,0,0,4,{"$f":"IF(AND(M$7-1<$Z290,M$7-1>=$AA290),0,M290)","v":9},{"$f":"IF(AND(N$7-1<$Z290,N$7-1>=$AA290),0,N290)","v":9},{"$f":"IF(AND(O$7-1<$Z290,O$7-1>=$AA290),0,O290)","v":4},{"$f":"IF(AND(P$7-1<$Z290,P$7-1>=$AA290),0,P290)","v":3},{"$f":"IF(Q291=FALSE,\"\",Q290)","v":4},2,"","","","",{"$f":"SUM(Q293:V293)","v":100}]
[null,{"$f":"IF(C292>1,CONCATENATE(HLOOKUP(C293,$Q$7:$V$9,3,TRUE),\"s\"),HLOOKUP(C293,$Q$7:$V$9,3,TRUE))","v":"centièmes"},{"$f":"W292","v":100},null,null,null,null,null,null,null,null,null,null,null,null,null,{"$f":"IF(AND(R292=\"\",Q292<>\"\"),Q$7,0)","v":0},{"$f":"IF(AND(S292=\"\",R292<>\"\"),R$7,0)","v":100},{"$f":"IF(AND(T292=\"\",S292<>\"\"),S$7,0)","v":0},{"$f":"IF(AND(U292=\"\",T292<>\"\"),T$7,0)","v":0},{"$f":"IF(AND(V292=\"\",U292<>\"\"),U$7,0)","v":0},{"$f":"IF(AND(W293=\"\",V292<>\"\"),V$7,0)","v":0}]
[null,{"$f":"IF($C$8=\"virgule\",CONCATENATE(B291,\" virgule \",B292),CONCATENATE(B291,\"  et \",B292,\" \",B293))","v":"cent quatre-vingt-quatorze milliards trois cent soixante millions quarante-neuf mille neuf cent quarante-trois virgule quarante-deux"}]
[null,null,null,null,{"$f":"IF(X295>100000000000,INT(RIGHT($X295,12)/100000000000),0)","v":7},{"$f":"IF(X295>10000000000,INT(RIGHT($X295,11)/10000000000),0)","v":6},{"$f":"IF(X295>1000000000,INT(RIGHT($X295,10)/1000000000),0)","v":0},{"$f":"IF(X295>100000000,INT(RIGHT($X295,9)/100000000),0)","v":9},{"$f":"IF(X295>10000000,INT(RIGHT($X295,8)/10000000),0)","v":1},{"$f":"IF(X295>1000000,INT(RIGHT($X295,7)/1000000),0)","v":3},{"$f":"IF(X295>100000,INT(RIGHT($X295,6)/100000),0)","v":7},{"$f":"IF(X295>10000,INT(RIGHT($X295,5)/10000),0)","v":6},{"$f":"IF(X295>1000,INT(RIGHT($X295,4)/1000),0)","v":8},{"$f":"IF(X295>100,INT(RIGHT($X295,3)/100),0)","v":8},{"$f":"IF(X295>10,INT(RIGHT($X295,2)/10),0)","v":3},{"$f":"INT(RIGHT($X295,1)/1)","v":6},{"$f":"INT(RIGHT($AC295,1))","v":9},{"$f":"INT(RIGHT($AC295,2)/10)","v":0},{"$f":"INT(RIGHT($AC295,3)/100)","v":0},{"$f":"INT(RIGHT($AC295,4)/1000)","v":0},{"$f":"INT(RIGHT($AC295,5)/10000)","v":0},{"$f":"INT(RIGHT($AC295,6)/100000)","v":0},{"$f":"((Q295*100000)+(R295*10000)+(S295*1000)+(T295*100)+(U295*10)+V295)","v":900000},{"$f":"C$3+INT(RAND()*(C$4-C$3+1))","v":760913768836},{"$f":"LEN(X295)","v":12},{"$f":"INT(RAND()*(Y295-C$5))+C$5","v":4},{"$f":"Z295-C$5","v":2},null,{"$f":"INT(RAND()*(POWER(10,$C$7))+1)","v":9},{"$f":"LEN(AC295)","v":1},{"$f":"INT(RAND()*(AD295-H$5))+H$5","v":0},{"$f":"AE295-H$5","v":0}]
[58,{"$f":"convnumberletter(C296)","v":"sept cent soixante milliards neuf cent treize millions sept cents mille huit cent trente-six"},{"$f":"(E297*10^E$7)+(F297*10^F$7)+(G297*10^G$7)+(H297*10^H$7)+(I297*10^I$7)+(J297*10^J$7)+(K297*10^K$7)+(L297*10^L$7)+(M297*10^M$7)+(N297*10^N$7)+(O297*10^O$7)+(P297*10^P$7)","v":760913700836},null,{"$f":"IF(Z295=12,TRUE,FALSE)","v":false},{"$f":"IF(Z295=11,TRUE,FALSE)","v":false},{"$f":"IF(Z295=10,TRUE,FALSE)","v":false},{"$f":"IF(Z295=9,TRUE,FALSE)","v":false},{"$f":"IF(Z295=8,TRUE,FALSE)","v":false},{"$f":"IF(Z295=7,TRUE,FALSE)","v":false},{"$f":"IF(Z295=6,TRUE,FALSE)","v":false},{"$f":"IF(Z295=5,TRUE,FALSE)","v":false},{"$f":"IF(Z295=4,TRUE,FALSE)","v":true},{"$f":"IF(Z295=3,TRUE,FALSE)","v":false},{"$f":"IF(Z295=2,TRUE,FALSE)","v":false},{"$f":"IF(Z295=1,TRUE,FALSE)","v":false},{"$f":"IF(AND(Q295=0,R296=FALSE),FALSE,TRUE)","v":true},{"$f":"IF(AND(R295=0,S296=FALSE),FALSE,TRUE)","v":false},{"$f":"IF(AND(S295=0,T296=FALSE),FALSE,TRUE)","v":false},{"$f":"IF(AND(T295=0,U296=FALSE),FALSE,TRUE)","v":false},{"$f":"IF(AND(U295=0,V296=FALSE),FALSE,TRUE)","v":false},{"$f":"IF(V295=0,FALSE,TRUE)","v":false},{"$f":"W295/(1000000/W297)","v":9}]
[null,{"$f":"convnumberletter(C297)","v":"neuf"},{"$f":"W296","v":9},null,{"$f":"IF(AND(E$7-1<$Z295,E$7-1>=$AA295),0,E295)","v":7},6,0,9,1,3,7,0,{"$f":"IF(AND(M$7-1<$Z295,M$7-1>=$AA295),0,M295)","v":0},{"$f":"IF(AND(N$7-1<$Z295,N$7-1>=$AA295),0,N295)","v":8},{"$f":"IF(AND(O$7-1<$Z295,O$7-1>=$AA295),0,O295)","v":3},{"$f":"IF(AND(P$7-1<$Z295,P$7-1>=$AA295),0,P295)","v":6},{"$f":"IF(Q296=FALSE,\"\",Q295)","v":9},"","","","","",{"$f":"SUM(Q298:V298)","v":10}]
[null,{"$f":"IF(C297>1,CONCATENATE(HLOOKUP(C298,$Q$7:$V$9,3,TRUE),\"s\"),HLOOKUP(C298,$Q$7:$V$9,3,TRUE))","v":"dixièmes"},{"$f":"W297","v":10},null,null,null,null,null,null,null,null,null,null,null,null,null,{"$f":"IF(AND(R297=\"\",Q297<>\"\"),Q$7,0)","v":10},{"$f":"IF(AND(S297=\"\",R297<>\"\"),R$7,0)","v":0},{"$f":"IF(AND(T297=\"\",S297<>\"\"),S$7,0)","v":0},{"$f":"IF(AND(U297=\"\",T297<>\"\"),T$7,0)","v":0},{"$f":"IF(AND(V297=\"\",U297<>\"\"),U$7,0)","v":0},{"$f":"IF(AND(W298=\"\",V297<>\"\"),V$7,0)","v":0}]
[null,{"$f":"IF($C$8=\"virgule\",CONCATENATE(B296,\" virgule \",B297),CONCATENATE(B296,\"  et \",B297,\" \",B298))","v":"sept cent soixante milliards neuf cent treize millions sept cents mille huit cent trente-six virgule neuf"}]
[null,null,null,null,{"$f":"IF(X300>100000000000,INT(RIGHT($X300,12)/100000000000),0)","v":2},{"$f":"IF(X300>10000000000,INT(RIGHT($X300,11)/10000000000),0)","v":7},{"$f":"IF(X300>1000000000,INT(RIGHT($X300,10)/1000000000),0)","v":3},{"$f":"IF(X300>100000000,INT(RIGHT($X300,9)/100000000),0)","v":7},{"$f":"IF(X300>10000000,INT(RIGHT($X300,8)/10000000),0)","v":4},{"$f":"IF(X300>1000000,INT(RIGHT($X300,7)/1000000),0)","v":9},{"$f":"IF(X300>100000,INT(RIGHT($X300,6)/100000),0)","v":1},{"$f":"IF(X300>10000,INT(RIGHT($X300,5)/10000),0)","v":9},{"$f":"IF(X300>1000,INT(RIGHT($X300,4)/1000),0)","v":2},{"$f":"IF(X300>100,INT(RIGHT($X300,3)/100),0)","v":1},{"$f":"IF(X300>10,INT(RIGHT($X300,2)/10),0)","v":9},{"$f":"INT(RIGHT($X300,1)/1)","v":7},{"$f":"INT(RIGHT($AC300,1))","v":5},{"$f":"INT(RIGHT($AC300,2)/10)","v":8},{"$f":"INT(RIGHT($AC300,3)/100)","v":0},{"$f":"INT(RIGHT($AC300,4)/1000)","v":0},{"$f":"INT(RIGHT($AC300,5)/10000)","v":0},{"$f":"INT(RIGHT($AC300,6)/100000)","v":0},{"$f":"((Q300*100000)+(R300*10000)+(S300*1000)+(T300*100)+(U300*10)+V300)","v":580000},{"$f":"C$3+INT(RAND()*(C$4-C$3+1))","v":273749192197},{"$f":"LEN(X300)","v":12},{"$f":"INT(RAND()*(Y300-C$5))+C$5","v":7},{"$f":"Z300-C$5","v":5},null,{"$f":"INT(RAND()*(POWER(10,$C$7))+1)","v":85},{"$f":"LEN(AC300)","v":2},{"$f":"INT(RAND()*(AD300-H$5))+H$5","v":0},{"$f":"AE300-H$5","v":0}]
[59,{"$f":"convnumberletter(C301)","v":"deux cent soixante-treize milliards sept cents millions cent quatre-vingt-douze mille cent quatre-vingt-dix-sept"},{"$f":"(E302*10^E$7)+(F302*10^F$7)+(G302*10^G$7)+(H302*10^H$7)+(I302*10^I$7)+(J302*10^J$7)+(K302*10^K$7)+(L302*10^L$7)+(M302*10^M$7)+(N302*10^N$7)+(O302*10^O$7)+(P302*10^P$7)","v":273700192197},null,{"$f":"IF(Z300=12,TRUE,FALSE)","v":false},{"$f":"IF(Z300=11,TRUE,FALSE)","v":false},{"$f":"IF(Z300=10,TRUE,FALSE)","v":false},{"$f":"IF(Z300=9,TRUE,FALSE)","v":false},{"$f":"IF(Z300=8,TRUE,FALSE)","v":false},{"$f":"IF(Z300=7,TRUE,FALSE)","v":true},{"$f":"IF(Z300=6,TRUE,FALSE)","v":false},{"$f":"IF(Z300=5,TRUE,FALSE)","v":false},{"$f":"IF(Z300=4,TRUE,FALSE)","v":false},{"$f":"IF(Z300=3,TRUE,FALSE)","v":false},{"$f":"IF(Z300=2,TRUE,FALSE)","v":false},{"$f":"IF(Z300=1,TRUE,FALSE)","v":false},{"$f":"IF(AND(Q300=0,R301=FALSE),FALSE,TRUE)","v":true},{"$f":"IF(AND(R300=0,S301=FALSE),FALSE,TRUE)","v":true},{"$f":"IF(AND(S300=0,T301=FALSE),FALSE,TRUE)","v":false},{"$f":"IF(AND(T300=0,U301=FALSE),FALSE,TRUE)","v":false},{"$f":"IF(AND(U300=0,V301=FALSE),FALSE,TRUE)","v":false},{"$f":"IF(V300=0,FALSE,TRUE)","v":false},{"$f":"W300/(1000000/W302)","v":58}]
[null,{"$f":"convnumberletter(C302)","v":"cinquante-huit"},{"$f":"W301","v":58},null,{"$f":"IF(AND(E$7-1<$Z300,E$7-1>=$AA300),0,E300)","v":2},7,3,7,0,0,1,9,{"$f":"IF(AND(M$7-1<$Z300,M$7-1>=$AA300),0,M300)","v":2},{"$f":"IF(AND(N$7-1<$Z300,N$7-1>=$AA300),0,N300)","v":1},{"$f":"IF(AND(O$7-1<$Z300,O$7-1>=$AA300),0,O300)","v":9},{"$f":"IF(AND(P$7-1<$Z300,P$7-1>=$AA300),0,P300)","v":7},{"$f":"IF(Q301=FALSE,\"\",Q300)","v":5},8,"","","","",{"$f":"SUM(Q303:V303)","v":100}]
[null,{"$f":"IF(C302>1,CONCATENATE(HLOOKUP(C303,$Q$7:$V$9,3,TRUE),\"s\"),HLOOKUP(C303,$Q$7:$V$9,3,TRUE))","v":"centièmes"},{"$f":"W302","v":100},null,null,null,null,null,null,null,null,null,null,null,null,null,{"$f":"IF(AND(R302=\"\",Q302<>\"\"),Q$7,0)","v":0},{"$f":"IF(AND(S302=\"\",R302<>\"\"),R$7,0)","v":100},{"$f":"IF(AND(T302=\"\",S302<>\"\"),S$7,0)","v":0},{"$f":"IF(AND(U302=\"\",T302<>\"\"),T$7,0)","v":0},{"$f":"IF(AND(V302=\"\",U302<>\"\"),U$7,0)","v":0},{"$f":"IF(AND(W303=\"\",V302<>\"\"),V$7,0)","v":0}]
[null,{"$f":"IF($C$8=\"virgule\",CONCATENATE(B301,\" virgule \",B302),CONCATENATE(B301,\"  et \",B302,\" \",B303))","v":"deux cent soixante-treize milliards sept cents millions cent quatre-vingt-douze mille cent quatre-vingt-dix-sept virgule cinquante-huit"}]
[null,null,null,null,{"$f":"IF(X305>100000000000,INT(RIGHT($X305,12)/100000000000),0)","v":2},{"$f":"IF(X305>10000000000,INT(RIGHT($X305,11)/10000000000),0)","v":1},{"$f":"IF(X305>1000000000,INT(RIGHT($X305,10)/1000000000),0)","v":9},{"$f":"IF(X305>100000000,INT(RIGHT($X305,9)/100000000),0)","v":4},{"$f":"IF(X305>10000000,INT(RIGHT($X305,8)/10000000),0)","v":0},{"$f":"IF(X305>1000000,INT(RIGHT($X305,7)/1000000),0)","v":4},{"$f":"IF(X305>100000,INT(RIGHT($X305,6)/100000),0)","v":0},{"$f":"IF(X305>10000,INT(RIGHT($X305,5)/10000),0)","v":9},{"$f":"IF(X305>1000,INT(RIGHT($X305,4)/1000),0)","v":8},{"$f":"IF(X305>100,INT(RIGHT($X305,3)/100),0)","v":8},{"$f":"IF(X305>10,INT(RIGHT($X305,2)/10),0)","v":1},{"$f":"INT(RIGHT($X305,1)/1)","v":4},{"$f":"INT(RIGHT($AC305,1))","v":5},{"$f":"INT(RIGHT($AC305,2)/10)","v":2},{"$f":"INT(RIGHT($AC305,3)/100)","v":0},{"$f":"INT(RIGHT($AC305,4)/1000)","v":0},{"$f":"INT(RIGHT($AC305,5)/10000)","v":0},{"$f":"INT(RIGHT($AC305,6)/100000)","v":0},{"$f":"((Q305*100000)+(R305*10000)+(S305*1000)+(T305*100)+(U305*10)+V305)","v":520000},{"$f":"C$3+INT(RAND()*(C$4-C$3+1))","v":219404098814},{"$f":"LEN(X305)","v":12},{"$f":"INT(RAND()*(Y305-C$5))+C$5","v":4},{"$f":"Z305-C$5","v":2},null,{"$f":"INT(RAND()*(POWER(10,$C$7))+1)","v":25},{"$f":"LEN(AC305)","v":2},{"$f":"INT(RAND()*(AD305-H$5))+H$5","v":0},{"$f":"AE305-H$5","v":0}]
[60,{"$f":"convnumberletter(C306)","v":"deux cent dix-neuf milliards quatre cent quatre millions et huit cent quatorze"},{"$f":"(E307*10^E$7)+(F307*10^F$7)+(G307*10^G$7)+(H307*10^H$7)+(I307*10^I$7)+(J307*10^J$7)+(K307*10^K$7)+(L307*10^L$7)+(M307*10^M$7)+(N307*10^N$7)+(O307*10^O$7)+(P307*10^P$7)","v":219404000814},null,{"$f":"IF(Z305=12,TRUE,FALSE)","v":false},{"$f":"IF(Z305=11,TRUE,FALSE)","v":false},{"$f":"IF(Z305=10,TRUE,FALSE)","v":false},{"$f":"IF(Z305=9,TRUE,FALSE)","v":false},{"$f":"IF(Z305=8,TRUE,FALSE)","v":false},{"$f":"IF(Z305=7,TRUE,FALSE)","v":false},{"$f":"IF(Z305=6,TRUE,FALSE)","v":false},{"$f":"IF(Z305=5,TRUE,FALSE)","v":false},{"$f":"IF(Z305=4,TRUE,FALSE)","v":true},{"$f":"IF(Z305=3,TRUE,FALSE)","v":false},{"$f":"IF(Z305=2,TRUE,FALSE)","v":false},{"$f":"IF(Z305=1,TRUE,FALSE)","v":false},{"$f":"IF(AND(Q305=0,R306=FALSE),FALSE,TRUE)","v":true},{"$f":"IF(AND(R305=0,S306=FALSE),FALSE,TRUE)","v":true},{"$f":"IF(AND(S305=0,T306=FALSE),FALSE,TRUE)","v":false},{"$f":"IF(AND(T305=0,U306=FALSE),FALSE,TRUE)","v":false},{"$f":"IF(AND(U305=0,V306=FALSE),FALSE,TRUE)","v":false},{"$f":"IF(V305=0,FALSE,TRUE)","v":false},{"$f":"W305/(1000000/W307)","v":52}]
[null,{"$f":"convnumberletter(C307)","v":"cinquante-deux"},{"$f":"W306","v":52},null,{"$f":"IF(AND(E$7-1<$Z305,E$7-1>=$AA305),0,E305)","v":2},1,9,4,0,4,0,0,{"$f":"IF(AND(M$7-1<$Z305,M$7-1>=$AA305),0,M305)","v":0},{"$f":"IF(AND(N$7-1<$Z305,N$7-1>=$AA305),0,N305)","v":8},{"$f":"IF(AND(O$7-1<$Z305,O$7-1>=$AA305),0,O305)","v":1},{"$f":"IF(AND(P$7-1<$Z305,P$7-1>=$AA305),0,P305)","v":4},{"$f":"IF(Q306=FALSE,\"\",Q305)","v":5},2,"","","","",{"$f":"SUM(Q308:V308)","v":100}]
[null,{"$f":"IF(C307>1,CONCATENATE(HLOOKUP(C308,$Q$7:$V$9,3,TRUE),\"s\"),HLOOKUP(C308,$Q$7:$V$9,3,TRUE))","v":"centièmes"},{"$f":"W307","v":100},null,null,null,null,null,null,null,null,null,null,null,null,null,{"$f":"IF(AND(R307=\"\",Q307<>\"\"),Q$7,0)","v":0},{"$f":"IF(AND(S307=\"\",R307<>\"\"),R$7,0)","v":100},{"$f":"IF(AND(T307=\"\",S307<>\"\"),S$7,0)","v":0},{"$f":"IF(AND(U307=\"\",T307<>\"\"),T$7,0)","v":0},{"$f":"IF(AND(V307=\"\",U307<>\"\"),U$7,0)","v":0},{"$f":"IF(AND(W308=\"\",V307<>\"\"),V$7,0)","v":0}]
[null,{"$f":"IF($C$8=\"virgule\",CONCATENATE(B306,\" virgule \",B307),CONCATENATE(B306,\"  et \",B307,\" \",B308))","v":"deux cent dix-neuf milliards quatre cent quatre millions et huit cent quatorze virgule cinquante-deux"}]
[null,null,null,null,{"$f":"IF(X310>100000000000,INT(RIGHT($X310,12)/100000000000),0)","v":2},{"$f":"IF(X310>10000000000,INT(RIGHT($X310,11)/10000000000),0)","v":0},{"$f":"IF(X310>1000000000,INT(RIGHT($X310,10)/1000000000),0)","v":6},{"$f":"IF(X310>100000000,INT(RIGHT($X310,9)/100000000),0)","v":5},{"$f":"IF(X310>10000000,INT(RIGHT($X310,8)/10000000),0)","v":5},{"$f":"IF(X310>1000000,INT(RIGHT($X310,7)/1000000),0)","v":8},{"$f":"IF(X310>100000,INT(RIGHT($X310,6)/100000),0)","v":0},{"$f":"IF(X310>10000,INT(RIGHT($X310,5)/10000),0)","v":2},{"$f":"IF(X310>1000,INT(RIGHT($X310,4)/1000),0)","v":5},{"$f":"IF(X310>100,INT(RIGHT($X310,3)/100),0)","v":7},{"$f":"IF(X310>10,INT(RIGHT($X310,2)/10),0)","v":7},{"$f":"INT(RIGHT($X310,1)/1)","v":8},{"$f":"INT(RIGHT($AC310,1))","v":1},{"$f":"INT(RIGHT($AC310,2)/10)","v":8},{"$f":"INT(RIGHT($AC310,3)/100)","v":0},{"$f":"INT(RIGHT($AC310,4)/1000)","v":0},{"$f":"INT(RIGHT($AC310,5)/10000)","v":0},{"$f":"INT(RIGHT($AC310,6)/100000)","v":0},{"$f":"((Q310*100000)+(R310*10000)+(S310*1000)+(T310*100)+(U310*10)+V310)","v":180000},{"$f":"C$3+INT(RAND()*(C$4-C$3+1))","v":206558025778},{"$f":"LEN(X310)","v":12},{"$f":"INT(RAND()*(Y310-C$5))+C$5","v":9},{"$f":"Z310-C$5","v":7},null,{"$f":"INT(RAND()*(POWER(10,$C$7))+1)","v":81},{"$f":"LEN(AC310)","v":2},{"$f":"INT(RAND()*(AD310-H$5))+H$5","v":0},{"$f":"AE310-H$5","v":0}]
[61,{"$f":"convnumberletter(C311)","v":"deux cents milliards cinquante-huit millions vingt-cinq mille sept cent soixante-dix-huit"},{"$f":"(E312*10^E$7)+(F312*10^F$7)+(G312*10^G$7)+(H312*10^H$7)+(I312*10^I$7)+(J312*10^J$7)+(K312*10^K$7)+(L312*10^L$7)+(M312*10^M$7)+(N312*10^N$7)+(O312*10^O$7)+(P312*10^P$7)","v":200058025778},null,{"$f":"IF(Z310=12,TRUE,FALSE)","v":false},{"$f":"IF(Z310=11,TRUE,FALSE)","v":false},{"$f":"IF(Z310=10,TRUE,FALSE)","v":false},{"$f":"IF(Z310=9,TRUE,FALSE)","v":true},{"$f":"IF(Z310=8,TRUE,FALSE)","v":false},{"$f":"IF(Z310=7,TRUE,FALSE)","v":false},{"$f":"IF(Z310=6,TRUE,FALSE)","v":false},{"$f":"IF(Z310=5,TRUE,FALSE)","v":false},{"$f":"IF(Z310=4,TRUE,FALSE)","v":false},{"$f":"IF(Z310=3,TRUE,FALSE)","v":false},{"$f":"IF(Z310=2,TRUE,FALSE)","v":false},{"$f":"IF(Z310=1,TRUE,FALSE)","v":false},{"$f":"IF(AND(Q310=0,R311=FALSE),FALSE,TRUE)","v":true},{"$f":"IF(AND(R310=0,S311=FALSE),FALSE,TRUE)","v":true},{"$f":"IF(AND(S310=0,T311=FALSE),FALSE,TRUE)","v":false},{"$f":"IF(AND(T310=0,U311=FALSE),FALSE,TRUE)","v":false},{"$f":"IF(AND(U310=0,V311=FALSE),FALSE,TRUE)","v":false},{"$f":"IF(V310=0,FALSE,TRUE)","v":false},{"$f":"W310/(1000000/W312)","v":18}]
[null,{"$f":"convnumberletter(C312)","v":"dix-huit"},{"$f":"W311","v":18},null,{"$f":"IF(AND(E$7-1<$Z310,E$7-1>=$AA310),0,E310)","v":2},0,0,0,5,8,0,2,{"$f":"IF(AND(M$7-1<$Z310,M$7-1>=$AA310),0,M310)","v":5},{"$f":"IF(AND(N$7-1<$Z310,N$7-1>=$AA310),0,N310)","v":7},{"$f":"IF(AND(O$7-1<$Z310,O$7-1>=$AA310),0,O310)","v":7},{"$f":"IF(AND(P$7-1<$Z310,P$7-1>=$AA310),0,P310)","v":8},{"$f":"IF(Q311=FALSE,\"\",Q310)","v":1},8,"","","","",{"$f":"SUM(Q313:V313)","v":100}]
[null,{"$f":"IF(C312>1,CONCATENATE(HLOOKUP(C313,$Q$7:$V$9,3,TRUE),\"s\"),HLOOKUP(C313,$Q$7:$V$9,3,TRUE))","v":"centièmes"},{"$f":"W312","v":100},null,null,null,null,null,null,null,null,null,null,null,null,null,{"$f":"IF(AND(R312=\"\",Q312<>\"\"),Q$7,0)","v":0},{"$f":"IF(AND(S312=\"\",R312<>\"\"),R$7,0)","v":100},{"$f":"IF(AND(T312=\"\",S312<>\"\"),S$7,0)","v":0},{"$f":"IF(AND(U312=\"\",T312<>\"\"),T$7,0)","v":0},{"$f":"IF(AND(V312=\"\",U312<>\"\"),U$7,0)","v":0},{"$f":"IF(AND(W313=\"\",V312<>\"\"),V$7,0)","v":0}]
[null,{"$f":"IF($C$8=\"virgule\",CONCATENATE(B311,\" virgule \",B312),CONCATENATE(B311,\"  et \",B312,\" \",B313))","v":"deux cents milliards cinquante-huit millions vingt-cinq mille sept cent soixante-dix-huit virgule dix-huit"}]
[null,null,null,null,{"$f":"IF(X315>100000000000,INT(RIGHT($X315,12)/100000000000),0)","v":1},{"$f":"IF(X315>10000000000,INT(RIGHT($X315,11)/10000000000),0)","v":9},{"$f":"IF(X315>1000000000,INT(RIGHT($X315,10)/1000000000),0)","v":8},{"$f":"IF(X315>100000000,INT(RIGHT($X315,9)/100000000),0)","v":8},{"$f":"IF(X315>10000000,INT(RIGHT($X315,8)/10000000),0)","v":4},{"$f":"IF(X315>1000000,INT(RIGHT($X315,7)/1000000),0)","v":6},{"$f":"IF(X315>100000,INT(RIGHT($X315,6)/100000),0)","v":5},{"$f":"IF(X315>10000,INT(RIGHT($X315,5)/10000),0)","v":3},{"$f":"IF(X315>1000,INT(RIGHT($X315,4)/1000),0)","v":3},{"$f":"IF(X315>100,INT(RIGHT($X315,3)/100),0)","v":2},{"$f":"IF(X315>10,INT(RIGHT($X315,2)/10),0)","v":8},{"$f":"INT(RIGHT($X315,1)/1)","v":9},{"$f":"INT(RIGHT($AC315,1))","v":3},{"$f":"INT(RIGHT($AC315,2)/10)","v":2},{"$f":"INT(RIGHT($AC315,3)/100)","v":0},{"$f":"INT(RIGHT($AC315,4)/1000)","v":0},{"$f":"INT(RIGHT($AC315,5)/10000)","v":0},{"$f":"INT(RIGHT($AC315,6)/100000)","v":0},{"$f":"((Q315*100000)+(R315*10000)+(S315*1000)+(T315*100)+(U315*10)+V315)","v":320000},{"$f":"C$3+INT(RAND()*(C$4-C$3+1))","v":198846533289},{"$f":"LEN(X315)","v":12},{"$f":"INT(RAND()*(Y315-C$5))+C$5","v":6},{"$f":"Z315-C$5","v":4},null,{"$f":"INT(RAND()*(POWER(10,$C$7))+1)","v":23},{"$f":"LEN(AC315)","v":2},{"$f":"INT(RAND()*(AD315-H$5))+H$5","v":1},{"$f":"AE315-H$5","v":1}]
[62,{"$f":"convnumberletter(C316)","v":"cent quatre-vingt-dix-huit milliards huit cent quarante millions trente-trois mille deux cent quatre-vingt-neuf"},{"$f":"(E317*10^E$7)+(F317*10^F$7)+(G317*10^G$7)+(H317*10^H$7)+(I317*10^I$7)+(J317*10^J$7)+(K317*10^K$7)+(L317*10^L$7)+(M317*10^M$7)+(N317*10^N$7)+(O317*10^O$7)+(P317*10^P$7)","v":198840033289},null,{"$f":"IF(Z315=12,TRUE,FALSE)","v":false},{"$f":"IF(Z315=11,TRUE,FALSE)","v":false},{"$f":"IF(Z315=10,TRUE,FALSE)","v":false},{"$f":"IF(Z315=9,TRUE,FALSE)","v":false},{"$f":"IF(Z315=8,TRUE,FALSE)","v":false},{"$f":"IF(Z315=7,TRUE,FALSE)","v":false},{"$f":"IF(Z315=6,TRUE,FALSE)","v":true},{"$f":"IF(Z315=5,TRUE,FALSE)","v":false},{"$f":"IF(Z315=4,TRUE,FALSE)","v":false},{"$f":"IF(Z315=3,TRUE,FALSE)","v":false},{"$f":"IF(Z315=2,TRUE,FALSE)","v":false},{"$f":"IF(Z315=1,TRUE,FALSE)","v":false},{"$f":"IF(AND(Q315=0,R316=FALSE),FALSE,TRUE)","v":true},{"$f":"IF(AND(R315=0,S316=FALSE),FALSE,TRUE)","v":true},{"$f":"IF(AND(S315=0,T316=FALSE),FALSE,TRUE)","v":false},{"$f":"IF(AND(T315=0,U316=FALSE),FALSE,TRUE)","v":false},{"$f":"IF(AND(U315=0,V316=FALSE),FALSE,TRUE)","v":false},{"$f":"IF(V315=0,FALSE,TRUE)","v":false},{"$f":"W315/(1000000/W317)","v":32}]
[null,{"$f":"convnumberletter(C317)","v":"trente-deux"},{"$f":"W316","v":32},null,{"$f":"IF(AND(E$7-1<$Z315,E$7-1>=$AA315),0,E315)","v":1},9,8,8,4,0,0,3,{"$f":"IF(AND(M$7-1<$Z315,M$7-1>=$AA315),0,M315)","v":3},{"$f":"IF(AND(N$7-1<$Z315,N$7-1>=$AA315),0,N315)","v":2},{"$f":"IF(AND(O$7-1<$Z315,O$7-1>=$AA315),0,O315)","v":8},{"$f":"IF(AND(P$7-1<$Z315,P$7-1>=$AA315),0,P315)","v":9},{"$f":"IF(Q316=FALSE,\"\",Q315)","v":3},2,"","","","",{"$f":"SUM(Q318:V318)","v":100}]
[null,{"$f":"IF(C317>1,CONCATENATE(HLOOKUP(C318,$Q$7:$V$9,3,TRUE),\"s\"),HLOOKUP(C318,$Q$7:$V$9,3,TRUE))","v":"centièmes"},{"$f":"W317","v":100},null,null,null,null,null,null,null,null,null,null,null,null,null,{"$f":"IF(AND(R317=\"\",Q317<>\"\"),Q$7,0)","v":0},{"$f":"IF(AND(S317=\"\",R317<>\"\"),R$7,0)","v":100},{"$f":"IF(AND(T317=\"\",S317<>\"\"),S$7,0)","v":0},{"$f":"IF(AND(U317=\"\",T317<>\"\"),T$7,0)","v":0},{"$f":"IF(AND(V317=\"\",U317<>\"\"),U$7,0)","v":0},{"$f":"IF(AND(W318=\"\",V317<>\"\"),V$7,0)","v":0}]
[null,{"$f":"IF($C$8=\"virgule\",CONCATENATE(B316,\" virgule \",B317),CONCATENATE(B316,\"  et \",B317,\" \",B318))","v":"cent quatre-vingt-dix-huit milliards huit cent quarante millions trente-trois mille deux cent quatre-vingt-neuf virgule trente-deux"}]
[null,null,null,null,{"$f":"IF(X320>100000000000,INT(RIGHT($X320,12)/100000000000),0)","v":5},{"$f":"IF(X320>10000000000,INT(RIGHT($X320,11)/10000000000),0)","v":5},{"$f":"IF(X320>1000000000,INT(RIGHT($X320,10)/1000000000),0)","v":9},{"$f":"IF(X320>100000000,INT(RIGHT($X320,9)/100000000),0)","v":0},{"$f":"IF(X320>10000000,INT(RIGHT($X320,8)/10000000),0)","v":9},{"$f":"IF(X320>1000000,INT(RIGHT($X320,7)/1000000),0)","v":3},{"$f":"IF(X320>100000,INT(RIGHT($X320,6)/100000),0)","v":0},{"$f":"IF(X320>10000,INT(RIGHT($X320,5)/10000),0)","v":1},{"$f":"IF(X320>1000,INT(RIGHT($X320,4)/1000),0)","v":8},{"$f":"IF(X320>100,INT(RIGHT($X320,3)/100),0)","v":7},{"$f":"IF(X320>10,INT(RIGHT($X320,2)/10),0)","v":3},{"$f":"INT(RIGHT($X320,1)/1)","v":0},{"$f":"INT(RIGHT($AC320,1))","v":5},{"$f":"INT(RIGHT($AC320,2)/10)","v":7},{"$f":"INT(RIGHT($AC320,3)/100)","v":0},{"$f":"INT(RIGHT($AC320,4)/1000)","v":0},{"$f":"INT(RIGHT($AC320,5)/10000)","v":0},{"$f":"INT(RIGHT($AC320,6)/100000)","v":0},{"$f":"((Q320*100000)+(R320*10000)+(S320*1000)+(T320*100)+(U320*10)+V320)","v":570000},{"$f":"C$3+INT(RAND()*(C$4-C$3+1))","v":559093018730},{"$f":"LEN(X320)","v":12},{"$f":"INT(RAND()*(Y320-C$5))+C$5","v":11},{"$f":"Z320-C$5","v":9},null,{"$f":"INT(RAND()*(POWER(10,$C$7))+1)","v":75},{"$f":"LEN(AC320)","v":2},{"$f":"INT(RAND()*(AD320-H$5))+H$5","v":0},{"$f":"AE320-H$5","v":0}]
[63,{"$f":"convnumberletter(C321)","v":"neuf milliards quatre-vingt-treize millions dix-huit mille sept cent trente"},{"$f":"(E322*10^E$7)+(F322*10^F$7)+(G322*10^G$7)+(H322*10^H$7)+(I322*10^I$7)+(J322*10^J$7)+(K322*10^K$7)+(L322*10^L$7)+(M322*10^M$7)+(N322*10^N$7)+(O322*10^O$7)+(P322*10^P$7)","v":9093018730},null,{"$f":"IF(Z320=12,TRUE,FALSE)","v":false},{"$f":"IF(Z320=11,TRUE,FALSE)","v":true},{"$f":"IF(Z320=10,TRUE,FALSE)","v":false},{"$f":"IF(Z320=9,TRUE,FALSE)","v":false},{"$f":"IF(Z320=8,TRUE,FALSE)","v":false},{"$f":"IF(Z320=7,TRUE,FALSE)","v":false},{"$f":"IF(Z320=6,TRUE,FALSE)","v":false},{"$f":"IF(Z320=5,TRUE,FALSE)","v":false},{"$f":"IF(Z320=4,TRUE,FALSE)","v":false},{"$f":"IF(Z320=3,TRUE,FALSE)","v":false},{"$f":"IF(Z320=2,TRUE,FALSE)","v":false},{"$f":"IF(Z320=1,TRUE,FALSE)","v":false},{"$f":"IF(AND(Q320=0,R321=FALSE),FALSE,TRUE)","v":true},{"$f":"IF(AND(R320=0,S321=FALSE),FALSE,TRUE)","v":true},{"$f":"IF(AND(S320=0,T321=FALSE),FALSE,TRUE)","v":false},{"$f":"IF(AND(T320=0,U321=FALSE),FALSE,TRUE)","v":false},{"$f":"IF(AND(U320=0,V321=FALSE),FALSE,TRUE)","v":false},{"$f":"IF(V320=0,FALSE,TRUE)","v":false},{"$f":"W320/(1000000/W322)","v":57}]
[null,{"$f":"convnumberletter(C322)","v":"cinquante-sept"},{"$f":"W321","v":57},null,{"$f":"IF(AND(E$7-1<$Z320,E$7-1>=$AA320),0,E320)","v":0},0,9,0,9,3,0,1,{"$f":"IF(AND(M$7-1<$Z320,M$7-1>=$AA320),0,M320)","v":8},{"$f":"IF(AND(N$7-1<$Z320,N$7-1>=$AA320),0,N320)","v":7},{"$f":"IF(AND(O$7-1<$Z320,O$7-1>=$AA320),0,O320)","v":3},{"$f":"IF(AND(P$7-1<$Z320,P$7-1>=$AA320),0,P320)","v":0},{"$f":"IF(Q321=FALSE,\"\",Q320)","v":5},7,"","","","",{"$f":"SUM(Q323:V323)","v":100}]
[null,{"$f":"IF(C322>1,CONCATENATE(HLOOKUP(C323,$Q$7:$V$9,3,TRUE),\"s\"),HLOOKUP(C323,$Q$7:$V$9,3,TRUE))","v":"centièmes"},{"$f":"W322","v":100},null,null,null,null,null,null,null,null,null,null,null,null,null,{"$f":"IF(AND(R322=\"\",Q322<>\"\"),Q$7,0)","v":0},{"$f":"IF(AND(S322=\"\",R322<>\"\"),R$7,0)","v":100},{"$f":"IF(AND(T322=\"\",S322<>\"\"),S$7,0)","v":0},{"$f":"IF(AND(U322=\"\",T322<>\"\"),T$7,0)","v":0},{"$f":"IF(AND(V322=\"\",U322<>\"\"),U$7,0)","v":0},{"$f":"IF(AND(W323=\"\",V322<>\"\"),V$7,0)","v":0}]
[null,{"$f":"IF($C$8=\"virgule\",CONCATENATE(B321,\" virgule \",B322),CONCATENATE(B321,\"  et \",B322,\" \",B323))","v":"neuf milliards quatre-vingt-treize millions dix-huit mille sept cent trente virgule cinquante-sept"}]
[null,null,null,null,{"$f":"IF(X325>100000000000,INT(RIGHT($X325,12)/100000000000),0)","v":0},{"$f":"IF(X325>10000000000,INT(RIGHT($X325,11)/10000000000),0)","v":9},{"$f":"IF(X325>1000000000,INT(RIGHT($X325,10)/1000000000),0)","v":7},{"$f":"IF(X325>100000000,INT(RIGHT($X325,9)/100000000),0)","v":6},{"$f":"IF(X325>10000000,INT(RIGHT($X325,8)/10000000),0)","v":7},{"$f":"IF(X325>1000000,INT(RIGHT($X325,7)/1000000),0)","v":2},{"$f":"IF(X325>100000,INT(RIGHT($X325,6)/100000),0)","v":0},{"$f":"IF(X325>10000,INT(RIGHT($X325,5)/10000),0)","v":8},{"$f":"IF(X325>1000,INT(RIGHT($X325,4)/1000),0)","v":2},{"$f":"IF(X325>100,INT(RIGHT($X325,3)/100),0)","v":1},{"$f":"IF(X325>10,INT(RIGHT($X325,2)/10),0)","v":1},{"$f":"INT(RIGHT($X325,1)/1)","v":4},{"$f":"INT(RIGHT($AC325,1))","v":8},{"$f":"INT(RIGHT($AC325,2)/10)","v":8},{"$f":"INT(RIGHT($AC325,3)/100)","v":0},{"$f":"INT(RIGHT($AC325,4)/1000)","v":0},{"$f":"INT(RIGHT($AC325,5)/10000)","v":0},{"$f":"INT(RIGHT($AC325,6)/100000)","v":0},{"$f":"((Q325*100000)+(R325*10000)+(S325*1000)+(T325*100)+(U325*10)+V325)","v":880000},{"$f":"C$3+INT(RAND()*(C$4-C$3+1))","v":97672082114},{"$f":"LEN(X325)","v":11},{"$f":"INT(RAND()*(Y325-C$5))+C$5","v":8},{"$f":"Z325-C$5","v":6},null,{"$f":"INT(RAND()*(POWER(10,$C$7))+1)","v":88},{"$f":"LEN(AC325)","v":2},{"$f":"INT(RAND()*(AD325-H$5))+H$5","v":1},{"$f":"AE325-H$5","v":1}]
[64,{"$f":"convnumberletter(C326)","v":"quatre-vingt-dix-sept milliards deux millions quatre-vingt-deux mille cent quatorze"},{"$f":"(E327*10^E$7)+(F327*10^F$7)+(G327*10^G$7)+(H327*10^H$7)+(I327*10^I$7)+(J327*10^J$7)+(K327*10^K$7)+(L327*10^L$7)+(M327*10^M$7)+(N327*10^N$7)+(O327*10^O$7)+(P327*10^P$7)","v":97002082114},null,{"$f":"IF(Z325=12,TRUE,FALSE)","v":false},{"$f":"IF(Z325=11,TRUE,FALSE)","v":false},{"$f":"IF(Z325=10,TRUE,FALSE)","v":false},{"$f":"IF(Z325=9,TRUE,FALSE)","v":false},{"$f":"IF(Z325=8,TRUE,FALSE)","v":true},{"$f":"IF(Z325=7,TRUE,FALSE)","v":false},{"$f":"IF(Z325=6,TRUE,FALSE)","v":false},{"$f":"IF(Z325=5,TRUE,FALSE)","v":false},{"$f":"IF(Z325=4,TRUE,FALSE)","v":false},{"$f":"IF(Z325=3,TRUE,FALSE)","v":false},{"$f":"IF(Z325=2,TRUE,FALSE)","v":false},{"$f":"IF(Z325=1,TRUE,FALSE)","v":false},{"$f":"IF(AND(Q325=0,R326=FALSE),FALSE,TRUE)","v":true},{"$f":"IF(AND(R325=0,S326=FALSE),FALSE,TRUE)","v":true},{"$f":"IF(AND(S325=0,T326=FALSE),FALSE,TRUE)","v":false},{"$f":"IF(AND(T325=0,U326=FALSE),FALSE,TRUE)","v":false},{"$f":"IF(AND(U325=0,V326=FALSE),FALSE,TRUE)","v":false},{"$f":"IF(V325=0,FALSE,TRUE)","v":false},{"$f":"W325/(1000000/W327)","v":88}]
[null,{"$f":"convnumberletter(C327)","v":"quatre-vingt-huit"},{"$f":"W326","v":88},null,{"$f":"IF(AND(E$7-1<$Z325,E$7-1>=$AA325),0,E325)","v":0},9,7,0,0,2,0,8,{"$f":"IF(AND(M$7-1<$Z325,M$7-1>=$AA325),0,M325)","v":2},{"$f":"IF(AND(N$7-1<$Z325,N$7-1>=$AA325),0,N325)","v":1},{"$f":"IF(AND(O$7-1<$Z325,O$7-1>=$AA325),0,O325)","v":1},{"$f":"IF(AND(P$7-1<$Z325,P$7-1>=$AA325),0,P325)","v":4},{"$f":"IF(Q326=FALSE,\"\",Q325)","v":8},8,"","","","",{"$f":"SUM(Q328:V328)","v":100}]
[null,{"$f":"IF(C327>1,CONCATENATE(HLOOKUP(C328,$Q$7:$V$9,3,TRUE),\"s\"),HLOOKUP(C328,$Q$7:$V$9,3,TRUE))","v":"centièmes"},{"$f":"W327","v":100},null,null,null,null,null,null,null,null,null,null,null,null,null,{"$f":"IF(AND(R327=\"\",Q327<>\"\"),Q$7,0)","v":0},{"$f":"IF(AND(S327=\"\",R327<>\"\"),R$7,0)","v":100},{"$f":"IF(AND(T327=\"\",S327<>\"\"),S$7,0)","v":0},{"$f":"IF(AND(U327=\"\",T327<>\"\"),T$7,0)","v":0},{"$f":"IF(AND(V327=\"\",U327<>\"\"),U$7,0)","v":0},{"$f":"IF(AND(W328=\"\",V327<>\"\"),V$7,0)","v":0}]
[null,{"$f":"IF($C$8=\"virgule\",CONCATENATE(B326,\" virgule \",B327),CONCATENATE(B326,\"  et \",B327,\" \",B328))","v":"quatre-vingt-dix-sept milliards deux millions quatre-vingt-deux mille cent quatorze virgule quatre-vingt-huit"}]
[null,null,null,null,{"$f":"IF(X330>100000000000,INT(RIGHT($X330,12)/100000000000),0)","v":6},{"$f":"IF(X330>10000000000,INT(RIGHT($X330,11)/10000000000),0)","v":3},{"$f":"IF(X330>1000000000,INT(RIGHT($X330,10)/1000000000),0)","v":3},{"$f":"IF(X330>100000000,INT(RIGHT($X330,9)/100000000),0)","v":1},{"$f":"IF(X330>10000000,INT(RIGHT($X330,8)/10000000),0)","v":8},{"$f":"IF(X330>1000000,INT(RIGHT($X330,7)/1000000),0)","v":8},{"$f":"IF(X330>100000,INT(RIGHT($X330,6)/100000),0)","v":8},{"$f":"IF(X330>10000,INT(RIGHT($X330,5)/10000),0)","v":0},{"$f":"IF(X330>1000,INT(RIGHT($X330,4)/1000),0)","v":2},{"$f":"IF(X330>100,INT(RIGHT($X330,3)/100),0)","v":9},{"$f":"IF(X330>10,INT(RIGHT($X330,2)/10),0)","v":6},{"$f":"INT(RIGHT($X330,1)/1)","v":0},{"$f":"INT(RIGHT($AC330,1))","v":2},{"$f":"INT(RIGHT($AC330,2)/10)","v":4},{"$f":"INT(RIGHT($AC330,3)/100)","v":0},{"$f":"INT(RIGHT($AC330,4)/1000)","v":0},{"$f":"INT(RIGHT($AC330,5)/10000)","v":0},{"$f":"INT(RIGHT($AC330,6)/100000)","v":0},{"$f":"((Q330*100000)+(R330*10000)+(S330*1000)+(T330*100)+(U330*10)+V330)","v":240000},{"$f":"C$3+INT(RAND()*(C$4-C$3+1))","v":633188802960},{"$f":"LEN(X330)","v":12},{"$f":"INT(RAND()*(Y330-C$5))+C$5","v":10},{"$f":"Z330-C$5","v":8},null,{"$f":"INT(RAND()*(POWER(10,$C$7))+1)","v":42},{"$f":"LEN(AC330)","v":2},{"$f":"INT(RAND()*(AD330-H$5))+H$5","v":1},{"$f":"AE330-H$5","v":1}]
[65,{"$f":"convnumberletter(C331)","v":"six cents milliards cent quatre-vingt-huit millions huit cent deux mille neuf cent soixante"},{"$f":"(E332*10^E$7)+(F332*10^F$7)+(G332*10^G$7)+(H332*10^H$7)+(I332*10^I$7)+(J332*10^J$7)+(K332*10^K$7)+(L332*10^L$7)+(M332*10^M$7)+(N332*10^N$7)+(O332*10^O$7)+(P332*10^P$7)","v":600188802960},null,{"$f":"IF(Z330=12,TRUE,FALSE)","v":false},{"$f":"IF(Z330=11,TRUE,FALSE)","v":false},{"$f":"IF(Z330=10,TRUE,FALSE)","v":true},{"$f":"IF(Z330=9,TRUE,FALSE)","v":false},{"$f":"IF(Z330=8,TRUE,FALSE)","v":false},{"$f":"IF(Z330=7,TRUE,FALSE)","v":false},{"$f":"IF(Z330=6,TRUE,FALSE)","v":false},{"$f":"IF(Z330=5,TRUE,FALSE)","v":false},{"$f":"IF(Z330=4,TRUE,FALSE)","v":false},{"$f":"IF(Z330=3,TRUE,FALSE)","v":false},{"$f":"IF(Z330=2,TRUE,FALSE)","v":false},{"$f":"IF(Z330=1,TRUE,FALSE)","v":false},{"$f":"IF(AND(Q330=0,R331=FALSE),FALSE,TRUE)","v":true},{"$f":"IF(AND(R330=0,S331=FALSE),FALSE,TRUE)","v":true},{"$f":"IF(AND(S330=0,T331=FALSE),FALSE,TRUE)","v":false},{"$f":"IF(AND(T330=0,U331=FALSE),FALSE,TRUE)","v":false},{"$f":"IF(AND(U330=0,V331=FALSE),FALSE,TRUE)","v":false},{"$f":"IF(V330=0,FALSE,TRUE)","v":false},{"$f":"W330/(1000000/W332)","v":24}]
[null,{"$f":"convnumberletter(C332)","v":"vingt-quatre"},{"$f":"W331","v":24},null,{"$f":"IF(AND(E$7-1<$Z330,E$7-1>=$AA330),0,E330)","v":6},0,0,1,8,8,8,0,{"$f":"IF(AND(M$7-1<$Z330,M$7-1>=$AA330),0,M330)","v":2},{"$f":"IF(AND(N$7-1<$Z330,N$7-1>=$AA330),0,N330)","v":9},{"$f":"IF(AND(O$7-1<$Z330,O$7-1>=$AA330),0,O330)","v":6},{"$f":"IF(AND(P$7-1<$Z330,P$7-1>=$AA330),0,P330)","v":0},{"$f":"IF(Q331=FALSE,\"\",Q330)","v":2},4,"","","","",{"$f":"SUM(Q333:V333)","v":100}]
[null,{"$f":"IF(C332>1,CONCATENATE(HLOOKUP(C333,$Q$7:$V$9,3,TRUE),\"s\"),HLOOKUP(C333,$Q$7:$V$9,3,TRUE))","v":"centièmes"},{"$f":"W332","v":100},null,null,null,null,null,null,null,null,null,null,null,null,null,{"$f":"IF(AND(R332=\"\",Q332<>\"\"),Q$7,0)","v":0},{"$f":"IF(AND(S332=\"\",R332<>\"\"),R$7,0)","v":100},{"$f":"IF(AND(T332=\"\",S332<>\"\"),S$7,0)","v":0},{"$f":"IF(AND(U332=\"\",T332<>\"\"),T$7,0)","v":0},{"$f":"IF(AND(V332=\"\",U332<>\"\"),U$7,0)","v":0},{"$f":"IF(AND(W333=\"\",V332<>\"\"),V$7,0)","v":0}]
[null,{"$f":"IF($C$8=\"virgule\",CONCATENATE(B331,\" virgule \",B332),CONCATENATE(B331,\"  et \",B332,\" \",B333))","v":"six cents milliards cent quatre-vingt-huit millions huit cent deux mille neuf cent soixante virgule vingt-quatre"}]
[null,null,null,null,{"$f":"IF(X335>100000000000,INT(RIGHT($X335,12)/100000000000),0)","v":2},{"$f":"IF(X335>10000000000,INT(RIGHT($X335,11)/10000000000),0)","v":5},{"$f":"IF(X335>1000000000,INT(RIGHT($X335,10)/1000000000),0)","v":5},{"$f":"IF(X335>100000000,INT(RIGHT($X335,9)/100000000),0)","v":6},{"$f":"IF(X335>10000000,INT(RIGHT($X335,8)/10000000),0)","v":7},{"$f":"IF(X335>1000000,INT(RIGHT($X335,7)/1000000),0)","v":4},{"$f":"IF(X335>100000,INT(RIGHT($X335,6)/100000),0)","v":6},{"$f":"IF(X335>10000,INT(RIGHT($X335,5)/10000),0)","v":9},{"$f":"IF(X335>1000,INT(RIGHT($X335,4)/1000),0)","v":6},{"$f":"IF(X335>100,INT(RIGHT($X335,3)/100),0)","v":4},{"$f":"IF(X335>10,INT(RIGHT($X335,2)/10),0)","v":7},{"$f":"INT(RIGHT($X335,1)/1)","v":3},{"$f":"INT(RIGHT($AC335,1))","v":0},{"$f":"INT(RIGHT($AC335,2)/10)","v":7},{"$f":"INT(RIGHT($AC335,3)/100)","v":0},{"$f":"INT(RIGHT($AC335,4)/1000)","v":0},{"$f":"INT(RIGHT($AC335,5)/10000)","v":0},{"$f":"INT(RIGHT($AC335,6)/100000)","v":0},{"$f":"((Q335*100000)+(R335*10000)+(S335*1000)+(T335*100)+(U335*10)+V335)","v":70000},{"$f":"C$3+INT(RAND()*(C$4-C$3+1))","v":255674696473},{"$f":"LEN(X335)","v":12},{"$f":"INT(RAND()*(Y335-C$5))+C$5","v":5},{"$f":"Z335-C$5","v":3},null,{"$f":"INT(RAND()*(POWER(10,$C$7))+1)","v":70},{"$f":"LEN(AC335)","v":2},{"$f":"INT(RAND()*(AD335-H$5))+H$5","v":1},{"$f":"AE335-H$5","v":1}]
[66,{"$f":"convnumberletter(C336)","v":"deux cent cinquante-cinq milliards six cent soixante-quatorze millions six mille quatre cent soixante-treize"},{"$f":"(E337*10^E$7)+(F337*10^F$7)+(G337*10^G$7)+(H337*10^H$7)+(I337*10^I$7)+(J337*10^J$7)+(K337*10^K$7)+(L337*10^L$7)+(M337*10^M$7)+(N337*10^N$7)+(O337*10^O$7)+(P337*10^P$7)","v":255674006473},null,{"$f":"IF(Z335=12,TRUE,FALSE)","v":false},{"$f":"IF(Z335=11,TRUE,FALSE)","v":false},{"$f":"IF(Z335=10,TRUE,FALSE)","v":false},{"$f":"IF(Z335=9,TRUE,FALSE)","v":false},{"$f":"IF(Z335=8,TRUE,FALSE)","v":false},{"$f":"IF(Z335=7,TRUE,FALSE)","v":false},{"$f":"IF(Z335=6,TRUE,FALSE)","v":false},{"$f":"IF(Z335=5,TRUE,FALSE)","v":true},{"$f":"IF(Z335=4,TRUE,FALSE)","v":false},{"$f":"IF(Z335=3,TRUE,FALSE)","v":false},{"$f":"IF(Z335=2,TRUE,FALSE)","v":false},{"$f":"IF(Z335=1,TRUE,FALSE)","v":false},{"$f":"IF(AND(Q335=0,R336=FALSE),FALSE,TRUE)","v":true},{"$f":"IF(AND(R335=0,S336=FALSE),FALSE,TRUE)","v":true},{"$f":"IF(AND(S335=0,T336=FALSE),FALSE,TRUE)","v":false},{"$f":"IF(AND(T335=0,U336=FALSE),FALSE,TRUE)","v":false},{"$f":"IF(AND(U335=0,V336=FALSE),FALSE,TRUE)","v":false},{"$f":"IF(V335=0,FALSE,TRUE)","v":false},{"$f":"W335/(1000000/W337)","v":7}]
[null,{"$f":"convnumberletter(C337)","v":"sept"},{"$f":"W336","v":7},null,{"$f":"IF(AND(E$7-1<$Z335,E$7-1>=$AA335),0,E335)","v":2},5,5,6,7,4,0,0,{"$f":"IF(AND(M$7-1<$Z335,M$7-1>=$AA335),0,M335)","v":6},{"$f":"IF(AND(N$7-1<$Z335,N$7-1>=$AA335),0,N335)","v":4},{"$f":"IF(AND(O$7-1<$Z335,O$7-1>=$AA335),0,O335)","v":7},{"$f":"IF(AND(P$7-1<$Z335,P$7-1>=$AA335),0,P335)","v":3},{"$f":"IF(Q336=FALSE,\"\",Q335)","v":0},7,"","","","",{"$f":"SUM(Q338:V338)","v":100}]
[67,{"$f":"IF(C337>1,CONCATENATE(HLOOKUP(C338,$Q$7:$V$9,3,TRUE),\"s\"),HLOOKUP(C338,$Q$7:$V$9,3,TRUE))","v":"centièmes"},{"$f":"W337","v":100},null,null,null,null,null,null,null,null,null,null,null,null,null,{"$f":"IF(AND(R337=\"\",Q337<>\"\"),Q$7,0)","v":0},{"$f":"IF(AND(S337=\"\",R337<>\"\"),R$7,0)","v":100},{"$f":"IF(AND(T337=\"\",S337<>\"\"),S$7,0)","v":0},{"$f":"IF(AND(U337=\"\",T337<>\"\"),T$7,0)","v":0},{"$f":"IF(AND(V337=\"\",U337<>\"\"),U$7,0)","v":0},{"$f":"IF(AND(W338=\"\",V337<>\"\"),V$7,0)","v":0}]
[null,{"$f":"IF($C$8=\"virgule\",CONCATENATE(B336,\" virgule \",B337),CONCATENATE(B336,\"  et \",B337,\" \",B338))","v":"deux cent cinquante-cinq milliards six cent soixante-quatorze millions six mille quatre cent soixante-treize virgule sept"}]
[null,null,null,null,{"$f":"IF(X340>100000000000,INT(RIGHT($X340,12)/100000000000),0)","v":7},{"$f":"IF(X340>10000000000,INT(RIGHT($X340,11)/10000000000),0)","v":7},{"$f":"IF(X340>1000000000,INT(RIGHT($X340,10)/1000000000),0)","v":5},{"$f":"IF(X340>100000000,INT(RIGHT($X340,9)/100000000),0)","v":0},{"$f":"IF(X340>10000000,INT(RIGHT($X340,8)/10000000),0)","v":5},{"$f":"IF(X340>1000000,INT(RIGHT($X340,7)/1000000),0)","v":7},{"$f":"IF(X340>100000,INT(RIGHT($X340,6)/100000),0)","v":9},{"$f":"IF(X340>10000,INT(RIGHT($X340,5)/10000),0)","v":4},{"$f":"IF(X340>1000,INT(RIGHT($X340,4)/1000),0)","v":0},{"$f":"IF(X340>100,INT(RIGHT($X340,3)/100),0)","v":2},{"$f":"IF(X340>10,INT(RIGHT($X340,2)/10),0)","v":8},{"$f":"INT(RIGHT($X340,1)/1)","v":4},{"$f":"INT(RIGHT($AC340,1))","v":4},{"$f":"INT(RIGHT($AC340,2)/10)","v":7},{"$f":"INT(RIGHT($AC340,3)/100)","v":0},{"$f":"INT(RIGHT($AC340,4)/1000)","v":0},{"$f":"INT(RIGHT($AC340,5)/10000)","v":0},{"$f":"INT(RIGHT($AC340,6)/100000)","v":0},{"$f":"((Q340*100000)+(R340*10000)+(S340*1000)+(T340*100)+(U340*10)+V340)","v":470000},{"$f":"C$3+INT(RAND()*(C$4-C$3+1))","v":775057940284},{"$f":"LEN(X340)","v":12},{"$f":"INT(RAND()*(Y340-C$5))+C$5","v":9},{"$f":"Z340-C$5","v":7},null,{"$f":"INT(RAND()*(POWER(10,$C$7))+1)","v":74},{"$f":"LEN(AC340)","v":2},{"$f":"INT(RAND()*(AD340-H$5))+H$5","v":0},{"$f":"AE340-H$5","v":0}]
[null,{"$f":"convnumberletter(C341)","v":"sept cent soixante-dix milliards cinquante-sept millions neuf cent quarante mille deux cent quatre-vingt-quatre"},{"$f":"(E342*10^E$7)+(F342*10^F$7)+(G342*10^G$7)+(H342*10^H$7)+(I342*10^I$7)+(J342*10^J$7)+(K342*10^K$7)+(L342*10^L$7)+(M342*10^M$7)+(N342*10^N$7)+(O342*10^O$7)+(P342*10^P$7)","v":770057940284},null,{"$f":"IF(Z340=12,TRUE,FALSE)","v":false},{"$f":"IF(Z340=11,TRUE,FALSE)","v":false},{"$f":"IF(Z340=10,TRUE,FALSE)","v":false},{"$f":"IF(Z340=9,TRUE,FALSE)","v":true},{"$f":"IF(Z340=8,TRUE,FALSE)","v":false},{"$f":"IF(Z340=7,TRUE,FALSE)","v":false},{"$f":"IF(Z340=6,TRUE,FALSE)","v":false},{"$f":"IF(Z340=5,TRUE,FALSE)","v":false},{"$f":"IF(Z340=4,TRUE,FALSE)","v":false},{"$f":"IF(Z340=3,TRUE,FALSE)","v":false},{"$f":"IF(Z340=2,TRUE,FALSE)","v":false},{"$f":"IF(Z340=1,TRUE,FALSE)","v":false},{"$f":"IF(AND(Q340=0,R341=FALSE),FALSE,TRUE)","v":true},{"$f":"IF(AND(R340=0,S341=FALSE),FALSE,TRUE)","v":true},{"$f":"IF(AND(S340=0,T341=FALSE),FALSE,TRUE)","v":false},{"$f":"IF(AND(T340=0,U341=FALSE),FALSE,TRUE)","v":false},{"$f":"IF(AND(U340=0,V341=FALSE),FALSE,TRUE)","v":false},{"$f":"IF(V340=0,FALSE,TRUE)","v":false},{"$f":"W340/(1000000/W342)","v":47}]
[null,{"$f":"convnumberletter(C342)","v":"quarante-sept"},{"$f":"W341","v":47},null,{"$f":"IF(AND(E$7-1<$Z340,E$7-1>=$AA340),0,E340)","v":7},7,0,0,5,7,9,4,{"$f":"IF(AND(M$7-1<$Z340,M$7-1>=$AA340),0,M340)","v":0},{"$f":"IF(AND(N$7-1<$Z340,N$7-1>=$AA340),0,N340)","v":2},{"$f":"IF(AND(O$7-1<$Z340,O$7-1>=$AA340),0,O340)","v":8},{"$f":"IF(AND(P$7-1<$Z340,P$7-1>=$AA340),0,P340)","v":4},{"$f":"IF(Q341=FALSE,\"\",Q340)","v":4},7,"","","","",{"$f":"SUM(Q343:V343)","v":100}]
[68,{"$f":"IF(C342>1,CONCATENATE(HLOOKUP(C343,$Q$7:$V$9,3,TRUE),\"s\"),HLOOKUP(C343,$Q$7:$V$9,3,TRUE))","v":"centièmes"},{"$f":"W342","v":100},null,null,null,null,null,null,null,null,null,null,null,null,null,{"$f":"IF(AND(R342=\"\",Q342<>\"\"),Q$7,0)","v":0},{"$f":"IF(AND(S342=\"\",R342<>\"\"),R$7,0)","v":100},{"$f":"IF(AND(T342=\"\",S342<>\"\"),S$7,0)","v":0},{"$f":"IF(AND(U342=\"\",T342<>\"\"),T$7,0)","v":0},{"$f":"IF(AND(V342=\"\",U342<>\"\"),U$7,0)","v":0},{"$f":"IF(AND(W343=\"\",V342<>\"\"),V$7,0)","v":0}]
[null,{"$f":"IF($C$8=\"virgule\",CONCATENATE(B341,\" virgule \",B342),CONCATENATE(B341,\"  et \",B342,\" \",B343))","v":"sept cent soixante-dix milliards cinquante-sept millions neuf cent quarante mille deux cent quatre-vingt-quatre virgule quarante-sept"}]
[null,null,null,null,{"$f":"IF(X345>100000000000,INT(RIGHT($X345,12)/100000000000),0)","v":7},{"$f":"IF(X345>10000000000,INT(RIGHT($X345,11)/10000000000),0)","v":6},{"$f":"IF(X345>1000000000,INT(RIGHT($X345,10)/1000000000),0)","v":2},{"$f":"IF(X345>100000000,INT(RIGHT($X345,9)/100000000),0)","v":1},{"$f":"IF(X345>10000000,INT(RIGHT($X345,8)/10000000),0)","v":8},{"$f":"IF(X345>1000000,INT(RIGHT($X345,7)/1000000),0)","v":6},{"$f":"IF(X345>100000,INT(RIGHT($X345,6)/100000),0)","v":0},{"$f":"IF(X345>10000,INT(RIGHT($X345,5)/10000),0)","v":7},{"$f":"IF(X345>1000,INT(RIGHT($X345,4)/1000),0)","v":6},{"$f":"IF(X345>100,INT(RIGHT($X345,3)/100),0)","v":9},{"$f":"IF(X345>10,INT(RIGHT($X345,2)/10),0)","v":7},{"$f":"INT(RIGHT($X345,1)/1)","v":8},{"$f":"INT(RIGHT($AC345,1))","v":1},{"$f":"INT(RIGHT($AC345,2)/10)","v":8},{"$f":"INT(RIGHT($AC345,3)/100)","v":0},{"$f":"INT(RIGHT($AC345,4)/1000)","v":0},{"$f":"INT(RIGHT($AC345,5)/10000)","v":0},{"$f":"INT(RIGHT($AC345,6)/100000)","v":0},{"$f":"((Q345*100000)+(R345*10000)+(S345*1000)+(T345*100)+(U345*10)+V345)","v":180000},{"$f":"C$3+INT(RAND()*(C$4-C$3+1))","v":762186076978},{"$f":"LEN(X345)","v":12},{"$f":"INT(RAND()*(Y345-C$5))+C$5","v":9},{"$f":"Z345-C$5","v":7},null,{"$f":"INT(RAND()*(POWER(10,$C$7))+1)","v":81},{"$f":"LEN(AC345)","v":2},{"$f":"INT(RAND()*(AD345-H$5))+H$5","v":0},{"$f":"AE345-H$5","v":0}]
[null,{"$f":"convnumberletter(C346)","v":"sept cent soixante milliards quatre-vingt-six millions soixante-seize mille neuf cent soixante-dix-huit"},{"$f":"(E347*10^E$7)+(F347*10^F$7)+(G347*10^G$7)+(H347*10^H$7)+(I347*10^I$7)+(J347*10^J$7)+(K347*10^K$7)+(L347*10^L$7)+(M347*10^M$7)+(N347*10^N$7)+(O347*10^O$7)+(P347*10^P$7)","v":760086076978},null,{"$f":"IF(Z345=12,TRUE,FALSE)","v":false},{"$f":"IF(Z345=11,TRUE,FALSE)","v":false},{"$f":"IF(Z345=10,TRUE,FALSE)","v":false},{"$f":"IF(Z345=9,TRUE,FALSE)","v":true},{"$f":"IF(Z345=8,TRUE,FALSE)","v":false},{"$f":"IF(Z345=7,TRUE,FALSE)","v":false},{"$f":"IF(Z345=6,TRUE,FALSE)","v":false},{"$f":"IF(Z345=5,TRUE,FALSE)","v":false},{"$f":"IF(Z345=4,TRUE,FALSE)","v":false},{"$f":"IF(Z345=3,TRUE,FALSE)","v":false},{"$f":"IF(Z345=2,TRUE,FALSE)","v":false},{"$f":"IF(Z345=1,TRUE,FALSE)","v":false},{"$f":"IF(AND(Q345=0,R346=FALSE),FALSE,TRUE)","v":true},{"$f":"IF(AND(R345=0,S346=FALSE),FALSE,TRUE)","v":true},{"$f":"IF(AND(S345=0,T346=FALSE),FALSE,TRUE)","v":false},{"$f":"IF(AND(T345=0,U346=FALSE),FALSE,TRUE)","v":false},{"$f":"IF(AND(U345=0,V346=FALSE),FALSE,TRUE)","v":false},{"$f":"IF(V345=0,FALSE,TRUE)","v":false},{"$f":"W345/(1000000/W347)","v":18}]
[null,{"$f":"convnumberletter(C347)","v":"dix-huit"},{"$f":"W346","v":18},null,{"$f":"IF(AND(E$7-1<$Z345,E$7-1>=$AA345),0,E345)","v":7},6,0,0,8,6,0,7,{"$f":"IF(AND(M$7-1<$Z345,M$7-1>=$AA345),0,M345)","v":6},{"$f":"IF(AND(N$7-1<$Z345,N$7-1>=$AA345),0,N345)","v":9},{"$f":"IF(AND(O$7-1<$Z345,O$7-1>=$AA345),0,O345)","v":7},{"$f":"IF(AND(P$7-1<$Z345,P$7-1>=$AA345),0,P345)","v":8},{"$f":"IF(Q346=FALSE,\"\",Q345)","v":1},8,"","","","",{"$f":"SUM(Q348:V348)","v":100}]
[69,{"$f":"IF(C347>1,CONCATENATE(HLOOKUP(C348,$Q$7:$V$9,3,TRUE),\"s\"),HLOOKUP(C348,$Q$7:$V$9,3,TRUE))","v":"centièmes"},{"$f":"W347","v":100},null,null,null,null,null,null,null,null,null,null,null,null,null,{"$f":"IF(AND(R347=\"\",Q347<>\"\"),Q$7,0)","v":0},{"$f":"IF(AND(S347=\"\",R347<>\"\"),R$7,0)","v":100},{"$f":"IF(AND(T347=\"\",S347<>\"\"),S$7,0)","v":0},{"$f":"IF(AND(U347=\"\",T347<>\"\"),T$7,0)","v":0},{"$f":"IF(AND(V347=\"\",U347<>\"\"),U$7,0)","v":0},{"$f":"IF(AND(W348=\"\",V347<>\"\"),V$7,0)","v":0}]
[null,{"$f":"IF($C$8=\"virgule\",CONCATENATE(B346,\" virgule \",B347),CONCATENATE(B346,\"  et \",B347,\" \",B348))","v":"sept cent soixante milliards quatre-vingt-six millions soixante-seize mille neuf cent soixante-dix-huit virgule dix-huit"}]
[null,null,null,null,{"$f":"IF(X350>100000000000,INT(RIGHT($X350,12)/100000000000),0)","v":0},{"$f":"IF(X350>10000000000,INT(RIGHT($X350,11)/10000000000),0)","v":6},{"$f":"IF(X350>1000000000,INT(RIGHT($X350,10)/1000000000),0)","v":7},{"$f":"IF(X350>100000000,INT(RIGHT($X350,9)/100000000),0)","v":7},{"$f":"IF(X350>10000000,INT(RIGHT($X350,8)/10000000),0)","v":3},{"$f":"IF(X350>1000000,INT(RIGHT($X350,7)/1000000),0)","v":4},{"$f":"IF(X350>100000,INT(RIGHT($X350,6)/100000),0)","v":9},{"$f":"IF(X350>10000,INT(RIGHT($X350,5)/10000),0)","v":9},{"$f":"IF(X350>1000,INT(RIGHT($X350,4)/1000),0)","v":2},{"$f":"IF(X350>100,INT(RIGHT($X350,3)/100),0)","v":1},{"$f":"IF(X350>10,INT(RIGHT($X350,2)/10),0)","v":9},{"$f":"INT(RIGHT($X350,1)/1)","v":3},{"$f":"INT(RIGHT($AC350,1))","v":1},{"$f":"INT(RIGHT($AC350,2)/10)","v":5},{"$f":"INT(RIGHT($AC350,3)/100)","v":0},{"$f":"INT(RIGHT($AC350,4)/1000)","v":0},{"$f":"INT(RIGHT($AC350,5)/10000)","v":0},{"$f":"INT(RIGHT($AC350,6)/100000)","v":0},{"$f":"((Q350*100000)+(R350*10000)+(S350*1000)+(T350*100)+(U350*10)+V350)","v":150000},{"$f":"C$3+INT(RAND()*(C$4-C$3+1))","v":67734992193},{"$f":"LEN(X350)","v":11},{"$f":"INT(RAND()*(Y350-C$5))+C$5","v":6},{"$f":"Z350-C$5","v":4},null,{"$f":"INT(RAND()*(POWER(10,$C$7))+1)","v":51},{"$f":"LEN(AC350)","v":2},{"$f":"INT(RAND()*(AD350-H$5))+H$5","v":0},{"$f":"AE350-H$5","v":0}]
[null,{"$f":"convnumberletter(C351)","v":"soixante-sept milliards sept cent trente millions quatre-vingt-douze mille cent quatre-vingt-treize"},{"$f":"(E352*10^E$7)+(F352*10^F$7)+(G352*10^G$7)+(H352*10^H$7)+(I352*10^I$7)+(J352*10^J$7)+(K352*10^K$7)+(L352*10^L$7)+(M352*10^M$7)+(N352*10^N$7)+(O352*10^O$7)+(P352*10^P$7)","v":67730092193},null,{"$f":"IF(Z350=12,TRUE,FALSE)","v":false},{"$f":"IF(Z350=11,TRUE,FALSE)","v":false},{"$f":"IF(Z350=10,TRUE,FALSE)","v":false},{"$f":"IF(Z350=9,TRUE,FALSE)","v":false},{"$f":"IF(Z350=8,TRUE,FALSE)","v":false},{"$f":"IF(Z350=7,TRUE,FALSE)","v":false},{"$f":"IF(Z350=6,TRUE,FALSE)","v":true},{"$f":"IF(Z350=5,TRUE,FALSE)","v":false},{"$f":"IF(Z350=4,TRUE,FALSE)","v":false},{"$f":"IF(Z350=3,TRUE,FALSE)","v":false},{"$f":"IF(Z350=2,TRUE,FALSE)","v":false},{"$f":"IF(Z350=1,TRUE,FALSE)","v":false},{"$f":"IF(AND(Q350=0,R351=FALSE),FALSE,TRUE)","v":true},{"$f":"IF(AND(R350=0,S351=FALSE),FALSE,TRUE)","v":true},{"$f":"IF(AND(S350=0,T351=FALSE),FALSE,TRUE)","v":false},{"$f":"IF(AND(T350=0,U351=FALSE),FALSE,TRUE)","v":false},{"$f":"IF(AND(U350=0,V351=FALSE),FALSE,TRUE)","v":false},{"$f":"IF(V350=0,FALSE,TRUE)","v":false},{"$f":"W350/(1000000/W352)","v":15}]
[null,{"$f":"convnumberletter(C352)","v":"quinze"},{"$f":"W351","v":15},null,{"$f":"IF(AND(E$7-1<$Z350,E$7-1>=$AA350),0,E350)","v":0},6,7,7,3,0,0,9,{"$f":"IF(AND(M$7-1<$Z350,M$7-1>=$AA350),0,M350)","v":2},{"$f":"IF(AND(N$7-1<$Z350,N$7-1>=$AA350),0,N350)","v":1},{"$f":"IF(AND(O$7-1<$Z350,O$7-1>=$AA350),0,O350)","v":9},{"$f":"IF(AND(P$7-1<$Z350,P$7-1>=$AA350),0,P350)","v":3},{"$f":"IF(Q351=FALSE,\"\",Q350)","v":1},5,"","","","",{"$f":"SUM(Q353:V353)","v":100}]
[70,{"$f":"IF(C352>1,CONCATENATE(HLOOKUP(C353,$Q$7:$V$9,3,TRUE),\"s\"),HLOOKUP(C353,$Q$7:$V$9,3,TRUE))","v":"centièmes"},{"$f":"W352","v":100},null,null,null,null,null,null,null,null,null,null,null,null,null,{"$f":"IF(AND(R352=\"\",Q352<>\"\"),Q$7,0)","v":0},{"$f":"IF(AND(S352=\"\",R352<>\"\"),R$7,0)","v":100},{"$f":"IF(AND(T352=\"\",S352<>\"\"),S$7,0)","v":0},{"$f":"IF(AND(U352=\"\",T352<>\"\"),T$7,0)","v":0},{"$f":"IF(AND(V352=\"\",U352<>\"\"),U$7,0)","v":0},{"$f":"IF(AND(W353=\"\",V352<>\"\"),V$7,0)","v":0}]
[null,{"$f":"IF($C$8=\"virgule\",CONCATENATE(B351,\" virgule \",B352),CONCATENATE(B351,\"  et \",B352,\" \",B353))","v":"soixante-sept milliards sept cent trente millions quatre-vingt-douze mille cent quatre-vingt-treize virgule quinze"}]
[null,null,null,null,{"$f":"IF(X355>100000000000,INT(RIGHT($X355,12)/100000000000),0)","v":4},{"$f":"IF(X355>10000000000,INT(RIGHT($X355,11)/10000000000),0)","v":7},{"$f":"IF(X355>1000000000,INT(RIGHT($X355,10)/1000000000),0)","v":2},{"$f":"IF(X355>100000000,INT(RIGHT($X355,9)/100000000),0)","v":8},{"$f":"IF(X355>10000000,INT(RIGHT($X355,8)/10000000),0)","v":6},{"$f":"IF(X355>1000000,INT(RIGHT($X355,7)/1000000),0)","v":9},{"$f":"IF(X355>100000,INT(RIGHT($X355,6)/100000),0)","v":9},{"$f":"IF(X355>10000,INT(RIGHT($X355,5)/10000),0)","v":1},{"$f":"IF(X355>1000,INT(RIGHT($X355,4)/1000),0)","v":4},{"$f":"IF(X355>100,INT(RIGHT($X355,3)/100),0)","v":0},{"$f":"IF(X355>10,INT(RIGHT($X355,2)/10),0)","v":0},{"$f":"INT(RIGHT($X355,1)/1)","v":5},{"$f":"INT(RIGHT($AC355,1))","v":4},{"$f":"INT(RIGHT($AC355,2)/10)","v":6},{"$f":"INT(RIGHT($AC355,3)/100)","v":0},{"$f":"INT(RIGHT($AC355,4)/1000)","v":0},{"$f":"INT(RIGHT($AC355,5)/10000)","v":0},{"$f":"INT(RIGHT($AC355,6)/100000)","v":0},{"$f":"((Q355*100000)+(R355*10000)+(S355*1000)+(T355*100)+(U355*10)+V355)","v":460000},{"$f":"C$3+INT(RAND()*(C$4-C$3+1))","v":472869914005},{"$f":"LEN(X355)","v":12},{"$f":"INT(RAND()*(Y355-C$5))+C$5","v":5},{"$f":"Z355-C$5","v":3},null,{"$f":"INT(RAND()*(POWER(10,$C$7))+1)","v":64},{"$f":"LEN(AC355)","v":2},{"$f":"INT(RAND()*(AD355-H$5))+H$5","v":1},{"$f":"AE355-H$5","v":1}]
[null,{"$f":"convnumberletter(C356)","v":"quatre cent soixante-douze milliards huit cent soixante-neuf millions quatre mille cinq"},{"$f":"(E357*10^E$7)+(F357*10^F$7)+(G357*10^G$7)+(H357*10^H$7)+(I357*10^I$7)+(J357*10^J$7)+(K357*10^K$7)+(L357*10^L$7)+(M357*10^M$7)+(N357*10^N$7)+(O357*10^O$7)+(P357*10^P$7)","v":472869004005},null,{"$f":"IF(Z355=12,TRUE,FALSE)","v":false},{"$f":"IF(Z355=11,TRUE,FALSE)","v":false},{"$f":"IF(Z355=10,TRUE,FALSE)","v":false},{"$f":"IF(Z355=9,TRUE,FALSE)","v":false},{"$f":"IF(Z355=8,TRUE,FALSE)","v":false},{"$f":"IF(Z355=7,TRUE,FALSE)","v":false},{"$f":"IF(Z355=6,TRUE,FALSE)","v":false},{"$f":"IF(Z355=5,TRUE,FALSE)","v":true},{"$f":"IF(Z355=4,TRUE,FALSE)","v":false},{"$f":"IF(Z355=3,TRUE,FALSE)","v":false},{"$f":"IF(Z355=2,TRUE,FALSE)","v":false},{"$f":"IF(Z355=1,TRUE,FALSE)","v":false},{"$f":"IF(AND(Q355=0,R356=FALSE),FALSE,TRUE)","v":true},{"$f":"IF(AND(R355=0,S356=FALSE),FALSE,TRUE)","v":true},{"$f":"IF(AND(S355=0,T356=FALSE),FALSE,TRUE)","v":false},{"$f":"IF(AND(T355=0,U356=FALSE),FALSE,TRUE)","v":false},{"$f":"IF(AND(U355=0,V356=FALSE),FALSE,TRUE)","v":false},{"$f":"IF(V355=0,FALSE,TRUE)","v":false},{"$f":"W355/(1000000/W357)","v":46}]
[null,{"$f":"convnumberletter(C357)","v":"quarante-six"},{"$f":"W356","v":46},null,{"$f":"IF(AND(E$7-1<$Z355,E$7-1>=$AA355),0,E355)","v":4},7,2,8,6,9,0,0,{"$f":"IF(AND(M$7-1<$Z355,M$7-1>=$AA355),0,M355)","v":4},{"$f":"IF(AND(N$7-1<$Z355,N$7-1>=$AA355),0,N355)","v":0},{"$f":"IF(AND(O$7-1<$Z355,O$7-1>=$AA355),0,O355)","v":0},{"$f":"IF(AND(P$7-1<$Z355,P$7-1>=$AA355),0,P355)","v":5},{"$f":"IF(Q356=FALSE,\"\",Q355)","v":4},6,"","","","",{"$f":"SUM(Q358:V358)","v":100}]
[71,{"$f":"IF(C357>1,CONCATENATE(HLOOKUP(C358,$Q$7:$V$9,3,TRUE),\"s\"),HLOOKUP(C358,$Q$7:$V$9,3,TRUE))","v":"centièmes"},{"$f":"W357","v":100},null,null,null,null,null,null,null,null,null,null,null,null,null,{"$f":"IF(AND(R357=\"\",Q357<>\"\"),Q$7,0)","v":0},{"$f":"IF(AND(S357=\"\",R357<>\"\"),R$7,0)","v":100},{"$f":"IF(AND(T357=\"\",S357<>\"\"),S$7,0)","v":0},{"$f":"IF(AND(U357=\"\",T357<>\"\"),T$7,0)","v":0},{"$f":"IF(AND(V357=\"\",U357<>\"\"),U$7,0)","v":0},{"$f":"IF(AND(W358=\"\",V357<>\"\"),V$7,0)","v":0}]
[null,{"$f":"IF($C$8=\"virgule\",CONCATENATE(B356,\" virgule \",B357),CONCATENATE(B356,\"  et \",B357,\" \",B358))","v":"quatre cent soixante-douze milliards huit cent soixante-neuf millions quatre mille cinq virgule quarante-six"}]
[72,null,null,null,{"$f":"IF(X360>100000000000,INT(RIGHT($X360,12)/100000000000),0)","v":6},{"$f":"IF(X360>10000000000,INT(RIGHT($X360,11)/10000000000),0)","v":1},{"$f":"IF(X360>1000000000,INT(RIGHT($X360,10)/1000000000),0)","v":5},{"$f":"IF(X360>100000000,INT(RIGHT($X360,9)/100000000),0)","v":3},{"$f":"IF(X360>10000000,INT(RIGHT($X360,8)/10000000),0)","v":4},{"$f":"IF(X360>1000000,INT(RIGHT($X360,7)/1000000),0)","v":1},{"$f":"IF(X360>100000,INT(RIGHT($X360,6)/100000),0)","v":9},{"$f":"IF(X360>10000,INT(RIGHT($X360,5)/10000),0)","v":9},{"$f":"IF(X360>1000,INT(RIGHT($X360,4)/1000),0)","v":8},{"$f":"IF(X360>100,INT(RIGHT($X360,3)/100),0)","v":3},{"$f":"IF(X360>10,INT(RIGHT($X360,2)/10),0)","v":6},{"$f":"INT(RIGHT($X360,1)/1)","v":3},{"$f":"INT(RIGHT($AC360,1))","v":1},{"$f":"INT(RIGHT($AC360,2)/10)","v":4},{"$f":"INT(RIGHT($AC360,3)/100)","v":0},{"$f":"INT(RIGHT($AC360,4)/1000)","v":0},{"$f":"INT(RIGHT($AC360,5)/10000)","v":0},{"$f":"INT(RIGHT($AC360,6)/100000)","v":0},{"$f":"((Q360*100000)+(R360*10000)+(S360*1000)+(T360*100)+(U360*10)+V360)","v":140000},{"$f":"C$3+INT(RAND()*(C$4-C$3+1))","v":615341998363},{"$f":"LEN(X360)","v":12},{"$f":"INT(RAND()*(Y360-C$5))+C$5","v":5},{"$f":"Z360-C$5","v":3},null,{"$f":"INT(RAND()*(POWER(10,$C$7))+1)","v":41},{"$f":"LEN(AC360)","v":2},{"$f":"INT(RAND()*(AD360-H$5))+H$5","v":0},{"$f":"AE360-H$5","v":0}]
[null,{"$f":"convnumberletter(C361)","v":"six cent quinze milliards trois cent quarante et un millions huit mille trois cent soixante-trois"},{"$f":"(E362*10^E$7)+(F362*10^F$7)+(G362*10^G$7)+(H362*10^H$7)+(I362*10^I$7)+(J362*10^J$7)+(K362*10^K$7)+(L362*10^L$7)+(M362*10^M$7)+(N362*10^N$7)+(O362*10^O$7)+(P362*10^P$7)","v":615341008363},null,{"$f":"IF(Z360=12,TRUE,FALSE)","v":false},{"$f":"IF(Z360=11,TRUE,FALSE)","v":false},{"$f":"IF(Z360=10,TRUE,FALSE)","v":false},{"$f":"IF(Z360=9,TRUE,FALSE)","v":false},{"$f":"IF(Z360=8,TRUE,FALSE)","v":false},{"$f":"IF(Z360=7,TRUE,FALSE)","v":false},{"$f":"IF(Z360=6,TRUE,FALSE)","v":false},{"$f":"IF(Z360=5,TRUE,FALSE)","v":true},{"$f":"IF(Z360=4,TRUE,FALSE)","v":false},{"$f":"IF(Z360=3,TRUE,FALSE)","v":false},{"$f":"IF(Z360=2,TRUE,FALSE)","v":false},{"$f":"IF(Z360=1,TRUE,FALSE)","v":false},{"$f":"IF(AND(Q360=0,R361=FALSE),FALSE,TRUE)","v":true},{"$f":"IF(AND(R360=0,S361=FALSE),FALSE,TRUE)","v":true},{"$f":"IF(AND(S360=0,T361=FALSE),FALSE,TRUE)","v":false},{"$f":"IF(AND(T360=0,U361=FALSE),FALSE,TRUE)","v":false},{"$f":"IF(AND(U360=0,V361=FALSE),FALSE,TRUE)","v":false},{"$f":"IF(V360=0,FALSE,TRUE)","v":false},{"$f":"W360/(1000000/W362)","v":14}]
[null,{"$f":"convnumberletter(C362)","v":"quatorze"},{"$f":"W361","v":14},null,{"$f":"IF(AND(E$7-1<$Z360,E$7-1>=$AA360),0,E360)","v":6},1,5,3,4,1,0,0,{"$f":"IF(AND(M$7-1<$Z360,M$7-1>=$AA360),0,M360)","v":8},{"$f":"IF(AND(N$7-1<$Z360,N$7-1>=$AA360),0,N360)","v":3},{"$f":"IF(AND(O$7-1<$Z360,O$7-1>=$AA360),0,O360)","v":6},{"$f":"IF(AND(P$7-1<$Z360,P$7-1>=$AA360),0,P360)","v":3},{"$f":"IF(Q361=FALSE,\"\",Q360)","v":1},4,"","","","",{"$f":"SUM(Q363:V363)","v":100}]
[null,{"$f":"IF(C362>1,CONCATENATE(HLOOKUP(C363,$Q$7:$V$9,3,TRUE),\"s\"),HLOOKUP(C363,$Q$7:$V$9,3,TRUE))","v":"centièmes"},{"$f":"W362","v":100},null,null,null,null,null,null,null,null,null,null,null,null,null,{"$f":"IF(AND(R362=\"\",Q362<>\"\"),Q$7,0)","v":0},{"$f":"IF(AND(S362=\"\",R362<>\"\"),R$7,0)","v":100},{"$f":"IF(AND(T362=\"\",S362<>\"\"),S$7,0)","v":0},{"$f":"IF(AND(U362=\"\",T362<>\"\"),T$7,0)","v":0},{"$f":"IF(AND(V362=\"\",U362<>\"\"),U$7,0)","v":0},{"$f":"IF(AND(W363=\"\",V362<>\"\"),V$7,0)","v":0}]
[null,{"$f":"IF($C$8=\"virgule\",CONCATENATE(B361,\" virgule \",B362),CONCATENATE(B361,\"  et \",B362,\" \",B363))","v":"six cent quinze milliards trois cent quarante et un millions huit mille trois cent soixante-trois virgule quatorze"}]
[73,null,null,null,{"$f":"IF(X365>100000000000,INT(RIGHT($X365,12)/100000000000),0)","v":5},{"$f":"IF(X365>10000000000,INT(RIGHT($X365,11)/10000000000),0)","v":5},{"$f":"IF(X365>1000000000,INT(RIGHT($X365,10)/1000000000),0)","v":1},{"$f":"IF(X365>100000000,INT(RIGHT($X365,9)/100000000),0)","v":3},{"$f":"IF(X365>10000000,INT(RIGHT($X365,8)/10000000),0)","v":0},{"$f":"IF(X365>1000000,INT(RIGHT($X365,7)/1000000),0)","v":8},{"$f":"IF(X365>100000,INT(RIGHT($X365,6)/100000),0)","v":1},{"$f":"IF(X365>10000,INT(RIGHT($X365,5)/10000),0)","v":7},{"$f":"IF(X365>1000,INT(RIGHT($X365,4)/1000),0)","v":1},{"$f":"IF(X365>100,INT(RIGHT($X365,3)/100),0)","v":8},{"$f":"IF(X365>10,INT(RIGHT($X365,2)/10),0)","v":8},{"$f":"INT(RIGHT($X365,1)/1)","v":8},{"$f":"INT(RIGHT($AC365,1))","v":2},{"$f":"INT(RIGHT($AC365,2)/10)","v":2},{"$f":"INT(RIGHT($AC365,3)/100)","v":0},{"$f":"INT(RIGHT($AC365,4)/1000)","v":0},{"$f":"INT(RIGHT($AC365,5)/10000)","v":0},{"$f":"INT(RIGHT($AC365,6)/100000)","v":0},{"$f":"((Q365*100000)+(R365*10000)+(S365*1000)+(T365*100)+(U365*10)+V365)","v":220000},{"$f":"C$3+INT(RAND()*(C$4-C$3+1))","v":551308171888},{"$f":"LEN(X365)","v":12},{"$f":"INT(RAND()*(Y365-C$5))+C$5","v":8},{"$f":"Z365-C$5","v":6},null,{"$f":"INT(RAND()*(POWER(10,$C$7))+1)","v":22},{"$f":"LEN(AC365)","v":2},{"$f":"INT(RAND()*(AD365-H$5))+H$5","v":1},{"$f":"AE365-H$5","v":1}]
[null,{"$f":"convnumberletter(C366)","v":"cinq cent cinquante et un milliards huit millions cent soixante et onze mille huit cent quatre-vingt-huit"},{"$f":"(E367*10^E$7)+(F367*10^F$7)+(G367*10^G$7)+(H367*10^H$7)+(I367*10^I$7)+(J367*10^J$7)+(K367*10^K$7)+(L367*10^L$7)+(M367*10^M$7)+(N367*10^N$7)+(O367*10^O$7)+(P367*10^P$7)","v":551008171888},null,{"$f":"IF(Z365=12,TRUE,FALSE)","v":false},{"$f":"IF(Z365=11,TRUE,FALSE)","v":false},{"$f":"IF(Z365=10,TRUE,FALSE)","v":false},{"$f":"IF(Z365=9,TRUE,FALSE)","v":false},{"$f":"IF(Z365=8,TRUE,FALSE)","v":true},{"$f":"IF(Z365=7,TRUE,FALSE)","v":false},{"$f":"IF(Z365=6,TRUE,FALSE)","v":false},{"$f":"IF(Z365=5,TRUE,FALSE)","v":false},{"$f":"IF(Z365=4,TRUE,FALSE)","v":false},{"$f":"IF(Z365=3,TRUE,FALSE)","v":false},{"$f":"IF(Z365=2,TRUE,FALSE)","v":false},{"$f":"IF(Z365=1,TRUE,FALSE)","v":false},{"$f":"IF(AND(Q365=0,R366=FALSE),FALSE,TRUE)","v":true},{"$f":"IF(AND(R365=0,S366=FALSE),FALSE,TRUE)","v":true},{"$f":"IF(AND(S365=0,T366=FALSE),FALSE,TRUE)","v":false},{"$f":"IF(AND(T365=0,U366=FALSE),FALSE,TRUE)","v":false},{"$f":"IF(AND(U365=0,V366=FALSE),FALSE,TRUE)","v":false},{"$f":"IF(V365=0,FALSE,TRUE)","v":false},{"$f":"W365/(1000000/W367)","v":22}]
[null,{"$f":"convnumberletter(C367)","v":"vingt-deux"},{"$f":"W366","v":22},null,{"$f":"IF(AND(E$7-1<$Z365,E$7-1>=$AA365),0,E365)","v":5},5,1,0,0,8,1,7,{"$f":"IF(AND(M$7-1<$Z365,M$7-1>=$AA365),0,M365)","v":1},{"$f":"IF(AND(N$7-1<$Z365,N$7-1>=$AA365),0,N365)","v":8},{"$f":"IF(AND(O$7-1<$Z365,O$7-1>=$AA365),0,O365)","v":8},{"$f":"IF(AND(P$7-1<$Z365,P$7-1>=$AA365),0,P365)","v":8},{"$f":"IF(Q366=FALSE,\"\",Q365)","v":2},2,"","","","",{"$f":"SUM(Q368:V368)","v":100}]
[null,{"$f":"IF(C367>1,CONCATENATE(HLOOKUP(C368,$Q$7:$V$9,3,TRUE),\"s\"),HLOOKUP(C368,$Q$7:$V$9,3,TRUE))","v":"centièmes"},{"$f":"W367","v":100},null,null,null,null,null,null,null,null,null,null,null,null,null,{"$f":"IF(AND(R367=\"\",Q367<>\"\"),Q$7,0)","v":0},{"$f":"IF(AND(S367=\"\",R367<>\"\"),R$7,0)","v":100},{"$f":"IF(AND(T367=\"\",S367<>\"\"),S$7,0)","v":0},{"$f":"IF(AND(U367=\"\",T367<>\"\"),T$7,0)","v":0},{"$f":"IF(AND(V367=\"\",U367<>\"\"),U$7,0)","v":0},{"$f":"IF(AND(W368=\"\",V367<>\"\"),V$7,0)","v":0}]
[null,{"$f":"IF($C$8=\"virgule\",CONCATENATE(B366,\" virgule \",B367),CONCATENATE(B366,\"  et \",B367,\" \",B368))","v":"cinq cent cinquante et un milliards huit millions cent soixante et onze mille huit cent quatre-vingt-huit virgule vingt-deux"}]
[74,null,null,null,{"$f":"IF(X370>100000000000,INT(RIGHT($X370,12)/100000000000),0)","v":5},{"$f":"IF(X370>10000000000,INT(RIGHT($X370,11)/10000000000),0)","v":1},{"$f":"IF(X370>1000000000,INT(RIGHT($X370,10)/1000000000),0)","v":0},{"$f":"IF(X370>100000000,INT(RIGHT($X370,9)/100000000),0)","v":4},{"$f":"IF(X370>10000000,INT(RIGHT($X370,8)/10000000),0)","v":4},{"$f":"IF(X370>1000000,INT(RIGHT($X370,7)/1000000),0)","v":8},{"$f":"IF(X370>100000,INT(RIGHT($X370,6)/100000),0)","v":0},{"$f":"IF(X370>10000,INT(RIGHT($X370,5)/10000),0)","v":1},{"$f":"IF(X370>1000,INT(RIGHT($X370,4)/1000),0)","v":4},{"$f":"IF(X370>100,INT(RIGHT($X370,3)/100),0)","v":6},{"$f":"IF(X370>10,INT(RIGHT($X370,2)/10),0)","v":9},{"$f":"INT(RIGHT($X370,1)/1)","v":2},{"$f":"INT(RIGHT($AC370,1))","v":6},{"$f":"INT(RIGHT($AC370,2)/10)","v":6},{"$f":"INT(RIGHT($AC370,3)/100)","v":0},{"$f":"INT(RIGHT($AC370,4)/1000)","v":0},{"$f":"INT(RIGHT($AC370,5)/10000)","v":0},{"$f":"INT(RIGHT($AC370,6)/100000)","v":0},{"$f":"((Q370*100000)+(R370*10000)+(S370*1000)+(T370*100)+(U370*10)+V370)","v":660000},{"$f":"C$3+INT(RAND()*(C$4-C$3+1))","v":510448014692},{"$f":"LEN(X370)","v":12},{"$f":"INT(RAND()*(Y370-C$5))+C$5","v":3},{"$f":"Z370-C$5","v":1},null,{"$f":"INT(RAND()*(POWER(10,$C$7))+1)","v":66},{"$f":"LEN(AC370)","v":2},{"$f":"INT(RAND()*(AD370-H$5))+H$5","v":1},{"$f":"AE370-H$5","v":1}]
[null,{"$f":"convnumberletter(C371)","v":"cinq cent dix milliards quatre cent quarante-huit millions dix mille quatre-vingt-douze"},{"$f":"(E372*10^E$7)+(F372*10^F$7)+(G372*10^G$7)+(H372*10^H$7)+(I372*10^I$7)+(J372*10^J$7)+(K372*10^K$7)+(L372*10^L$7)+(M372*10^M$7)+(N372*10^N$7)+(O372*10^O$7)+(P372*10^P$7)","v":510448010092},null,{"$f":"IF(Z370=12,TRUE,FALSE)","v":false},{"$f":"IF(Z370=11,TRUE,FALSE)","v":false},{"$f":"IF(Z370=10,TRUE,FALSE)","v":false},{"$f":"IF(Z370=9,TRUE,FALSE)","v":false},{"$f":"IF(Z370=8,TRUE,FALSE)","v":false},{"$f":"IF(Z370=7,TRUE,FALSE)","v":false},{"$f":"IF(Z370=6,TRUE,FALSE)","v":false},{"$f":"IF(Z370=5,TRUE,FALSE)","v":false},{"$f":"IF(Z370=4,TRUE,FALSE)","v":false},{"$f":"IF(Z370=3,TRUE,FALSE)","v":true},{"$f":"IF(Z370=2,TRUE,FALSE)","v":false},{"$f":"IF(Z370=1,TRUE,FALSE)","v":false},{"$f":"IF(AND(Q370=0,R371=FALSE),FALSE,TRUE)","v":true},{"$f":"IF(AND(R370=0,S371=FALSE),FALSE,TRUE)","v":true},{"$f":"IF(AND(S370=0,T371=FALSE),FALSE,TRUE)","v":false},{"$f":"IF(AND(T370=0,U371=FALSE),FALSE,TRUE)","v":false},{"$f":"IF(AND(U370=0,V371=FALSE),FALSE,TRUE)","v":false},{"$f":"IF(V370=0,FALSE,TRUE)","v":false},{"$f":"W370/(1000000/W372)","v":66}]
[null,{"$f":"convnumberletter(C372)","v":"soixante-six"},{"$f":"W371","v":66},null,{"$f":"IF(AND(E$7-1<$Z370,E$7-1>=$AA370),0,E370)","v":5},1,0,4,4,8,0,1,{"$f":"IF(AND(M$7-1<$Z370,M$7-1>=$AA370),0,M370)","v":0},{"$f":"IF(AND(N$7-1<$Z370,N$7-1>=$AA370),0,N370)","v":0},{"$f":"IF(AND(O$7-1<$Z370,O$7-1>=$AA370),0,O370)","v":9},{"$f":"IF(AND(P$7-1<$Z370,P$7-1>=$AA370),0,P370)","v":2},{"$f":"IF(Q371=FALSE,\"\",Q370)","v":6},6,"","","","",{"$f":"SUM(Q373:V373)","v":100}]
[null,{"$f":"IF(C372>1,CONCATENATE(HLOOKUP(C373,$Q$7:$V$9,3,TRUE),\"s\"),HLOOKUP(C373,$Q$7:$V$9,3,TRUE))","v":"centièmes"},{"$f":"W372","v":100},null,null,null,null,null,null,null,null,null,null,null,null,null,{"$f":"IF(AND(R372=\"\",Q372<>\"\"),Q$7,0)","v":0},{"$f":"IF(AND(S372=\"\",R372<>\"\"),R$7,0)","v":100},{"$f":"IF(AND(T372=\"\",S372<>\"\"),S$7,0)","v":0},{"$f":"IF(AND(U372=\"\",T372<>\"\"),T$7,0)","v":0},{"$f":"IF(AND(V372=\"\",U372<>\"\"),U$7,0)","v":0},{"$f":"IF(AND(W373=\"\",V372<>\"\"),V$7,0)","v":0}]
[null,{"$f":"IF($C$8=\"virgule\",CONCATENATE(B371,\" virgule \",B372),CONCATENATE(B371,\"  et \",B372,\" \",B373))","v":"cinq cent dix milliards quatre cent quarante-huit millions dix mille quatre-vingt-douze virgule soixante-six"}]
[75,null,null,null,{"$f":"IF(X375>100000000000,INT(RIGHT($X375,12)/100000000000),0)","v":5},{"$f":"IF(X375>10000000000,INT(RIGHT($X375,11)/10000000000),0)","v":3},{"$f":"IF(X375>1000000000,INT(RIGHT($X375,10)/1000000000),0)","v":0},{"$f":"IF(X375>100000000,INT(RIGHT($X375,9)/100000000),0)","v":7},{"$f":"IF(X375>10000000,INT(RIGHT($X375,8)/10000000),0)","v":8},{"$f":"IF(X375>1000000,INT(RIGHT($X375,7)/1000000),0)","v":1},{"$f":"IF(X375>100000,INT(RIGHT($X375,6)/100000),0)","v":5},{"$f":"IF(X375>10000,INT(RIGHT($X375,5)/10000),0)","v":3},{"$f":"IF(X375>1000,INT(RIGHT($X375,4)/1000),0)","v":7},{"$f":"IF(X375>100,INT(RIGHT($X375,3)/100),0)","v":0},{"$f":"IF(X375>10,INT(RIGHT($X375,2)/10),0)","v":7},{"$f":"INT(RIGHT($X375,1)/1)","v":6},{"$f":"INT(RIGHT($AC375,1))","v":9},{"$f":"INT(RIGHT($AC375,2)/10)","v":7},{"$f":"INT(RIGHT($AC375,3)/100)","v":0},{"$f":"INT(RIGHT($AC375,4)/1000)","v":0},{"$f":"INT(RIGHT($AC375,5)/10000)","v":0},{"$f":"INT(RIGHT($AC375,6)/100000)","v":0},{"$f":"((Q375*100000)+(R375*10000)+(S375*1000)+(T375*100)+(U375*10)+V375)","v":970000},{"$f":"C$3+INT(RAND()*(C$4-C$3+1))","v":530781537076},{"$f":"LEN(X375)","v":12},{"$f":"INT(RAND()*(Y375-C$5))+C$5","v":5},{"$f":"Z375-C$5","v":3},null,{"$f":"INT(RAND()*(POWER(10,$C$7))+1)","v":79},{"$f":"LEN(AC375)","v":2},{"$f":"INT(RAND()*(AD375-H$5))+H$5","v":1},{"$f":"AE375-H$5","v":1}]
[null,{"$f":"convnumberletter(C376)","v":"cinq cent trente milliards sept cent quatre-vingt-un millions sept mille soixante-seize"},{"$f":"(E377*10^E$7)+(F377*10^F$7)+(G377*10^G$7)+(H377*10^H$7)+(I377*10^I$7)+(J377*10^J$7)+(K377*10^K$7)+(L377*10^L$7)+(M377*10^M$7)+(N377*10^N$7)+(O377*10^O$7)+(P377*10^P$7)","v":530781007076},null,{"$f":"IF(Z375=12,TRUE,FALSE)","v":false},{"$f":"IF(Z375=11,TRUE,FALSE)","v":false},{"$f":"IF(Z375=10,TRUE,FALSE)","v":false},{"$f":"IF(Z375=9,TRUE,FALSE)","v":false},{"$f":"IF(Z375=8,TRUE,FALSE)","v":false},{"$f":"IF(Z375=7,TRUE,FALSE)","v":false},{"$f":"IF(Z375=6,TRUE,FALSE)","v":false},{"$f":"IF(Z375=5,TRUE,FALSE)","v":true},{"$f":"IF(Z375=4,TRUE,FALSE)","v":false},{"$f":"IF(Z375=3,TRUE,FALSE)","v":false},{"$f":"IF(Z375=2,TRUE,FALSE)","v":false},{"$f":"IF(Z375=1,TRUE,FALSE)","v":false},{"$f":"IF(AND(Q375=0,R376=FALSE),FALSE,TRUE)","v":true},{"$f":"IF(AND(R375=0,S376=FALSE),FALSE,TRUE)","v":true},{"$f":"IF(AND(S375=0,T376=FALSE),FALSE,TRUE)","v":false},{"$f":"IF(AND(T375=0,U376=FALSE),FALSE,TRUE)","v":false},{"$f":"IF(AND(U375=0,V376=FALSE),FALSE,TRUE)","v":false},{"$f":"IF(V375=0,FALSE,TRUE)","v":false},{"$f":"W375/(1000000/W377)","v":97}]
[null,{"$f":"convnumberletter(C377)","v":"quatre-vingt-dix-sept"},{"$f":"W376","v":97},null,{"$f":"IF(AND(E$7-1<$Z375,E$7-1>=$AA375),0,E375)","v":5},3,0,7,8,1,0,0,{"$f":"IF(AND(M$7-1<$Z375,M$7-1>=$AA375),0,M375)","v":7},{"$f":"IF(AND(N$7-1<$Z375,N$7-1>=$AA375),0,N375)","v":0},{"$f":"IF(AND(O$7-1<$Z375,O$7-1>=$AA375),0,O375)","v":7},{"$f":"IF(AND(P$7-1<$Z375,P$7-1>=$AA375),0,P375)","v":6},{"$f":"IF(Q376=FALSE,\"\",Q375)","v":9},7,"","","","",{"$f":"SUM(Q378:V378)","v":100}]
[null,{"$f":"IF(C377>1,CONCATENATE(HLOOKUP(C378,$Q$7:$V$9,3,TRUE),\"s\"),HLOOKUP(C378,$Q$7:$V$9,3,TRUE))","v":"centièmes"},{"$f":"W377","v":100},null,null,null,null,null,null,null,null,null,null,null,null,null,{"$f":"IF(AND(R377=\"\",Q377<>\"\"),Q$7,0)","v":0},{"$f":"IF(AND(S377=\"\",R377<>\"\"),R$7,0)","v":100},{"$f":"IF(AND(T377=\"\",S377<>\"\"),S$7,0)","v":0},{"$f":"IF(AND(U377=\"\",T377<>\"\"),T$7,0)","v":0},{"$f":"IF(AND(V377=\"\",U377<>\"\"),U$7,0)","v":0},{"$f":"IF(AND(W378=\"\",V377<>\"\"),V$7,0)","v":0}]
[null,{"$f":"IF($C$8=\"virgule\",CONCATENATE(B376,\" virgule \",B377),CONCATENATE(B376,\"  et \",B377,\" \",B378))","v":"cinq cent trente milliards sept cent quatre-vingt-un millions sept mille soixante-seize virgule quatre-vingt-dix-sept"}]
[76,null,null,null,{"$f":"IF(X380>100000000000,INT(RIGHT($X380,12)/100000000000),0)","v":2},{"$f":"IF(X380>10000000000,INT(RIGHT($X380,11)/10000000000),0)","v":9},{"$f":"IF(X380>1000000000,INT(RIGHT($X380,10)/1000000000),0)","v":0},{"$f":"IF(X380>100000000,INT(RIGHT($X380,9)/100000000),0)","v":4},{"$f":"IF(X380>10000000,INT(RIGHT($X380,8)/10000000),0)","v":1},{"$f":"IF(X380>1000000,INT(RIGHT($X380,7)/1000000),0)","v":9},{"$f":"IF(X380>100000,INT(RIGHT($X380,6)/100000),0)","v":3},{"$f":"IF(X380>10000,INT(RIGHT($X380,5)/10000),0)","v":4},{"$f":"IF(X380>1000,INT(RIGHT($X380,4)/1000),0)","v":6},{"$f":"IF(X380>100,INT(RIGHT($X380,3)/100),0)","v":2},{"$f":"IF(X380>10,INT(RIGHT($X380,2)/10),0)","v":5},{"$f":"INT(RIGHT($X380,1)/1)","v":0},{"$f":"INT(RIGHT($AC380,1))","v":0},{"$f":"INT(RIGHT($AC380,2)/10)","v":8},{"$f":"INT(RIGHT($AC380,3)/100)","v":0},{"$f":"INT(RIGHT($AC380,4)/1000)","v":0},{"$f":"INT(RIGHT($AC380,5)/10000)","v":0},{"$f":"INT(RIGHT($AC380,6)/100000)","v":0},{"$f":"((Q380*100000)+(R380*10000)+(S380*1000)+(T380*100)+(U380*10)+V380)","v":80000},{"$f":"C$3+INT(RAND()*(C$4-C$3+1))","v":290419346250},{"$f":"LEN(X380)","v":12},{"$f":"INT(RAND()*(Y380-C$5))+C$5","v":3},{"$f":"Z380-C$5","v":1},null,{"$f":"INT(RAND()*(POWER(10,$C$7))+1)","v":80},{"$f":"LEN(AC380)","v":2},{"$f":"INT(RAND()*(AD380-H$5))+H$5","v":0},{"$f":"AE380-H$5","v":0}]
[null,{"$f":"convnumberletter(C381)","v":"deux cent quatre-vingt-dix milliards quatre cent dix-neuf millions trois cent quarante mille cinquante"},{"$f":"(E382*10^E$7)+(F382*10^F$7)+(G382*10^G$7)+(H382*10^H$7)+(I382*10^I$7)+(J382*10^J$7)+(K382*10^K$7)+(L382*10^L$7)+(M382*10^M$7)+(N382*10^N$7)+(O382*10^O$7)+(P382*10^P$7)","v":290419340050},null,{"$f":"IF(Z380=12,TRUE,FALSE)","v":false},{"$f":"IF(Z380=11,TRUE,FALSE)","v":false},{"$f":"IF(Z380=10,TRUE,FALSE)","v":false},{"$f":"IF(Z380=9,TRUE,FALSE)","v":false},{"$f":"IF(Z380=8,TRUE,FALSE)","v":false},{"$f":"IF(Z380=7,TRUE,FALSE)","v":false},{"$f":"IF(Z380=6,TRUE,FALSE)","v":false},{"$f":"IF(Z380=5,TRUE,FALSE)","v":false},{"$f":"IF(Z380=4,TRUE,FALSE)","v":false},{"$f":"IF(Z380=3,TRUE,FALSE)","v":true},{"$f":"IF(Z380=2,TRUE,FALSE)","v":false},{"$f":"IF(Z380=1,TRUE,FALSE)","v":false},{"$f":"IF(AND(Q380=0,R381=FALSE),FALSE,TRUE)","v":true},{"$f":"IF(AND(R380=0,S381=FALSE),FALSE,TRUE)","v":true},{"$f":"IF(AND(S380=0,T381=FALSE),FALSE,TRUE)","v":false},{"$f":"IF(AND(T380=0,U381=FALSE),FALSE,TRUE)","v":false},{"$f":"IF(AND(U380=0,V381=FALSE),FALSE,TRUE)","v":false},{"$f":"IF(V380=0,FALSE,TRUE)","v":false},{"$f":"W380/(1000000/W382)","v":8}]
[77,{"$f":"convnumberletter(C382)","v":"huit"},{"$f":"W381","v":8},null,{"$f":"IF(AND(E$7-1<$Z380,E$7-1>=$AA380),0,E380)","v":2},9,0,4,1,9,3,4,{"$f":"IF(AND(M$7-1<$Z380,M$7-1>=$AA380),0,M380)","v":0},{"$f":"IF(AND(N$7-1<$Z380,N$7-1>=$AA380),0,N380)","v":0},{"$f":"IF(AND(O$7-1<$Z380,O$7-1>=$AA380),0,O380)","v":5},{"$f":"IF(AND(P$7-1<$Z380,P$7-1>=$AA380),0,P380)","v":0},{"$f":"IF(Q381=FALSE,\"\",Q380)","v":0},8,"","","","",{"$f":"SUM(Q383:V383)","v":100}]
[null,{"$f":"IF(C382>1,CONCATENATE(HLOOKUP(C383,$Q$7:$V$9,3,TRUE),\"s\"),HLOOKUP(C383,$Q$7:$V$9,3,TRUE))","v":"centièmes"},{"$f":"W382","v":100},null,null,null,null,null,null,null,null,null,null,null,null,null,{"$f":"IF(AND(R382=\"\",Q382<>\"\"),Q$7,0)","v":0},{"$f":"IF(AND(S382=\"\",R382<>\"\"),R$7,0)","v":100},{"$f":"IF(AND(T382=\"\",S382<>\"\"),S$7,0)","v":0},{"$f":"IF(AND(U382=\"\",T382<>\"\"),T$7,0)","v":0},{"$f":"IF(AND(V382=\"\",U382<>\"\"),U$7,0)","v":0},{"$f":"IF(AND(W383=\"\",V382<>\"\"),V$7,0)","v":0}]
[null,{"$f":"IF($C$8=\"virgule\",CONCATENATE(B381,\" virgule \",B382),CONCATENATE(B381,\"  et \",B382,\" \",B383))","v":"deux cent quatre-vingt-dix milliards quatre cent dix-neuf millions trois cent quarante mille cinquante virgule huit"}]
[null,null,null,null,{"$f":"IF(X385>100000000000,INT(RIGHT($X385,12)/100000000000),0)","v":3},{"$f":"IF(X385>10000000000,INT(RIGHT($X385,11)/10000000000),0)","v":7},{"$f":"IF(X385>1000000000,INT(RIGHT($X385,10)/1000000000),0)","v":5},{"$f":"IF(X385>100000000,INT(RIGHT($X385,9)/100000000),0)","v":8},{"$f":"IF(X385>10000000,INT(RIGHT($X385,8)/10000000),0)","v":1},{"$f":"IF(X385>1000000,INT(RIGHT($X385,7)/1000000),0)","v":1},{"$f":"IF(X385>100000,INT(RIGHT($X385,6)/100000),0)","v":1},{"$f":"IF(X385>10000,INT(RIGHT($X385,5)/10000),0)","v":1},{"$f":"IF(X385>1000,INT(RIGHT($X385,4)/1000),0)","v":7},{"$f":"IF(X385>100,INT(RIGHT($X385,3)/100),0)","v":2},{"$f":"IF(X385>10,INT(RIGHT($X385,2)/10),0)","v":5},{"$f":"INT(RIGHT($X385,1)/1)","v":9},{"$f":"INT(RIGHT($AC385,1))","v":4},{"$f":"INT(RIGHT($AC385,2)/10)","v":9},{"$f":"INT(RIGHT($AC385,3)/100)","v":0},{"$f":"INT(RIGHT($AC385,4)/1000)","v":0},{"$f":"INT(RIGHT($AC385,5)/10000)","v":0},{"$f":"INT(RIGHT($AC385,6)/100000)","v":0},{"$f":"((Q385*100000)+(R385*10000)+(S385*1000)+(T385*100)+(U385*10)+V385)","v":490000},{"$f":"C$3+INT(RAND()*(C$4-C$3+1))","v":375811117259},{"$f":"LEN(X385)","v":12},{"$f":"INT(RAND()*(Y385-C$5))+C$5","v":11},{"$f":"Z385-C$5","v":9},null,{"$f":"INT(RAND()*(POWER(10,$C$7))+1)","v":94},{"$f":"LEN(AC385)","v":2},{"$f":"INT(RAND()*(AD385-H$5))+H$5","v":0},{"$f":"AE385-H$5","v":0}]
[null,{"$f":"convnumberletter(C386)","v":"cinq milliards huit cent onze millions cent dix-sept mille deux cent cinquante-neuf"},{"$f":"(E387*10^E$7)+(F387*10^F$7)+(G387*10^G$7)+(H387*10^H$7)+(I387*10^I$7)+(J387*10^J$7)+(K387*10^K$7)+(L387*10^L$7)+(M387*10^M$7)+(N387*10^N$7)+(O387*10^O$7)+(P387*10^P$7)","v":5811117259},null,{"$f":"IF(Z385=12,TRUE,FALSE)","v":false},{"$f":"IF(Z385=11,TRUE,FALSE)","v":true},{"$f":"IF(Z385=10,TRUE,FALSE)","v":false},{"$f":"IF(Z385=9,TRUE,FALSE)","v":false},{"$f":"IF(Z385=8,TRUE,FALSE)","v":false},{"$f":"IF(Z385=7,TRUE,FALSE)","v":false},{"$f":"IF(Z385=6,TRUE,FALSE)","v":false},{"$f":"IF(Z385=5,TRUE,FALSE)","v":false},{"$f":"IF(Z385=4,TRUE,FALSE)","v":false},{"$f":"IF(Z385=3,TRUE,FALSE)","v":false},{"$f":"IF(Z385=2,TRUE,FALSE)","v":false},{"$f":"IF(Z385=1,TRUE,FALSE)","v":false},{"$f":"IF(AND(Q385=0,R386=FALSE),FALSE,TRUE)","v":true},{"$f":"IF(AND(R385=0,S386=FALSE),FALSE,TRUE)","v":true},{"$f":"IF(AND(S385=0,T386=FALSE),FALSE,TRUE)","v":false},{"$f":"IF(AND(T385=0,U386=FALSE),FALSE,TRUE)","v":false},{"$f":"IF(AND(U385=0,V386=FALSE),FALSE,TRUE)","v":false},{"$f":"IF(V385=0,FALSE,TRUE)","v":false},{"$f":"W385/(1000000/W387)","v":49}]
[78,{"$f":"convnumberletter(C387)","v":"quarante-neuf"},{"$f":"W386","v":49},null,{"$f":"IF(AND(E$7-1<$Z385,E$7-1>=$AA385),0,E385)","v":0},0,5,8,1,1,1,1,{"$f":"IF(AND(M$7-1<$Z385,M$7-1>=$AA385),0,M385)","v":7},{"$f":"IF(AND(N$7-1<$Z385,N$7-1>=$AA385),0,N385)","v":2},{"$f":"IF(AND(O$7-1<$Z385,O$7-1>=$AA385),0,O385)","v":5},{"$f":"IF(AND(P$7-1<$Z385,P$7-1>=$AA385),0,P385)","v":9},{"$f":"IF(Q386=FALSE,\"\",Q385)","v":4},9,"","","","",{"$f":"SUM(Q388:V388)","v":100}]
[null,{"$f":"IF(C387>1,CONCATENATE(HLOOKUP(C388,$Q$7:$V$9,3,TRUE),\"s\"),HLOOKUP(C388,$Q$7:$V$9,3,TRUE))","v":"centièmes"},{"$f":"W387","v":100},null,null,null,null,null,null,null,null,null,null,null,null,null,{"$f":"IF(AND(R387=\"\",Q387<>\"\"),Q$7,0)","v":0},{"$f":"IF(AND(S387=\"\",R387<>\"\"),R$7,0)","v":100},{"$f":"IF(AND(T387=\"\",S387<>\"\"),S$7,0)","v":0},{"$f":"IF(AND(U387=\"\",T387<>\"\"),T$7,0)","v":0},{"$f":"IF(AND(V387=\"\",U387<>\"\"),U$7,0)","v":0},{"$f":"IF(AND(W388=\"\",V387<>\"\"),V$7,0)","v":0}]
[null,{"$f":"IF($C$8=\"virgule\",CONCATENATE(B386,\" virgule \",B387),CONCATENATE(B386,\"  et \",B387,\" \",B388))","v":"cinq milliards huit cent onze millions cent dix-sept mille deux cent cinquante-neuf virgule quarante-neuf"}]
[null,null,null,null,{"$f":"IF(X390>100000000000,INT(RIGHT($X390,12)/100000000000),0)","v":4},{"$f":"IF(X390>10000000000,INT(RIGHT($X390,11)/10000000000),0)","v":2},{"$f":"IF(X390>1000000000,INT(RIGHT($X390,10)/1000000000),0)","v":1},{"$f":"IF(X390>100000000,INT(RIGHT($X390,9)/100000000),0)","v":6},{"$f":"IF(X390>10000000,INT(RIGHT($X390,8)/10000000),0)","v":7},{"$f":"IF(X390>1000000,INT(RIGHT($X390,7)/1000000),0)","v":0},{"$f":"IF(X390>100000,INT(RIGHT($X390,6)/100000),0)","v":0},{"$f":"IF(X390>10000,INT(RIGHT($X390,5)/10000),0)","v":8},{"$f":"IF(X390>1000,INT(RIGHT($X390,4)/1000),0)","v":8},{"$f":"IF(X390>100,INT(RIGHT($X390,3)/100),0)","v":0},{"$f":"IF(X390>10,INT(RIGHT($X390,2)/10),0)","v":0},{"$f":"INT(RIGHT($X390,1)/1)","v":5},{"$f":"INT(RIGHT($AC390,1))","v":9},{"$f":"INT(RIGHT($AC390,2)/10)","v":8},{"$f":"INT(RIGHT($AC390,3)/100)","v":0},{"$f":"INT(RIGHT($AC390,4)/1000)","v":0},{"$f":"INT(RIGHT($AC390,5)/10000)","v":0},{"$f":"INT(RIGHT($AC390,6)/100000)","v":0},{"$f":"((Q390*100000)+(R390*10000)+(S390*1000)+(T390*100)+(U390*10)+V390)","v":980000},{"$f":"C$3+INT(RAND()*(C$4-C$3+1))","v":421670088005},{"$f":"LEN(X390)","v":12},{"$f":"INT(RAND()*(Y390-C$5))+C$5","v":4},{"$f":"Z390-C$5","v":2},null,{"$f":"INT(RAND()*(POWER(10,$C$7))+1)","v":89},{"$f":"LEN(AC390)","v":2},{"$f":"INT(RAND()*(AD390-H$5))+H$5","v":0},{"$f":"AE390-H$5","v":0}]
[null,{"$f":"convnumberletter(C391)","v":"quatre cent vingt et un milliards six cent soixante-dix millions et cinq"},{"$f":"(E392*10^E$7)+(F392*10^F$7)+(G392*10^G$7)+(H392*10^H$7)+(I392*10^I$7)+(J392*10^J$7)+(K392*10^K$7)+(L392*10^L$7)+(M392*10^M$7)+(N392*10^N$7)+(O392*10^O$7)+(P392*10^P$7)","v":421670000005},null,{"$f":"IF(Z390=12,TRUE,FALSE)","v":false},{"$f":"IF(Z390=11,TRUE,FALSE)","v":false},{"$f":"IF(Z390=10,TRUE,FALSE)","v":false},{"$f":"IF(Z390=9,TRUE,FALSE)","v":false},{"$f":"IF(Z390=8,TRUE,FALSE)","v":false},{"$f":"IF(Z390=7,TRUE,FALSE)","v":false},{"$f":"IF(Z390=6,TRUE,FALSE)","v":false},{"$f":"IF(Z390=5,TRUE,FALSE)","v":false},{"$f":"IF(Z390=4,TRUE,FALSE)","v":true},{"$f":"IF(Z390=3,TRUE,FALSE)","v":false},{"$f":"IF(Z390=2,TRUE,FALSE)","v":false},{"$f":"IF(Z390=1,TRUE,FALSE)","v":false},{"$f":"IF(AND(Q390=0,R391=FALSE),FALSE,TRUE)","v":true},{"$f":"IF(AND(R390=0,S391=FALSE),FALSE,TRUE)","v":true},{"$f":"IF(AND(S390=0,T391=FALSE),FALSE,TRUE)","v":false},{"$f":"IF(AND(T390=0,U391=FALSE),FALSE,TRUE)","v":false},{"$f":"IF(AND(U390=0,V391=FALSE),FALSE,TRUE)","v":false},{"$f":"IF(V390=0,FALSE,TRUE)","v":false},{"$f":"W390/(1000000/W392)","v":98}]
[79,{"$f":"convnumberletter(C392)","v":"quatre-vingt-dix-huit"},{"$f":"W391","v":98},null,{"$f":"IF(AND(E$7-1<$Z390,E$7-1>=$AA390),0,E390)","v":4},2,1,6,7,0,0,0,{"$f":"IF(AND(M$7-1<$Z390,M$7-1>=$AA390),0,M390)","v":0},{"$f":"IF(AND(N$7-1<$Z390,N$7-1>=$AA390),0,N390)","v":0},{"$f":"IF(AND(O$7-1<$Z390,O$7-1>=$AA390),0,O390)","v":0},{"$f":"IF(AND(P$7-1<$Z390,P$7-1>=$AA390),0,P390)","v":5},{"$f":"IF(Q391=FALSE,\"\",Q390)","v":9},8,"","","","",{"$f":"SUM(Q393:V393)","v":100}]
[null,{"$f":"IF(C392>1,CONCATENATE(HLOOKUP(C393,$Q$7:$V$9,3,TRUE),\"s\"),HLOOKUP(C393,$Q$7:$V$9,3,TRUE))","v":"centièmes"},{"$f":"W392","v":100},null,null,null,null,null,null,null,null,null,null,null,null,null,{"$f":"IF(AND(R392=\"\",Q392<>\"\"),Q$7,0)","v":0},{"$f":"IF(AND(S392=\"\",R392<>\"\"),R$7,0)","v":100},{"$f":"IF(AND(T392=\"\",S392<>\"\"),S$7,0)","v":0},{"$f":"IF(AND(U392=\"\",T392<>\"\"),T$7,0)","v":0},{"$f":"IF(AND(V392=\"\",U392<>\"\"),U$7,0)","v":0},{"$f":"IF(AND(W393=\"\",V392<>\"\"),V$7,0)","v":0}]
[null,{"$f":"IF($C$8=\"virgule\",CONCATENATE(B391,\" virgule \",B392),CONCATENATE(B391,\"  et \",B392,\" \",B393))","v":"quatre cent vingt et un milliards six cent soixante-dix millions et cinq virgule quatre-vingt-dix-huit"}]
[null,null,null,null,{"$f":"IF(X395>100000000000,INT(RIGHT($X395,12)/100000000000),0)","v":3},{"$f":"IF(X395>10000000000,INT(RIGHT($X395,11)/10000000000),0)","v":2},{"$f":"IF(X395>1000000000,INT(RIGHT($X395,10)/1000000000),0)","v":2},{"$f":"IF(X395>100000000,INT(RIGHT($X395,9)/100000000),0)","v":9},{"$f":"IF(X395>10000000,INT(RIGHT($X395,8)/10000000),0)","v":3},{"$f":"IF(X395>1000000,INT(RIGHT($X395,7)/1000000),0)","v":9},{"$f":"IF(X395>100000,INT(RIGHT($X395,6)/100000),0)","v":4},{"$f":"IF(X395>10000,INT(RIGHT($X395,5)/10000),0)","v":2},{"$f":"IF(X395>1000,INT(RIGHT($X395,4)/1000),0)","v":9},{"$f":"IF(X395>100,INT(RIGHT($X395,3)/100),0)","v":2},{"$f":"IF(X395>10,INT(RIGHT($X395,2)/10),0)","v":4},{"$f":"INT(RIGHT($X395,1)/1)","v":2},{"$f":"INT(RIGHT($AC395,1))","v":4},{"$f":"INT(RIGHT($AC395,2)/10)","v":8},{"$f":"INT(RIGHT($AC395,3)/100)","v":0},{"$f":"INT(RIGHT($AC395,4)/1000)","v":0},{"$f":"INT(RIGHT($AC395,5)/10000)","v":0},{"$f":"INT(RIGHT($AC395,6)/100000)","v":0},{"$f":"((Q395*100000)+(R395*10000)+(S395*1000)+(T395*100)+(U395*10)+V395)","v":480000},{"$f":"C$3+INT(RAND()*(C$4-C$3+1))","v":322939429242},{"$f":"LEN(X395)","v":12},{"$f":"INT(RAND()*(Y395-C$5))+C$5","v":11},{"$f":"Z395-C$5","v":9},null,{"$f":"INT(RAND()*(POWER(10,$C$7))+1)","v":84},{"$f":"LEN(AC395)","v":2},{"$f":"INT(RAND()*(AD395-H$5))+H$5","v":1},{"$f":"AE395-H$5","v":1}]
[null,{"$f":"convnumberletter(C396)","v":"deux milliards neuf cent trente-neuf millions quatre cent vingt-neuf mille deux cent quarante-deux"},{"$f":"(E397*10^E$7)+(F397*10^F$7)+(G397*10^G$7)+(H397*10^H$7)+(I397*10^I$7)+(J397*10^J$7)+(K397*10^K$7)+(L397*10^L$7)+(M397*10^M$7)+(N397*10^N$7)+(O397*10^O$7)+(P397*10^P$7)","v":2939429242},null,{"$f":"IF(Z395=12,TRUE,FALSE)","v":false},{"$f":"IF(Z395=11,TRUE,FALSE)","v":true},{"$f":"IF(Z395=10,TRUE,FALSE)","v":false},{"$f":"IF(Z395=9,TRUE,FALSE)","v":false},{"$f":"IF(Z395=8,TRUE,FALSE)","v":false},{"$f":"IF(Z395=7,TRUE,FALSE)","v":false},{"$f":"IF(Z395=6,TRUE,FALSE)","v":false},{"$f":"IF(Z395=5,TRUE,FALSE)","v":false},{"$f":"IF(Z395=4,TRUE,FALSE)","v":false},{"$f":"IF(Z395=3,TRUE,FALSE)","v":false},{"$f":"IF(Z395=2,TRUE,FALSE)","v":false},{"$f":"IF(Z395=1,TRUE,FALSE)","v":false},{"$f":"IF(AND(Q395=0,R396=FALSE),FALSE,TRUE)","v":true},{"$f":"IF(AND(R395=0,S396=FALSE),FALSE,TRUE)","v":true},{"$f":"IF(AND(S395=0,T396=FALSE),FALSE,TRUE)","v":false},{"$f":"IF(AND(T395=0,U396=FALSE),FALSE,TRUE)","v":false},{"$f":"IF(AND(U395=0,V396=FALSE),FALSE,TRUE)","v":false},{"$f":"IF(V395=0,FALSE,TRUE)","v":false},{"$f":"W395/(1000000/W397)","v":48}]
[80,{"$f":"convnumberletter(C397)","v":"quarante-huit"},{"$f":"W396","v":48},null,{"$f":"IF(AND(E$7-1<$Z395,E$7-1>=$AA395),0,E395)","v":0},0,2,9,3,9,4,2,{"$f":"IF(AND(M$7-1<$Z395,M$7-1>=$AA395),0,M395)","v":9},{"$f":"IF(AND(N$7-1<$Z395,N$7-1>=$AA395),0,N395)","v":2},{"$f":"IF(AND(O$7-1<$Z395,O$7-1>=$AA395),0,O395)","v":4},{"$f":"IF(AND(P$7-1<$Z395,P$7-1>=$AA395),0,P395)","v":2},{"$f":"IF(Q396=FALSE,\"\",Q395)","v":4},8,"","","","",{"$f":"SUM(Q398:V398)","v":100}]
[null,{"$f":"IF(C397>1,CONCATENATE(HLOOKUP(C398,$Q$7:$V$9,3,TRUE),\"s\"),HLOOKUP(C398,$Q$7:$V$9,3,TRUE))","v":"centièmes"},{"$f":"W397","v":100},null,null,null,null,null,null,null,null,null,null,null,null,null,{"$f":"IF(AND(R397=\"\",Q397<>\"\"),Q$7,0)","v":0},{"$f":"IF(AND(S397=\"\",R397<>\"\"),R$7,0)","v":100},{"$f":"IF(AND(T397=\"\",S397<>\"\"),S$7,0)","v":0},{"$f":"IF(AND(U397=\"\",T397<>\"\"),T$7,0)","v":0},{"$f":"IF(AND(V397=\"\",U397<>\"\"),U$7,0)","v":0},{"$f":"IF(AND(W398=\"\",V397<>\"\"),V$7,0)","v":0}]
[null,{"$f":"IF($C$8=\"virgule\",CONCATENATE(B396,\" virgule \",B397),CONCATENATE(B396,\"  et \",B397,\" \",B398))","v":"deux milliards neuf cent trente-neuf millions quatre cent vingt-neuf mille deux cent quarante-deux virgule quarante-huit"}]
[null,null,null,null,{"$f":"IF(X400>100000000000,INT(RIGHT($X400,12)/100000000000),0)","v":2},{"$f":"IF(X400>10000000000,INT(RIGHT($X400,11)/10000000000),0)","v":6},{"$f":"IF(X400>1000000000,INT(RIGHT($X400,10)/1000000000),0)","v":7},{"$f":"IF(X400>100000000,INT(RIGHT($X400,9)/100000000),0)","v":8},{"$f":"IF(X400>10000000,INT(RIGHT($X400,8)/10000000),0)","v":3},{"$f":"IF(X400>1000000,INT(RIGHT($X400,7)/1000000),0)","v":7},{"$f":"IF(X400>100000,INT(RIGHT($X400,6)/100000),0)","v":5},{"$f":"IF(X400>10000,INT(RIGHT($X400,5)/10000),0)","v":2},{"$f":"IF(X400>1000,INT(RIGHT($X400,4)/1000),0)","v":4},{"$f":"IF(X400>100,INT(RIGHT($X400,3)/100),0)","v":5},{"$f":"IF(X400>10,INT(RIGHT($X400,2)/10),0)","v":5},{"$f":"INT(RIGHT($X400,1)/1)","v":5},{"$f":"INT(RIGHT($AC400,1))","v":1},{"$f":"INT(RIGHT($AC400,2)/10)","v":7},{"$f":"INT(RIGHT($AC400,3)/100)","v":0},{"$f":"INT(RIGHT($AC400,4)/1000)","v":0},{"$f":"INT(RIGHT($AC400,5)/10000)","v":0},{"$f":"INT(RIGHT($AC400,6)/100000)","v":0},{"$f":"((Q400*100000)+(R400*10000)+(S400*1000)+(T400*100)+(U400*10)+V400)","v":170000},{"$f":"C$3+INT(RAND()*(C$4-C$3+1))","v":267837524555},{"$f":"LEN(X400)","v":12},{"$f":"INT(RAND()*(Y400-C$5))+C$5","v":6},{"$f":"Z400-C$5","v":4},null,{"$f":"INT(RAND()*(POWER(10,$C$7))+1)","v":71},{"$f":"LEN(AC400)","v":2},{"$f":"INT(RAND()*(AD400-H$5))+H$5","v":1},{"$f":"AE400-H$5","v":1}]
[null,{"$f":"convnumberletter(C401)","v":"deux cent soixante-sept milliards huit cent trente millions vingt-quatre mille cinq cent cinquante-cinq"},{"$f":"(E402*10^E$7)+(F402*10^F$7)+(G402*10^G$7)+(H402*10^H$7)+(I402*10^I$7)+(J402*10^J$7)+(K402*10^K$7)+(L402*10^L$7)+(M402*10^M$7)+(N402*10^N$7)+(O402*10^O$7)+(P402*10^P$7)","v":267830024555},null,{"$f":"IF(Z400=12,TRUE,FALSE)","v":false},{"$f":"IF(Z400=11,TRUE,FALSE)","v":false},{"$f":"IF(Z400=10,TRUE,FALSE)","v":false},{"$f":"IF(Z400=9,TRUE,FALSE)","v":false},{"$f":"IF(Z400=8,TRUE,FALSE)","v":false},{"$f":"IF(Z400=7,TRUE,FALSE)","v":false},{"$f":"IF(Z400=6,TRUE,FALSE)","v":true},{"$f":"IF(Z400=5,TRUE,FALSE)","v":false},{"$f":"IF(Z400=4,TRUE,FALSE)","v":false},{"$f":"IF(Z400=3,TRUE,FALSE)","v":false},{"$f":"IF(Z400=2,TRUE,FALSE)","v":false},{"$f":"IF(Z400=1,TRUE,FALSE)","v":false},{"$f":"IF(AND(Q400=0,R401=FALSE),FALSE,TRUE)","v":true},{"$f":"IF(AND(R400=0,S401=FALSE),FALSE,TRUE)","v":true},{"$f":"IF(AND(S400=0,T401=FALSE),FALSE,TRUE)","v":false},{"$f":"IF(AND(T400=0,U401=FALSE),FALSE,TRUE)","v":false},{"$f":"IF(AND(U400=0,V401=FALSE),FALSE,TRUE)","v":false},{"$f":"IF(V400=0,FALSE,TRUE)","v":false},{"$f":"W400/(1000000/W402)","v":17}]
[81,{"$f":"convnumberletter(C402)","v":"dix-sept"},{"$f":"W401","v":17},null,{"$f":"IF(AND(E$7-1<$Z400,E$7-1>=$AA400),0,E400)","v":2},6,7,8,3,0,0,2,{"$f":"IF(AND(M$7-1<$Z400,M$7-1>=$AA400),0,M400)","v":4},{"$f":"IF(AND(N$7-1<$Z400,N$7-1>=$AA400),0,N400)","v":5},{"$f":"IF(AND(O$7-1<$Z400,O$7-1>=$AA400),0,O400)","v":5},{"$f":"IF(AND(P$7-1<$Z400,P$7-1>=$AA400),0,P400)","v":5},{"$f":"IF(Q401=FALSE,\"\",Q400)","v":1},7,"","","","",{"$f":"SUM(Q403:V403)","v":100}]
[null,{"$f":"IF(C402>1,CONCATENATE(HLOOKUP(C403,$Q$7:$V$9,3,TRUE),\"s\"),HLOOKUP(C403,$Q$7:$V$9,3,TRUE))","v":"centièmes"},{"$f":"W402","v":100},null,null,null,null,null,null,null,null,null,null,null,null,null,{"$f":"IF(AND(R402=\"\",Q402<>\"\"),Q$7,0)","v":0},{"$f":"IF(AND(S402=\"\",R402<>\"\"),R$7,0)","v":100},{"$f":"IF(AND(T402=\"\",S402<>\"\"),S$7,0)","v":0},{"$f":"IF(AND(U402=\"\",T402<>\"\"),T$7,0)","v":0},{"$f":"IF(AND(V402=\"\",U402<>\"\"),U$7,0)","v":0},{"$f":"IF(AND(W403=\"\",V402<>\"\"),V$7,0)","v":0}]
[82,{"$f":"IF($C$8=\"virgule\",CONCATENATE(B401,\" virgule \",B402),CONCATENATE(B401,\"  et \",B402,\" \",B403))","v":"deux cent soixante-sept milliards huit cent trente millions vingt-quatre mille cinq cent cinquante-cinq virgule dix-sept"}]
[null,null,null,null,{"$f":"IF(X405>100000000000,INT(RIGHT($X405,12)/100000000000),0)","v":8},{"$f":"IF(X405>10000000000,INT(RIGHT($X405,11)/10000000000),0)","v":4},{"$f":"IF(X405>1000000000,INT(RIGHT($X405,10)/1000000000),0)","v":8},{"$f":"IF(X405>100000000,INT(RIGHT($X405,9)/100000000),0)","v":1},{"$f":"IF(X405>10000000,INT(RIGHT($X405,8)/10000000),0)","v":1},{"$f":"IF(X405>1000000,INT(RIGHT($X405,7)/1000000),0)","v":5},{"$f":"IF(X405>100000,INT(RIGHT($X405,6)/100000),0)","v":1},{"$f":"IF(X405>10000,INT(RIGHT($X405,5)/10000),0)","v":9},{"$f":"IF(X405>1000,INT(RIGHT($X405,4)/1000),0)","v":5},{"$f":"IF(X405>100,INT(RIGHT($X405,3)/100),0)","v":3},{"$f":"IF(X405>10,INT(RIGHT($X405,2)/10),0)","v":6},{"$f":"INT(RIGHT($X405,1)/1)","v":5},{"$f":"INT(RIGHT($AC405,1))","v":8},{"$f":"INT(RIGHT($AC405,2)/10)","v":3},{"$f":"INT(RIGHT($AC405,3)/100)","v":0},{"$f":"INT(RIGHT($AC405,4)/1000)","v":0},{"$f":"INT(RIGHT($AC405,5)/10000)","v":0},{"$f":"INT(RIGHT($AC405,6)/100000)","v":0},{"$f":"((Q405*100000)+(R405*10000)+(S405*1000)+(T405*100)+(U405*10)+V405)","v":830000},{"$f":"C$3+INT(RAND()*(C$4-C$3+1))","v":848115195365},{"$f":"LEN(X405)","v":12},{"$f":"INT(RAND()*(Y405-C$5))+C$5","v":11},{"$f":"Z405-C$5","v":9},null,{"$f":"INT(RAND()*(POWER(10,$C$7))+1)","v":38},{"$f":"LEN(AC405)","v":2},{"$f":"INT(RAND()*(AD405-H$5))+H$5","v":0},{"$f":"AE405-H$5","v":0}]
[null,{"$f":"convnumberletter(C406)","v":"huit milliards cent quinze millions cent quatre-vingt-quinze mille trois cent soixante-cinq"},{"$f":"(E407*10^E$7)+(F407*10^F$7)+(G407*10^G$7)+(H407*10^H$7)+(I407*10^I$7)+(J407*10^J$7)+(K407*10^K$7)+(L407*10^L$7)+(M407*10^M$7)+(N407*10^N$7)+(O407*10^O$7)+(P407*10^P$7)","v":8115195365},null,{"$f":"IF(Z405=12,TRUE,FALSE)","v":false},{"$f":"IF(Z405=11,TRUE,FALSE)","v":true},{"$f":"IF(Z405=10,TRUE,FALSE)","v":false},{"$f":"IF(Z405=9,TRUE,FALSE)","v":false},{"$f":"IF(Z405=8,TRUE,FALSE)","v":false},{"$f":"IF(Z405=7,TRUE,FALSE)","v":false},{"$f":"IF(Z405=6,TRUE,FALSE)","v":false},{"$f":"IF(Z405=5,TRUE,FALSE)","v":false},{"$f":"IF(Z405=4,TRUE,FALSE)","v":false},{"$f":"IF(Z405=3,TRUE,FALSE)","v":false},{"$f":"IF(Z405=2,TRUE,FALSE)","v":false},{"$f":"IF(Z405=1,TRUE,FALSE)","v":false},{"$f":"IF(AND(Q405=0,R406=FALSE),FALSE,TRUE)","v":true},{"$f":"IF(AND(R405=0,S406=FALSE),FALSE,TRUE)","v":true},{"$f":"IF(AND(S405=0,T406=FALSE),FALSE,TRUE)","v":false},{"$f":"IF(AND(T405=0,U406=FALSE),FALSE,TRUE)","v":false},{"$f":"IF(AND(U405=0,V406=FALSE),FALSE,TRUE)","v":false},{"$f":"IF(V405=0,FALSE,TRUE)","v":false},{"$f":"W405/(1000000/W407)","v":83}]
[null,{"$f":"convnumberletter(C407)","v":"quatre-vingt-trois"},{"$f":"W406","v":83},null,{"$f":"IF(AND(E$7-1<$Z405,E$7-1>=$AA405),0,E405)","v":0},0,8,1,1,5,1,9,{"$f":"IF(AND(M$7-1<$Z405,M$7-1>=$AA405),0,M405)","v":5},{"$f":"IF(AND(N$7-1<$Z405,N$7-1>=$AA405),0,N405)","v":3},{"$f":"IF(AND(O$7-1<$Z405,O$7-1>=$AA405),0,O405)","v":6},{"$f":"IF(AND(P$7-1<$Z405,P$7-1>=$AA405),0,P405)","v":5},{"$f":"IF(Q406=FALSE,\"\",Q405)","v":8},3,"","","","",{"$f":"SUM(Q408:V408)","v":100}]
[null,{"$f":"IF(C407>1,CONCATENATE(HLOOKUP(C408,$Q$7:$V$9,3,TRUE),\"s\"),HLOOKUP(C408,$Q$7:$V$9,3,TRUE))","v":"centièmes"},{"$f":"W407","v":100},null,null,null,null,null,null,null,null,null,null,null,null,null,{"$f":"IF(AND(R407=\"\",Q407<>\"\"),Q$7,0)","v":0},{"$f":"IF(AND(S407=\"\",R407<>\"\"),R$7,0)","v":100},{"$f":"IF(AND(T407=\"\",S407<>\"\"),S$7,0)","v":0},{"$f":"IF(AND(U407=\"\",T407<>\"\"),T$7,0)","v":0},{"$f":"IF(AND(V407=\"\",U407<>\"\"),U$7,0)","v":0},{"$f":"IF(AND(W408=\"\",V407<>\"\"),V$7,0)","v":0}]
[83,{"$f":"IF($C$8=\"virgule\",CONCATENATE(B406,\" virgule \",B407),CONCATENATE(B406,\"  et \",B407,\" \",B408))","v":"huit milliards cent quinze millions cent quatre-vingt-quinze mille trois cent soixante-cinq virgule quatre-vingt-trois"}]
[null,null,null,null,{"$f":"IF(X410>100000000000,INT(RIGHT($X410,12)/100000000000),0)","v":4},{"$f":"IF(X410>10000000000,INT(RIGHT($X410,11)/10000000000),0)","v":6},{"$f":"IF(X410>1000000000,INT(RIGHT($X410,10)/1000000000),0)","v":7},{"$f":"IF(X410>100000000,INT(RIGHT($X410,9)/100000000),0)","v":3},{"$f":"IF(X410>10000000,INT(RIGHT($X410,8)/10000000),0)","v":5},{"$f":"IF(X410>1000000,INT(RIGHT($X410,7)/1000000),0)","v":5},{"$f":"IF(X410>100000,INT(RIGHT($X410,6)/100000),0)","v":5},{"$f":"IF(X410>10000,INT(RIGHT($X410,5)/10000),0)","v":0},{"$f":"IF(X410>1000,INT(RIGHT($X410,4)/1000),0)","v":2},{"$f":"IF(X410>100,INT(RIGHT($X410,3)/100),0)","v":0},{"$f":"IF(X410>10,INT(RIGHT($X410,2)/10),0)","v":9},{"$f":"INT(RIGHT($X410,1)/1)","v":9},{"$f":"INT(RIGHT($AC410,1))","v":4},{"$f":"INT(RIGHT($AC410,2)/10)","v":3},{"$f":"INT(RIGHT($AC410,3)/100)","v":0},{"$f":"INT(RIGHT($AC410,4)/1000)","v":0},{"$f":"INT(RIGHT($AC410,5)/10000)","v":0},{"$f":"INT(RIGHT($AC410,6)/100000)","v":0},{"$f":"((Q410*100000)+(R410*10000)+(S410*1000)+(T410*100)+(U410*10)+V410)","v":430000},{"$f":"C$3+INT(RAND()*(C$4-C$3+1))","v":467355502099},{"$f":"LEN(X410)","v":12},{"$f":"INT(RAND()*(Y410-C$5))+C$5","v":6},{"$f":"Z410-C$5","v":4},null,{"$f":"INT(RAND()*(POWER(10,$C$7))+1)","v":34},{"$f":"LEN(AC410)","v":2},{"$f":"INT(RAND()*(AD410-H$5))+H$5","v":0},{"$f":"AE410-H$5","v":0}]
[null,{"$f":"convnumberletter(C411)","v":"quatre cent soixante-sept milliards trois cent cinquante millions deux mille quatre-vingt-dix-neuf"},{"$f":"(E412*10^E$7)+(F412*10^F$7)+(G412*10^G$7)+(H412*10^H$7)+(I412*10^I$7)+(J412*10^J$7)+(K412*10^K$7)+(L412*10^L$7)+(M412*10^M$7)+(N412*10^N$7)+(O412*10^O$7)+(P412*10^P$7)","v":467350002099},null,{"$f":"IF(Z410=12,TRUE,FALSE)","v":false},{"$f":"IF(Z410=11,TRUE,FALSE)","v":false},{"$f":"IF(Z410=10,TRUE,FALSE)","v":false},{"$f":"IF(Z410=9,TRUE,FALSE)","v":false},{"$f":"IF(Z410=8,TRUE,FALSE)","v":false},{"$f":"IF(Z410=7,TRUE,FALSE)","v":false},{"$f":"IF(Z410=6,TRUE,FALSE)","v":true},{"$f":"IF(Z410=5,TRUE,FALSE)","v":false},{"$f":"IF(Z410=4,TRUE,FALSE)","v":false},{"$f":"IF(Z410=3,TRUE,FALSE)","v":false},{"$f":"IF(Z410=2,TRUE,FALSE)","v":false},{"$f":"IF(Z410=1,TRUE,FALSE)","v":false},{"$f":"IF(AND(Q410=0,R411=FALSE),FALSE,TRUE)","v":true},{"$f":"IF(AND(R410=0,S411=FALSE),FALSE,TRUE)","v":true},{"$f":"IF(AND(S410=0,T411=FALSE),FALSE,TRUE)","v":false},{"$f":"IF(AND(T410=0,U411=FALSE),FALSE,TRUE)","v":false},{"$f":"IF(AND(U410=0,V411=FALSE),FALSE,TRUE)","v":false},{"$f":"IF(V410=0,FALSE,TRUE)","v":false},{"$f":"W410/(1000000/W412)","v":43}]
[null,{"$f":"convnumberletter(C412)","v":"quarante-trois"},{"$f":"W411","v":43},null,{"$f":"IF(AND(E$7-1<$Z410,E$7-1>=$AA410),0,E410)","v":4},6,7,3,5,0,0,0,{"$f":"IF(AND(M$7-1<$Z410,M$7-1>=$AA410),0,M410)","v":2},{"$f":"IF(AND(N$7-1<$Z410,N$7-1>=$AA410),0,N410)","v":0},{"$f":"IF(AND(O$7-1<$Z410,O$7-1>=$AA410),0,O410)","v":9},{"$f":"IF(AND(P$7-1<$Z410,P$7-1>=$AA410),0,P410)","v":9},{"$f":"IF(Q411=FALSE,\"\",Q410)","v":4},3,"","","","",{"$f":"SUM(Q413:V413)","v":100}]
[null,{"$f":"IF(C412>1,CONCATENATE(HLOOKUP(C413,$Q$7:$V$9,3,TRUE),\"s\"),HLOOKUP(C413,$Q$7:$V$9,3,TRUE))","v":"centièmes"},{"$f":"W412","v":100},null,null,null,null,null,null,null,null,null,null,null,null,null,{"$f":"IF(AND(R412=\"\",Q412<>\"\"),Q$7,0)","v":0},{"$f":"IF(AND(S412=\"\",R412<>\"\"),R$7,0)","v":100},{"$f":"IF(AND(T412=\"\",S412<>\"\"),S$7,0)","v":0},{"$f":"IF(AND(U412=\"\",T412<>\"\"),T$7,0)","v":0},{"$f":"IF(AND(V412=\"\",U412<>\"\"),U$7,0)","v":0},{"$f":"IF(AND(W413=\"\",V412<>\"\"),V$7,0)","v":0}]
[84,{"$f":"IF($C$8=\"virgule\",CONCATENATE(B411,\" virgule \",B412),CONCATENATE(B411,\"  et \",B412,\" \",B413))","v":"quatre cent soixante-sept milliards trois cent cinquante millions deux mille quatre-vingt-dix-neuf virgule quarante-trois"}]
[null,null,null,null,{"$f":"IF(X415>100000000000,INT(RIGHT($X415,12)/100000000000),0)","v":4},{"$f":"IF(X415>10000000000,INT(RIGHT($X415,11)/10000000000),0)","v":0},{"$f":"IF(X415>1000000000,INT(RIGHT($X415,10)/1000000000),0)","v":3},{"$f":"IF(X415>100000000,INT(RIGHT($X415,9)/100000000),0)","v":6},{"$f":"IF(X415>10000000,INT(RIGHT($X415,8)/10000000),0)","v":6},{"$f":"IF(X415>1000000,INT(RIGHT($X415,7)/1000000),0)","v":1},{"$f":"IF(X415>100000,INT(RIGHT($X415,6)/100000),0)","v":3},{"$f":"IF(X415>10000,INT(RIGHT($X415,5)/10000),0)","v":3},{"$f":"IF(X415>1000,INT(RIGHT($X415,4)/1000),0)","v":7},{"$f":"IF(X415>100,INT(RIGHT($X415,3)/100),0)","v":4},{"$f":"IF(X415>10,INT(RIGHT($X415,2)/10),0)","v":4},{"$f":"INT(RIGHT($X415,1)/1)","v":3},{"$f":"INT(RIGHT($AC415,1))","v":0},{"$f":"INT(RIGHT($AC415,2)/10)","v":1},{"$f":"INT(RIGHT($AC415,3)/100)","v":0},{"$f":"INT(RIGHT($AC415,4)/1000)","v":0},{"$f":"INT(RIGHT($AC415,5)/10000)","v":0},{"$f":"INT(RIGHT($AC415,6)/100000)","v":0},{"$f":"((Q415*100000)+(R415*10000)+(S415*1000)+(T415*100)+(U415*10)+V415)","v":10000},{"$f":"C$3+INT(RAND()*(C$4-C$3+1))","v":403661337443},{"$f":"LEN(X415)","v":12},{"$f":"INT(RAND()*(Y415-C$5))+C$5","v":6},{"$f":"Z415-C$5","v":4},null,{"$f":"INT(RAND()*(POWER(10,$C$7))+1)","v":10},{"$f":"LEN(AC415)","v":2},{"$f":"INT(RAND()*(AD415-H$5))+H$5","v":0},{"$f":"AE415-H$5","v":0}]
[null,{"$f":"convnumberletter(C416)","v":"quatre cent trois milliards six cent soixante millions trente-sept mille quatre cent quarante-trois"},{"$f":"(E417*10^E$7)+(F417*10^F$7)+(G417*10^G$7)+(H417*10^H$7)+(I417*10^I$7)+(J417*10^J$7)+(K417*10^K$7)+(L417*10^L$7)+(M417*10^M$7)+(N417*10^N$7)+(O417*10^O$7)+(P417*10^P$7)","v":403660037443},null,{"$f":"IF(Z415=12,TRUE,FALSE)","v":false},{"$f":"IF(Z415=11,TRUE,FALSE)","v":false},{"$f":"IF(Z415=10,TRUE,FALSE)","v":false},{"$f":"IF(Z415=9,TRUE,FALSE)","v":false},{"$f":"IF(Z415=8,TRUE,FALSE)","v":false},{"$f":"IF(Z415=7,TRUE,FALSE)","v":false},{"$f":"IF(Z415=6,TRUE,FALSE)","v":true},{"$f":"IF(Z415=5,TRUE,FALSE)","v":false},{"$f":"IF(Z415=4,TRUE,FALSE)","v":false},{"$f":"IF(Z415=3,TRUE,FALSE)","v":false},{"$f":"IF(Z415=2,TRUE,FALSE)","v":false},{"$f":"IF(Z415=1,TRUE,FALSE)","v":false},{"$f":"IF(AND(Q415=0,R416=FALSE),FALSE,TRUE)","v":true},{"$f":"IF(AND(R415=0,S416=FALSE),FALSE,TRUE)","v":true},{"$f":"IF(AND(S415=0,T416=FALSE),FALSE,TRUE)","v":false},{"$f":"IF(AND(T415=0,U416=FALSE),FALSE,TRUE)","v":false},{"$f":"IF(AND(U415=0,V416=FALSE),FALSE,TRUE)","v":false},{"$f":"IF(V415=0,FALSE,TRUE)","v":false},{"$f":"W415/(1000000/W417)","v":1}]
[null,{"$f":"convnumberletter(C417)","v":"un"},{"$f":"W416","v":1},null,{"$f":"IF(AND(E$7-1<$Z415,E$7-1>=$AA415),0,E415)","v":4},0,3,6,6,0,0,3,{"$f":"IF(AND(M$7-1<$Z415,M$7-1>=$AA415),0,M415)","v":7},{"$f":"IF(AND(N$7-1<$Z415,N$7-1>=$AA415),0,N415)","v":4},{"$f":"IF(AND(O$7-1<$Z415,O$7-1>=$AA415),0,O415)","v":4},{"$f":"IF(AND(P$7-1<$Z415,P$7-1>=$AA415),0,P415)","v":3},{"$f":"IF(Q416=FALSE,\"\",Q415)","v":0},1,"","","","",{"$f":"SUM(Q418:V418)","v":100}]
[null,{"$f":"IF(C417>1,CONCATENATE(HLOOKUP(C418,$Q$7:$V$9,3,TRUE),\"s\"),HLOOKUP(C418,$Q$7:$V$9,3,TRUE))","v":"centième"},{"$f":"W417","v":100},null,null,null,null,null,null,null,null,null,null,null,null,null,{"$f":"IF(AND(R417=\"\",Q417<>\"\"),Q$7,0)","v":0},{"$f":"IF(AND(S417=\"\",R417<>\"\"),R$7,0)","v":100},{"$f":"IF(AND(T417=\"\",S417<>\"\"),S$7,0)","v":0},{"$f":"IF(AND(U417=\"\",T417<>\"\"),T$7,0)","v":0},{"$f":"IF(AND(V417=\"\",U417<>\"\"),U$7,0)","v":0},{"$f":"IF(AND(W418=\"\",V417<>\"\"),V$7,0)","v":0}]
[85,{"$f":"IF($C$8=\"virgule\",CONCATENATE(B416,\" virgule \",B417),CONCATENATE(B416,\"  et \",B417,\" \",B418))","v":"quatre cent trois milliards six cent soixante millions trente-sept mille quatre cent quarante-trois virgule un"}]
[null,null,null,null,{"$f":"IF(X420>100000000000,INT(RIGHT($X420,12)/100000000000),0)","v":4},{"$f":"IF(X420>10000000000,INT(RIGHT($X420,11)/10000000000),0)","v":2},{"$f":"IF(X420>1000000000,INT(RIGHT($X420,10)/1000000000),0)","v":1},{"$f":"IF(X420>100000000,INT(RIGHT($X420,9)/100000000),0)","v":4},{"$f":"IF(X420>10000000,INT(RIGHT($X420,8)/10000000),0)","v":0},{"$f":"IF(X420>1000000,INT(RIGHT($X420,7)/1000000),0)","v":0},{"$f":"IF(X420>100000,INT(RIGHT($X420,6)/100000),0)","v":9},{"$f":"IF(X420>10000,INT(RIGHT($X420,5)/10000),0)","v":1},{"$f":"IF(X420>1000,INT(RIGHT($X420,4)/1000),0)","v":0},{"$f":"IF(X420>100,INT(RIGHT($X420,3)/100),0)","v":4},{"$f":"IF(X420>10,INT(RIGHT($X420,2)/10),0)","v":5},{"$f":"INT(RIGHT($X420,1)/1)","v":4},{"$f":"INT(RIGHT($AC420,1))","v":1},{"$f":"INT(RIGHT($AC420,2)/10)","v":5},{"$f":"INT(RIGHT($AC420,3)/100)","v":0},{"$f":"INT(RIGHT($AC420,4)/1000)","v":0},{"$f":"INT(RIGHT($AC420,5)/10000)","v":0},{"$f":"INT(RIGHT($AC420,6)/100000)","v":0},{"$f":"((Q420*100000)+(R420*10000)+(S420*1000)+(T420*100)+(U420*10)+V420)","v":150000},{"$f":"C$3+INT(RAND()*(C$4-C$3+1))","v":421400910454},{"$f":"LEN(X420)","v":12},{"$f":"INT(RAND()*(Y420-C$5))+C$5","v":5},{"$f":"Z420-C$5","v":3},null,{"$f":"INT(RAND()*(POWER(10,$C$7))+1)","v":51},{"$f":"LEN(AC420)","v":2},{"$f":"INT(RAND()*(AD420-H$5))+H$5","v":0},{"$f":"AE420-H$5","v":0}]
[null,{"$f":"convnumberletter(C421)","v":"quatre cent vingt et un milliards quatre cents millions et quatre cent cinquante-quatre"},{"$f":"(E422*10^E$7)+(F422*10^F$7)+(G422*10^G$7)+(H422*10^H$7)+(I422*10^I$7)+(J422*10^J$7)+(K422*10^K$7)+(L422*10^L$7)+(M422*10^M$7)+(N422*10^N$7)+(O422*10^O$7)+(P422*10^P$7)","v":421400000454},null,{"$f":"IF(Z420=12,TRUE,FALSE)","v":false},{"$f":"IF(Z420=11,TRUE,FALSE)","v":false},{"$f":"IF(Z420=10,TRUE,FALSE)","v":false},{"$f":"IF(Z420=9,TRUE,FALSE)","v":false},{"$f":"IF(Z420=8,TRUE,FALSE)","v":false},{"$f":"IF(Z420=7,TRUE,FALSE)","v":false},{"$f":"IF(Z420=6,TRUE,FALSE)","v":false},{"$f":"IF(Z420=5,TRUE,FALSE)","v":true},{"$f":"IF(Z420=4,TRUE,FALSE)","v":false},{"$f":"IF(Z420=3,TRUE,FALSE)","v":false},{"$f":"IF(Z420=2,TRUE,FALSE)","v":false},{"$f":"IF(Z420=1,TRUE,FALSE)","v":false},{"$f":"IF(AND(Q420=0,R421=FALSE),FALSE,TRUE)","v":true},{"$f":"IF(AND(R420=0,S421=FALSE),FALSE,TRUE)","v":true},{"$f":"IF(AND(S420=0,T421=FALSE),FALSE,TRUE)","v":false},{"$f":"IF(AND(T420=0,U421=FALSE),FALSE,TRUE)","v":false},{"$f":"IF(AND(U420=0,V421=FALSE),FALSE,TRUE)","v":false},{"$f":"IF(V420=0,FALSE,TRUE)","v":false},{"$f":"W420/(1000000/W422)","v":15}]
[null,{"$f":"convnumberletter(C422)","v":"quinze"},{"$f":"W421","v":15},null,{"$f":"IF(AND(E$7-1<$Z420,E$7-1>=$AA420),0,E420)","v":4},2,1,4,0,0,0,0,{"$f":"IF(AND(M$7-1<$Z420,M$7-1>=$AA420),0,M420)","v":0},{"$f":"IF(AND(N$7-1<$Z420,N$7-1>=$AA420),0,N420)","v":4},{"$f":"IF(AND(O$7-1<$Z420,O$7-1>=$AA420),0,O420)","v":5},{"$f":"IF(AND(P$7-1<$Z420,P$7-1>=$AA420),0,P420)","v":4},{"$f":"IF(Q421=FALSE,\"\",Q420)","v":1},5,"","","","",{"$f":"SUM(Q423:V423)","v":100}]
[null,{"$f":"IF(C422>1,CONCATENATE(HLOOKUP(C423,$Q$7:$V$9,3,TRUE),\"s\"),HLOOKUP(C423,$Q$7:$V$9,3,TRUE))","v":"centièmes"},{"$f":"W422","v":100},null,null,null,null,null,null,null,null,null,null,null,null,null,{"$f":"IF(AND(R422=\"\",Q422<>\"\"),Q$7,0)","v":0},{"$f":"IF(AND(S422=\"\",R422<>\"\"),R$7,0)","v":100},{"$f":"IF(AND(T422=\"\",S422<>\"\"),S$7,0)","v":0},{"$f":"IF(AND(U422=\"\",T422<>\"\"),T$7,0)","v":0},{"$f":"IF(AND(V422=\"\",U422<>\"\"),U$7,0)","v":0},{"$f":"IF(AND(W423=\"\",V422<>\"\"),V$7,0)","v":0}]
[86,{"$f":"IF($C$8=\"virgule\",CONCATENATE(B421,\" virgule \",B422),CONCATENATE(B421,\"  et \",B422,\" \",B423))","v":"quatre cent vingt et un milliards quatre cents millions et quatre cent cinquante-quatre virgule quinze"}]
[null,null,null,null,{"$f":"IF(X425>100000000000,INT(RIGHT($X425,12)/100000000000),0)","v":1},{"$f":"IF(X425>10000000000,INT(RIGHT($X425,11)/10000000000),0)","v":2},{"$f":"IF(X425>1000000000,INT(RIGHT($X425,10)/1000000000),0)","v":9},{"$f":"IF(X425>100000000,INT(RIGHT($X425,9)/100000000),0)","v":3},{"$f":"IF(X425>10000000,INT(RIGHT($X425,8)/10000000),0)","v":4},{"$f":"IF(X425>1000000,INT(RIGHT($X425,7)/1000000),0)","v":8},{"$f":"IF(X425>100000,INT(RIGHT($X425,6)/100000),0)","v":7},{"$f":"IF(X425>10000,INT(RIGHT($X425,5)/10000),0)","v":0},{"$f":"IF(X425>1000,INT(RIGHT($X425,4)/1000),0)","v":3},{"$f":"IF(X425>100,INT(RIGHT($X425,3)/100),0)","v":7},{"$f":"IF(X425>10,INT(RIGHT($X425,2)/10),0)","v":5},{"$f":"INT(RIGHT($X425,1)/1)","v":6},{"$f":"INT(RIGHT($AC425,1))","v":8},{"$f":"INT(RIGHT($AC425,2)/10)","v":4},{"$f":"INT(RIGHT($AC425,3)/100)","v":0},{"$f":"INT(RIGHT($AC425,4)/1000)","v":0},{"$f":"INT(RIGHT($AC425,5)/10000)","v":0},{"$f":"INT(RIGHT($AC425,6)/100000)","v":0},{"$f":"((Q425*100000)+(R425*10000)+(S425*1000)+(T425*100)+(U425*10)+V425)","v":840000},{"$f":"C$3+INT(RAND()*(C$4-C$3+1))","v":129348703756},{"$f":"LEN(X425)","v":12},{"$f":"INT(RAND()*(Y425-C$5))+C$5","v":9},{"$f":"Z425-C$5","v":7},null,{"$f":"INT(RAND()*(POWER(10,$C$7))+1)","v":48},{"$f":"LEN(AC425)","v":2},{"$f":"INT(RAND()*(AD425-H$5))+H$5","v":1},{"$f":"AE425-H$5","v":1}]
[87,{"$f":"convnumberletter(C426)","v":"cent vingt milliards quarante-huit millions sept cent trois mille sept cent cinquante-six"},{"$f":"(E427*10^E$7)+(F427*10^F$7)+(G427*10^G$7)+(H427*10^H$7)+(I427*10^I$7)+(J427*10^J$7)+(K427*10^K$7)+(L427*10^L$7)+(M427*10^M$7)+(N427*10^N$7)+(O427*10^O$7)+(P427*10^P$7)","v":120048703756},null,{"$f":"IF(Z425=12,TRUE,FALSE)","v":false},{"$f":"IF(Z425=11,TRUE,FALSE)","v":false},{"$f":"IF(Z425=10,TRUE,FALSE)","v":false},{"$f":"IF(Z425=9,TRUE,FALSE)","v":true},{"$f":"IF(Z425=8,TRUE,FALSE)","v":false},{"$f":"IF(Z425=7,TRUE,FALSE)","v":false},{"$f":"IF(Z425=6,TRUE,FALSE)","v":false},{"$f":"IF(Z425=5,TRUE,FALSE)","v":false},{"$f":"IF(Z425=4,TRUE,FALSE)","v":false},{"$f":"IF(Z425=3,TRUE,FALSE)","v":false},{"$f":"IF(Z425=2,TRUE,FALSE)","v":false},{"$f":"IF(Z425=1,TRUE,FALSE)","v":false},{"$f":"IF(AND(Q425=0,R426=FALSE),FALSE,TRUE)","v":true},{"$f":"IF(AND(R425=0,S426=FALSE),FALSE,TRUE)","v":true},{"$f":"IF(AND(S425=0,T426=FALSE),FALSE,TRUE)","v":false},{"$f":"IF(AND(T425=0,U426=FALSE),FALSE,TRUE)","v":false},{"$f":"IF(AND(U425=0,V426=FALSE),FALSE,TRUE)","v":false},{"$f":"IF(V425=0,FALSE,TRUE)","v":false},{"$f":"W425/(1000000/W427)","v":84}]
[null,{"$f":"convnumberletter(C427)","v":"quatre-vingt-quatre"},{"$f":"W426","v":84},null,{"$f":"IF(AND(E$7-1<$Z425,E$7-1>=$AA425),0,E425)","v":1},2,0,0,4,8,7,0,{"$f":"IF(AND(M$7-1<$Z425,M$7-1>=$AA425),0,M425)","v":3},{"$f":"IF(AND(N$7-1<$Z425,N$7-1>=$AA425),0,N425)","v":7},{"$f":"IF(AND(O$7-1<$Z425,O$7-1>=$AA425),0,O425)","v":5},{"$f":"IF(AND(P$7-1<$Z425,P$7-1>=$AA425),0,P425)","v":6},{"$f":"IF(Q426=FALSE,\"\",Q425)","v":8},4,"","","","",{"$f":"SUM(Q428:V428)","v":100}]
[null,{"$f":"IF(C427>1,CONCATENATE(HLOOKUP(C428,$Q$7:$V$9,3,TRUE),\"s\"),HLOOKUP(C428,$Q$7:$V$9,3,TRUE))","v":"centièmes"},{"$f":"W427","v":100},null,null,null,null,null,null,null,null,null,null,null,null,null,{"$f":"IF(AND(R427=\"\",Q427<>\"\"),Q$7,0)","v":0},{"$f":"IF(AND(S427=\"\",R427<>\"\"),R$7,0)","v":100},{"$f":"IF(AND(T427=\"\",S427<>\"\"),S$7,0)","v":0},{"$f":"IF(AND(U427=\"\",T427<>\"\"),T$7,0)","v":0},{"$f":"IF(AND(V427=\"\",U427<>\"\"),U$7,0)","v":0},{"$f":"IF(AND(W428=\"\",V427<>\"\"),V$7,0)","v":0}]
[null,{"$f":"IF($C$8=\"virgule\",CONCATENATE(B426,\" virgule \",B427),CONCATENATE(B426,\"  et \",B427,\" \",B428))","v":"cent vingt milliards quarante-huit millions sept cent trois mille sept cent cinquante-six virgule quatre-vingt-quatre"}]
[null,null,null,null,{"$f":"IF(X430>100000000000,INT(RIGHT($X430,12)/100000000000),0)","v":1},{"$f":"IF(X430>10000000000,INT(RIGHT($X430,11)/10000000000),0)","v":8},{"$f":"IF(X430>1000000000,INT(RIGHT($X430,10)/1000000000),0)","v":8},{"$f":"IF(X430>100000000,INT(RIGHT($X430,9)/100000000),0)","v":7},{"$f":"IF(X430>10000000,INT(RIGHT($X430,8)/10000000),0)","v":1},{"$f":"IF(X430>1000000,INT(RIGHT($X430,7)/1000000),0)","v":8},{"$f":"IF(X430>100000,INT(RIGHT($X430,6)/100000),0)","v":8},{"$f":"IF(X430>10000,INT(RIGHT($X430,5)/10000),0)","v":8},{"$f":"IF(X430>1000,INT(RIGHT($X430,4)/1000),0)","v":2},{"$f":"IF(X430>100,INT(RIGHT($X430,3)/100),0)","v":8},{"$f":"IF(X430>10,INT(RIGHT($X430,2)/10),0)","v":2},{"$f":"INT(RIGHT($X430,1)/1)","v":6},{"$f":"INT(RIGHT($AC430,1))","v":9},{"$f":"INT(RIGHT($AC430,2)/10)","v":4},{"$f":"INT(RIGHT($AC430,3)/100)","v":0},{"$f":"INT(RIGHT($AC430,4)/1000)","v":0},{"$f":"INT(RIGHT($AC430,5)/10000)","v":0},{"$f":"INT(RIGHT($AC430,6)/100000)","v":0},{"$f":"((Q430*100000)+(R430*10000)+(S430*1000)+(T430*100)+(U430*10)+V430)","v":940000},{"$f":"C$3+INT(RAND()*(C$4-C$3+1))","v":188718882826},{"$f":"LEN(X430)","v":12},{"$f":"INT(RAND()*(Y430-C$5))+C$5","v":8},{"$f":"Z430-C$5","v":6},null,{"$f":"INT(RAND()*(POWER(10,$C$7))+1)","v":49},{"$f":"LEN(AC430)","v":2},{"$f":"INT(RAND()*(AD430-H$5))+H$5","v":0},{"$f":"AE430-H$5","v":0}]
[88,{"$f":"convnumberletter(C431)","v":"cent quatre-vingt-huit milliards huit millions huit cent quatre-vingt-deux mille huit cent vingt-six"},{"$f":"(E432*10^E$7)+(F432*10^F$7)+(G432*10^G$7)+(H432*10^H$7)+(I432*10^I$7)+(J432*10^J$7)+(K432*10^K$7)+(L432*10^L$7)+(M432*10^M$7)+(N432*10^N$7)+(O432*10^O$7)+(P432*10^P$7)","v":188008882826},null,{"$f":"IF(Z430=12,TRUE,FALSE)","v":false},{"$f":"IF(Z430=11,TRUE,FALSE)","v":false},{"$f":"IF(Z430=10,TRUE,FALSE)","v":false},{"$f":"IF(Z430=9,TRUE,FALSE)","v":false},{"$f":"IF(Z430=8,TRUE,FALSE)","v":true},{"$f":"IF(Z430=7,TRUE,FALSE)","v":false},{"$f":"IF(Z430=6,TRUE,FALSE)","v":false},{"$f":"IF(Z430=5,TRUE,FALSE)","v":false},{"$f":"IF(Z430=4,TRUE,FALSE)","v":false},{"$f":"IF(Z430=3,TRUE,FALSE)","v":false},{"$f":"IF(Z430=2,TRUE,FALSE)","v":false},{"$f":"IF(Z430=1,TRUE,FALSE)","v":false},{"$f":"IF(AND(Q430=0,R431=FALSE),FALSE,TRUE)","v":true},{"$f":"IF(AND(R430=0,S431=FALSE),FALSE,TRUE)","v":true},{"$f":"IF(AND(S430=0,T431=FALSE),FALSE,TRUE)","v":false},{"$f":"IF(AND(T430=0,U431=FALSE),FALSE,TRUE)","v":false},{"$f":"IF(AND(U430=0,V431=FALSE),FALSE,TRUE)","v":false},{"$f":"IF(V430=0,FALSE,TRUE)","v":false},{"$f":"W430/(1000000/W432)","v":94}]
[null,{"$f":"convnumberletter(C432)","v":"quatre-vingt-quatorze"},{"$f":"W431","v":94},null,{"$f":"IF(AND(E$7-1<$Z430,E$7-1>=$AA430),0,E430)","v":1},8,8,0,0,8,8,8,{"$f":"IF(AND(M$7-1<$Z430,M$7-1>=$AA430),0,M430)","v":2},{"$f":"IF(AND(N$7-1<$Z430,N$7-1>=$AA430),0,N430)","v":8},{"$f":"IF(AND(O$7-1<$Z430,O$7-1>=$AA430),0,O430)","v":2},{"$f":"IF(AND(P$7-1<$Z430,P$7-1>=$AA430),0,P430)","v":6},{"$f":"IF(Q431=FALSE,\"\",Q430)","v":9},4,"","","","",{"$f":"SUM(Q433:V433)","v":100}]
[null,{"$f":"IF(C432>1,CONCATENATE(HLOOKUP(C433,$Q$7:$V$9,3,TRUE),\"s\"),HLOOKUP(C433,$Q$7:$V$9,3,TRUE))","v":"centièmes"},{"$f":"W432","v":100},null,null,null,null,null,null,null,null,null,null,null,null,null,{"$f":"IF(AND(R432=\"\",Q432<>\"\"),Q$7,0)","v":0},{"$f":"IF(AND(S432=\"\",R432<>\"\"),R$7,0)","v":100},{"$f":"IF(AND(T432=\"\",S432<>\"\"),S$7,0)","v":0},{"$f":"IF(AND(U432=\"\",T432<>\"\"),T$7,0)","v":0},{"$f":"IF(AND(V432=\"\",U432<>\"\"),U$7,0)","v":0},{"$f":"IF(AND(W433=\"\",V432<>\"\"),V$7,0)","v":0}]
[null,{"$f":"IF($C$8=\"virgule\",CONCATENATE(B431,\" virgule \",B432),CONCATENATE(B431,\"  et \",B432,\" \",B433))","v":"cent quatre-vingt-huit milliards huit millions huit cent quatre-vingt-deux mille huit cent vingt-six virgule quatre-vingt-quatorze"}]
[null,null,null,null,{"$f":"IF(X435>100000000000,INT(RIGHT($X435,12)/100000000000),0)","v":8},{"$f":"IF(X435>10000000000,INT(RIGHT($X435,11)/10000000000),0)","v":3},{"$f":"IF(X435>1000000000,INT(RIGHT($X435,10)/1000000000),0)","v":2},{"$f":"IF(X435>100000000,INT(RIGHT($X435,9)/100000000),0)","v":3},{"$f":"IF(X435>10000000,INT(RIGHT($X435,8)/10000000),0)","v":1},{"$f":"IF(X435>1000000,INT(RIGHT($X435,7)/1000000),0)","v":9},{"$f":"IF(X435>100000,INT(RIGHT($X435,6)/100000),0)","v":3},{"$f":"IF(X435>10000,INT(RIGHT($X435,5)/10000),0)","v":1},{"$f":"IF(X435>1000,INT(RIGHT($X435,4)/1000),0)","v":8},{"$f":"IF(X435>100,INT(RIGHT($X435,3)/100),0)","v":8},{"$f":"IF(X435>10,INT(RIGHT($X435,2)/10),0)","v":1},{"$f":"INT(RIGHT($X435,1)/1)","v":9},{"$f":"INT(RIGHT($AC435,1))","v":1},{"$f":"INT(RIGHT($AC435,2)/10)","v":5},{"$f":"INT(RIGHT($AC435,3)/100)","v":0},{"$f":"INT(RIGHT($AC435,4)/1000)","v":0},{"$f":"INT(RIGHT($AC435,5)/10000)","v":0},{"$f":"INT(RIGHT($AC435,6)/100000)","v":0},{"$f":"((Q435*100000)+(R435*10000)+(S435*1000)+(T435*100)+(U435*10)+V435)","v":150000},{"$f":"C$3+INT(RAND()*(C$4-C$3+1))","v":832319318819},{"$f":"LEN(X435)","v":12},{"$f":"INT(RAND()*(Y435-C$5))+C$5","v":10},{"$f":"Z435-C$5","v":8},null,{"$f":"INT(RAND()*(POWER(10,$C$7))+1)","v":51},{"$f":"LEN(AC435)","v":2},{"$f":"INT(RAND()*(AD435-H$5))+H$5","v":0},{"$f":"AE435-H$5","v":0}]
[89,{"$f":"convnumberletter(C436)","v":"huit cents milliards trois cent dix-neuf millions trois cent dix-huit mille huit cent dix-neuf"},{"$f":"(E437*10^E$7)+(F437*10^F$7)+(G437*10^G$7)+(H437*10^H$7)+(I437*10^I$7)+(J437*10^J$7)+(K437*10^K$7)+(L437*10^L$7)+(M437*10^M$7)+(N437*10^N$7)+(O437*10^O$7)+(P437*10^P$7)","v":800319318819},null,{"$f":"IF(Z435=12,TRUE,FALSE)","v":false},{"$f":"IF(Z435=11,TRUE,FALSE)","v":false},{"$f":"IF(Z435=10,TRUE,FALSE)","v":true},{"$f":"IF(Z435=9,TRUE,FALSE)","v":false},{"$f":"IF(Z435=8,TRUE,FALSE)","v":false},{"$f":"IF(Z435=7,TRUE,FALSE)","v":false},{"$f":"IF(Z435=6,TRUE,FALSE)","v":false},{"$f":"IF(Z435=5,TRUE,FALSE)","v":false},{"$f":"IF(Z435=4,TRUE,FALSE)","v":false},{"$f":"IF(Z435=3,TRUE,FALSE)","v":false},{"$f":"IF(Z435=2,TRUE,FALSE)","v":false},{"$f":"IF(Z435=1,TRUE,FALSE)","v":false},{"$f":"IF(AND(Q435=0,R436=FALSE),FALSE,TRUE)","v":true},{"$f":"IF(AND(R435=0,S436=FALSE),FALSE,TRUE)","v":true},{"$f":"IF(AND(S435=0,T436=FALSE),FALSE,TRUE)","v":false},{"$f":"IF(AND(T435=0,U436=FALSE),FALSE,TRUE)","v":false},{"$f":"IF(AND(U435=0,V436=FALSE),FALSE,TRUE)","v":false},{"$f":"IF(V435=0,FALSE,TRUE)","v":false},{"$f":"W435/(1000000/W437)","v":15}]
[null,{"$f":"convnumberletter(C437)","v":"quinze"},{"$f":"W436","v":15},null,{"$f":"IF(AND(E$7-1<$Z435,E$7-1>=$AA435),0,E435)","v":8},0,0,3,1,9,3,1,{"$f":"IF(AND(M$7-1<$Z435,M$7-1>=$AA435),0,M435)","v":8},{"$f":"IF(AND(N$7-1<$Z435,N$7-1>=$AA435),0,N435)","v":8},{"$f":"IF(AND(O$7-1<$Z435,O$7-1>=$AA435),0,O435)","v":1},{"$f":"IF(AND(P$7-1<$Z435,P$7-1>=$AA435),0,P435)","v":9},{"$f":"IF(Q436=FALSE,\"\",Q435)","v":1},5,"","","","",{"$f":"SUM(Q438:V438)","v":100}]
[null,{"$f":"IF(C437>1,CONCATENATE(HLOOKUP(C438,$Q$7:$V$9,3,TRUE),\"s\"),HLOOKUP(C438,$Q$7:$V$9,3,TRUE))","v":"centièmes"},{"$f":"W437","v":100},null,null,null,null,null,null,null,null,null,null,null,null,null,{"$f":"IF(AND(R437=\"\",Q437<>\"\"),Q$7,0)","v":0},{"$f":"IF(AND(S437=\"\",R437<>\"\"),R$7,0)","v":100},{"$f":"IF(AND(T437=\"\",S437<>\"\"),S$7,0)","v":0},{"$f":"IF(AND(U437=\"\",T437<>\"\"),T$7,0)","v":0},{"$f":"IF(AND(V437=\"\",U437<>\"\"),U$7,0)","v":0},{"$f":"IF(AND(W438=\"\",V437<>\"\"),V$7,0)","v":0}]
[null,{"$f":"IF($C$8=\"virgule\",CONCATENATE(B436,\" virgule \",B437),CONCATENATE(B436,\"  et \",B437,\" \",B438))","v":"huit cents milliards trois cent dix-neuf millions trois cent dix-huit mille huit cent dix-neuf virgule quinze"}]
[null,null,null,null,{"$f":"IF(X440>100000000000,INT(RIGHT($X440,12)/100000000000),0)","v":4},{"$f":"IF(X440>10000000000,INT(RIGHT($X440,11)/10000000000),0)","v":5},{"$f":"IF(X440>1000000000,INT(RIGHT($X440,10)/1000000000),0)","v":3},{"$f":"IF(X440>100000000,INT(RIGHT($X440,9)/100000000),0)","v":4},{"$f":"IF(X440>10000000,INT(RIGHT($X440,8)/10000000),0)","v":1},{"$f":"IF(X440>1000000,INT(RIGHT($X440,7)/1000000),0)","v":7},{"$f":"IF(X440>100000,INT(RIGHT($X440,6)/100000),0)","v":9},{"$f":"IF(X440>10000,INT(RIGHT($X440,5)/10000),0)","v":5},{"$f":"IF(X440>1000,INT(RIGHT($X440,4)/1000),0)","v":7},{"$f":"IF(X440>100,INT(RIGHT($X440,3)/100),0)","v":8},{"$f":"IF(X440>10,INT(RIGHT($X440,2)/10),0)","v":9},{"$f":"INT(RIGHT($X440,1)/1)","v":1},{"$f":"INT(RIGHT($AC440,1))","v":8},{"$f":"INT(RIGHT($AC440,2)/10)","v":0},{"$f":"INT(RIGHT($AC440,3)/100)","v":0},{"$f":"INT(RIGHT($AC440,4)/1000)","v":0},{"$f":"INT(RIGHT($AC440,5)/10000)","v":0},{"$f":"INT(RIGHT($AC440,6)/100000)","v":0},{"$f":"((Q440*100000)+(R440*10000)+(S440*1000)+(T440*100)+(U440*10)+V440)","v":800000},{"$f":"C$3+INT(RAND()*(C$4-C$3+1))","v":453417957891},{"$f":"LEN(X440)","v":12},{"$f":"INT(RAND()*(Y440-C$5))+C$5","v":9},{"$f":"Z440-C$5","v":7},null,{"$f":"INT(RAND()*(POWER(10,$C$7))+1)","v":8},{"$f":"LEN(AC440)","v":1},{"$f":"INT(RAND()*(AD440-H$5))+H$5","v":0},{"$f":"AE440-H$5","v":0}]
[90,{"$f":"convnumberletter(C441)","v":"quatre cent cinquante milliards dix-sept millions neuf cent cinquante-sept mille huit cent quatre-vingt-onze"},{"$f":"(E442*10^E$7)+(F442*10^F$7)+(G442*10^G$7)+(H442*10^H$7)+(I442*10^I$7)+(J442*10^J$7)+(K442*10^K$7)+(L442*10^L$7)+(M442*10^M$7)+(N442*10^N$7)+(O442*10^O$7)+(P442*10^P$7)","v":450017957891},null,{"$f":"IF(Z440=12,TRUE,FALSE)","v":false},{"$f":"IF(Z440=11,TRUE,FALSE)","v":false},{"$f":"IF(Z440=10,TRUE,FALSE)","v":false},{"$f":"IF(Z440=9,TRUE,FALSE)","v":true},{"$f":"IF(Z440=8,TRUE,FALSE)","v":false},{"$f":"IF(Z440=7,TRUE,FALSE)","v":false},{"$f":"IF(Z440=6,TRUE,FALSE)","v":false},{"$f":"IF(Z440=5,TRUE,FALSE)","v":false},{"$f":"IF(Z440=4,TRUE,FALSE)","v":false},{"$f":"IF(Z440=3,TRUE,FALSE)","v":false},{"$f":"IF(Z440=2,TRUE,FALSE)","v":false},{"$f":"IF(Z440=1,TRUE,FALSE)","v":false},{"$f":"IF(AND(Q440=0,R441=FALSE),FALSE,TRUE)","v":true},{"$f":"IF(AND(R440=0,S441=FALSE),FALSE,TRUE)","v":false},{"$f":"IF(AND(S440=0,T441=FALSE),FALSE,TRUE)","v":false},{"$f":"IF(AND(T440=0,U441=FALSE),FALSE,TRUE)","v":false},{"$f":"IF(AND(U440=0,V441=FALSE),FALSE,TRUE)","v":false},{"$f":"IF(V440=0,FALSE,TRUE)","v":false},{"$f":"W440/(1000000/W442)","v":8}]
[null,{"$f":"convnumberletter(C442)","v":"huit"},{"$f":"W441","v":8},null,{"$f":"IF(AND(E$7-1<$Z440,E$7-1>=$AA440),0,E440)","v":4},5,0,0,1,7,9,5,{"$f":"IF(AND(M$7-1<$Z440,M$7-1>=$AA440),0,M440)","v":7},{"$f":"IF(AND(N$7-1<$Z440,N$7-1>=$AA440),0,N440)","v":8},{"$f":"IF(AND(O$7-1<$Z440,O$7-1>=$AA440),0,O440)","v":9},{"$f":"IF(AND(P$7-1<$Z440,P$7-1>=$AA440),0,P440)","v":1},{"$f":"IF(Q441=FALSE,\"\",Q440)","v":8},"","","","","",{"$f":"SUM(Q443:V443)","v":10}]
[null,{"$f":"IF(C442>1,CONCATENATE(HLOOKUP(C443,$Q$7:$V$9,3,TRUE),\"s\"),HLOOKUP(C443,$Q$7:$V$9,3,TRUE))","v":"dixièmes"},{"$f":"W442","v":10},null,null,null,null,null,null,null,null,null,null,null,null,null,{"$f":"IF(AND(R442=\"\",Q442<>\"\"),Q$7,0)","v":10},{"$f":"IF(AND(S442=\"\",R442<>\"\"),R$7,0)","v":0},{"$f":"IF(AND(T442=\"\",S442<>\"\"),S$7,0)","v":0},{"$f":"IF(AND(U442=\"\",T442<>\"\"),T$7,0)","v":0},{"$f":"IF(AND(V442=\"\",U442<>\"\"),U$7,0)","v":0},{"$f":"IF(AND(W443=\"\",V442<>\"\"),V$7,0)","v":0}]
[null,{"$f":"IF($C$8=\"virgule\",CONCATENATE(B441,\" virgule \",B442),CONCATENATE(B441,\"  et \",B442,\" \",B443))","v":"quatre cent cinquante milliards dix-sept millions neuf cent cinquante-sept mille huit cent quatre-vingt-onze virgule huit"}]
[null,null,null,null,{"$f":"IF(X445>100000000000,INT(RIGHT($X445,12)/100000000000),0)","v":8},{"$f":"IF(X445>10000000000,INT(RIGHT($X445,11)/10000000000),0)","v":7},{"$f":"IF(X445>1000000000,INT(RIGHT($X445,10)/1000000000),0)","v":3},{"$f":"IF(X445>100000000,INT(RIGHT($X445,9)/100000000),0)","v":0},{"$f":"IF(X445>10000000,INT(RIGHT($X445,8)/10000000),0)","v":2},{"$f":"IF(X445>1000000,INT(RIGHT($X445,7)/1000000),0)","v":9},{"$f":"IF(X445>100000,INT(RIGHT($X445,6)/100000),0)","v":5},{"$f":"IF(X445>10000,INT(RIGHT($X445,5)/10000),0)","v":7},{"$f":"IF(X445>1000,INT(RIGHT($X445,4)/1000),0)","v":9},{"$f":"IF(X445>100,INT(RIGHT($X445,3)/100),0)","v":5},{"$f":"IF(X445>10,INT(RIGHT($X445,2)/10),0)","v":1},{"$f":"INT(RIGHT($X445,1)/1)","v":7},{"$f":"INT(RIGHT($AC445,1))","v":8},{"$f":"INT(RIGHT($AC445,2)/10)","v":8},{"$f":"INT(RIGHT($AC445,3)/100)","v":0},{"$f":"INT(RIGHT($AC445,4)/1000)","v":0},{"$f":"INT(RIGHT($AC445,5)/10000)","v":0},{"$f":"INT(RIGHT($AC445,6)/100000)","v":0},{"$f":"((Q445*100000)+(R445*10000)+(S445*1000)+(T445*100)+(U445*10)+V445)","v":880000},{"$f":"C$3+INT(RAND()*(C$4-C$3+1))","v":873029579517},{"$f":"LEN(X445)","v":12},{"$f":"INT(RAND()*(Y445-C$5))+C$5","v":5},{"$f":"Z445-C$5","v":3},null,{"$f":"INT(RAND()*(POWER(10,$C$7))+1)","v":88},{"$f":"LEN(AC445)","v":2},{"$f":"INT(RAND()*(AD445-H$5))+H$5","v":1},{"$f":"AE445-H$5","v":1}]
[91,{"$f":"convnumberletter(C446)","v":"huit cent soixante-treize milliards vingt-neuf millions neuf mille cinq cent dix-sept"},{"$f":"(E447*10^E$7)+(F447*10^F$7)+(G447*10^G$7)+(H447*10^H$7)+(I447*10^I$7)+(J447*10^J$7)+(K447*10^K$7)+(L447*10^L$7)+(M447*10^M$7)+(N447*10^N$7)+(O447*10^O$7)+(P447*10^P$7)","v":873029009517},null,{"$f":"IF(Z445=12,TRUE,FALSE)","v":false},{"$f":"IF(Z445=11,TRUE,FALSE)","v":false},{"$f":"IF(Z445=10,TRUE,FALSE)","v":false},{"$f":"IF(Z445=9,TRUE,FALSE)","v":false},{"$f":"IF(Z445=8,TRUE,FALSE)","v":false},{"$f":"IF(Z445=7,TRUE,FALSE)","v":false},{"$f":"IF(Z445=6,TRUE,FALSE)","v":false},{"$f":"IF(Z445=5,TRUE,FALSE)","v":true},{"$f":"IF(Z445=4,TRUE,FALSE)","v":false},{"$f":"IF(Z445=3,TRUE,FALSE)","v":false},{"$f":"IF(Z445=2,TRUE,FALSE)","v":false},{"$f":"IF(Z445=1,TRUE,FALSE)","v":false},{"$f":"IF(AND(Q445=0,R446=FALSE),FALSE,TRUE)","v":true},{"$f":"IF(AND(R445=0,S446=FALSE),FALSE,TRUE)","v":true},{"$f":"IF(AND(S445=0,T446=FALSE),FALSE,TRUE)","v":false},{"$f":"IF(AND(T445=0,U446=FALSE),FALSE,TRUE)","v":false},{"$f":"IF(AND(U445=0,V446=FALSE),FALSE,TRUE)","v":false},{"$f":"IF(V445=0,FALSE,TRUE)","v":false},{"$f":"W445/(1000000/W447)","v":88}]
[null,{"$f":"convnumberletter(C447)","v":"quatre-vingt-huit"},{"$f":"W446","v":88},null,{"$f":"IF(AND(E$7-1<$Z445,E$7-1>=$AA445),0,E445)","v":8},7,3,0,2,9,0,0,{"$f":"IF(AND(M$7-1<$Z445,M$7-1>=$AA445),0,M445)","v":9},{"$f":"IF(AND(N$7-1<$Z445,N$7-1>=$AA445),0,N445)","v":5},{"$f":"IF(AND(O$7-1<$Z445,O$7-1>=$AA445),0,O445)","v":1},{"$f":"IF(AND(P$7-1<$Z445,P$7-1>=$AA445),0,P445)","v":7},{"$f":"IF(Q446=FALSE,\"\",Q445)","v":8},8,"","","","",{"$f":"SUM(Q448:V448)","v":100}]
[92,{"$f":"IF(C447>1,CONCATENATE(HLOOKUP(C448,$Q$7:$V$9,3,TRUE),\"s\"),HLOOKUP(C448,$Q$7:$V$9,3,TRUE))","v":"centièmes"},{"$f":"W447","v":100},null,null,null,null,null,null,null,null,null,null,null,null,null,{"$f":"IF(AND(R447=\"\",Q447<>\"\"),Q$7,0)","v":0},{"$f":"IF(AND(S447=\"\",R447<>\"\"),R$7,0)","v":100},{"$f":"IF(AND(T447=\"\",S447<>\"\"),S$7,0)","v":0},{"$f":"IF(AND(U447=\"\",T447<>\"\"),T$7,0)","v":0},{"$f":"IF(AND(V447=\"\",U447<>\"\"),U$7,0)","v":0},{"$f":"IF(AND(W448=\"\",V447<>\"\"),V$7,0)","v":0}]
[null,{"$f":"IF($C$8=\"virgule\",CONCATENATE(B446,\" virgule \",B447),CONCATENATE(B446,\"  et \",B447,\" \",B448))","v":"huit cent soixante-treize milliards vingt-neuf millions neuf mille cinq cent dix-sept virgule quatre-vingt-huit"}]
[null,null,null,null,{"$f":"IF(X450>100000000000,INT(RIGHT($X450,12)/100000000000),0)","v":3},{"$f":"IF(X450>10000000000,INT(RIGHT($X450,11)/10000000000),0)","v":6},{"$f":"IF(X450>1000000000,INT(RIGHT($X450,10)/1000000000),0)","v":1},{"$f":"IF(X450>100000000,INT(RIGHT($X450,9)/100000000),0)","v":5},{"$f":"IF(X450>10000000,INT(RIGHT($X450,8)/10000000),0)","v":0},{"$f":"IF(X450>1000000,INT(RIGHT($X450,7)/1000000),0)","v":6},{"$f":"IF(X450>100000,INT(RIGHT($X450,6)/100000),0)","v":7},{"$f":"IF(X450>10000,INT(RIGHT($X450,5)/10000),0)","v":9},{"$f":"IF(X450>1000,INT(RIGHT($X450,4)/1000),0)","v":7},{"$f":"IF(X450>100,INT(RIGHT($X450,3)/100),0)","v":8},{"$f":"IF(X450>10,INT(RIGHT($X450,2)/10),0)","v":4},{"$f":"INT(RIGHT($X450,1)/1)","v":1},{"$f":"INT(RIGHT($AC450,1))","v":9},{"$f":"INT(RIGHT($AC450,2)/10)","v":0},{"$f":"INT(RIGHT($AC450,3)/100)","v":0},{"$f":"INT(RIGHT($AC450,4)/1000)","v":0},{"$f":"INT(RIGHT($AC450,5)/10000)","v":0},{"$f":"INT(RIGHT($AC450,6)/100000)","v":0},{"$f":"((Q450*100000)+(R450*10000)+(S450*1000)+(T450*100)+(U450*10)+V450)","v":900000},{"$f":"C$3+INT(RAND()*(C$4-C$3+1))","v":361506797841},{"$f":"LEN(X450)","v":12},{"$f":"INT(RAND()*(Y450-C$5))+C$5","v":3},{"$f":"Z450-C$5","v":1},null,{"$f":"INT(RAND()*(POWER(10,$C$7))+1)","v":9},{"$f":"LEN(AC450)","v":1},{"$f":"INT(RAND()*(AD450-H$5))+H$5","v":0},{"$f":"AE450-H$5","v":0}]
[null,{"$f":"convnumberletter(C451)","v":"trois cent soixante et un milliards cinq cent six millions sept cent quatre-vingt-dix mille quarante et un"},{"$f":"(E452*10^E$7)+(F452*10^F$7)+(G452*10^G$7)+(H452*10^H$7)+(I452*10^I$7)+(J452*10^J$7)+(K452*10^K$7)+(L452*10^L$7)+(M452*10^M$7)+(N452*10^N$7)+(O452*10^O$7)+(P452*10^P$7)","v":361506790041},null,{"$f":"IF(Z450=12,TRUE,FALSE)","v":false},{"$f":"IF(Z450=11,TRUE,FALSE)","v":false},{"$f":"IF(Z450=10,TRUE,FALSE)","v":false},{"$f":"IF(Z450=9,TRUE,FALSE)","v":false},{"$f":"IF(Z450=8,TRUE,FALSE)","v":false},{"$f":"IF(Z450=7,TRUE,FALSE)","v":false},{"$f":"IF(Z450=6,TRUE,FALSE)","v":false},{"$f":"IF(Z450=5,TRUE,FALSE)","v":false},{"$f":"IF(Z450=4,TRUE,FALSE)","v":false},{"$f":"IF(Z450=3,TRUE,FALSE)","v":true},{"$f":"IF(Z450=2,TRUE,FALSE)","v":false},{"$f":"IF(Z450=1,TRUE,FALSE)","v":false},{"$f":"IF(AND(Q450=0,R451=FALSE),FALSE,TRUE)","v":true},{"$f":"IF(AND(R450=0,S451=FALSE),FALSE,TRUE)","v":false},{"$f":"IF(AND(S450=0,T451=FALSE),FALSE,TRUE)","v":false},{"$f":"IF(AND(T450=0,U451=FALSE),FALSE,TRUE)","v":false},{"$f":"IF(AND(U450=0,V451=FALSE),FALSE,TRUE)","v":false},{"$f":"IF(V450=0,FALSE,TRUE)","v":false},{"$f":"W450/(1000000/W452)","v":9}]
[null,{"$f":"convnumberletter(C452)","v":"neuf"},{"$f":"W451","v":9},null,{"$f":"IF(AND(E$7-1<$Z450,E$7-1>=$AA450),0,E450)","v":3},6,1,5,0,6,7,9,{"$f":"IF(AND(M$7-1<$Z450,M$7-1>=$AA450),0,M450)","v":0},{"$f":"IF(AND(N$7-1<$Z450,N$7-1>=$AA450),0,N450)","v":0},{"$f":"IF(AND(O$7-1<$Z450,O$7-1>=$AA450),0,O450)","v":4},{"$f":"IF(AND(P$7-1<$Z450,P$7-1>=$AA450),0,P450)","v":1},{"$f":"IF(Q451=FALSE,\"\",Q450)","v":9},"","","","","",{"$f":"SUM(Q453:V453)","v":10}]
[93,{"$f":"IF(C452>1,CONCATENATE(HLOOKUP(C453,$Q$7:$V$9,3,TRUE),\"s\"),HLOOKUP(C453,$Q$7:$V$9,3,TRUE))","v":"dixièmes"},{"$f":"W452","v":10},null,null,null,null,null,null,null,null,null,null,null,null,null,{"$f":"IF(AND(R452=\"\",Q452<>\"\"),Q$7,0)","v":10},{"$f":"IF(AND(S452=\"\",R452<>\"\"),R$7,0)","v":0},{"$f":"IF(AND(T452=\"\",S452<>\"\"),S$7,0)","v":0},{"$f":"IF(AND(U452=\"\",T452<>\"\"),T$7,0)","v":0},{"$f":"IF(AND(V452=\"\",U452<>\"\"),U$7,0)","v":0},{"$f":"IF(AND(W453=\"\",V452<>\"\"),V$7,0)","v":0}]
[null,{"$f":"IF($C$8=\"virgule\",CONCATENATE(B451,\" virgule \",B452),CONCATENATE(B451,\"  et \",B452,\" \",B453))","v":"trois cent soixante et un milliards cinq cent six millions sept cent quatre-vingt-dix mille quarante et un virgule neuf"}]
[null,null,null,null,{"$f":"IF(X455>100000000000,INT(RIGHT($X455,12)/100000000000),0)","v":1},{"$f":"IF(X455>10000000000,INT(RIGHT($X455,11)/10000000000),0)","v":6},{"$f":"IF(X455>1000000000,INT(RIGHT($X455,10)/1000000000),0)","v":8},{"$f":"IF(X455>100000000,INT(RIGHT($X455,9)/100000000),0)","v":2},{"$f":"IF(X455>10000000,INT(RIGHT($X455,8)/10000000),0)","v":4},{"$f":"IF(X455>1000000,INT(RIGHT($X455,7)/1000000),0)","v":2},{"$f":"IF(X455>100000,INT(RIGHT($X455,6)/100000),0)","v":5},{"$f":"IF(X455>10000,INT(RIGHT($X455,5)/10000),0)","v":3},{"$f":"IF(X455>1000,INT(RIGHT($X455,4)/1000),0)","v":4},{"$f":"IF(X455>100,INT(RIGHT($X455,3)/100),0)","v":6},{"$f":"IF(X455>10,INT(RIGHT($X455,2)/10),0)","v":3},{"$f":"INT(RIGHT($X455,1)/1)","v":7},{"$f":"INT(RIGHT($AC455,1))","v":1},{"$f":"INT(RIGHT($AC455,2)/10)","v":6},{"$f":"INT(RIGHT($AC455,3)/100)","v":0},{"$f":"INT(RIGHT($AC455,4)/1000)","v":0},{"$f":"INT(RIGHT($AC455,5)/10000)","v":0},{"$f":"INT(RIGHT($AC455,6)/100000)","v":0},{"$f":"((Q455*100000)+(R455*10000)+(S455*1000)+(T455*100)+(U455*10)+V455)","v":160000},{"$f":"C$3+INT(RAND()*(C$4-C$3+1))","v":168242534637},{"$f":"LEN(X455)","v":12},{"$f":"INT(RAND()*(Y455-C$5))+C$5","v":7},{"$f":"Z455-C$5","v":5},null,{"$f":"INT(RAND()*(POWER(10,$C$7))+1)","v":61},{"$f":"LEN(AC455)","v":2},{"$f":"INT(RAND()*(AD455-H$5))+H$5","v":1},{"$f":"AE455-H$5","v":1}]
[null,{"$f":"convnumberletter(C456)","v":"cent soixante-huit milliards deux cents millions cinq cent trente-quatre mille six cent trente-sept"},{"$f":"(E457*10^E$7)+(F457*10^F$7)+(G457*10^G$7)+(H457*10^H$7)+(I457*10^I$7)+(J457*10^J$7)+(K457*10^K$7)+(L457*10^L$7)+(M457*10^M$7)+(N457*10^N$7)+(O457*10^O$7)+(P457*10^P$7)","v":168200534637},null,{"$f":"IF(Z455=12,TRUE,FALSE)","v":false},{"$f":"IF(Z455=11,TRUE,FALSE)","v":false},{"$f":"IF(Z455=10,TRUE,FALSE)","v":false},{"$f":"IF(Z455=9,TRUE,FALSE)","v":false},{"$f":"IF(Z455=8,TRUE,FALSE)","v":false},{"$f":"IF(Z455=7,TRUE,FALSE)","v":true},{"$f":"IF(Z455=6,TRUE,FALSE)","v":false},{"$f":"IF(Z455=5,TRUE,FALSE)","v":false},{"$f":"IF(Z455=4,TRUE,FALSE)","v":false},{"$f":"IF(Z455=3,TRUE,FALSE)","v":false},{"$f":"IF(Z455=2,TRUE,FALSE)","v":false},{"$f":"IF(Z455=1,TRUE,FALSE)","v":false},{"$f":"IF(AND(Q455=0,R456=FALSE),FALSE,TRUE)","v":true},{"$f":"IF(AND(R455=0,S456=FALSE),FALSE,TRUE)","v":true},{"$f":"IF(AND(S455=0,T456=FALSE),FALSE,TRUE)","v":false},{"$f":"IF(AND(T455=0,U456=FALSE),FALSE,TRUE)","v":false},{"$f":"IF(AND(U455=0,V456=FALSE),FALSE,TRUE)","v":false},{"$f":"IF(V455=0,FALSE,TRUE)","v":false},{"$f":"W455/(1000000/W457)","v":16}]
[null,{"$f":"convnumberletter(C457)","v":"seize"},{"$f":"W456","v":16},null,{"$f":"IF(AND(E$7-1<$Z455,E$7-1>=$AA455),0,E455)","v":1},6,8,2,0,0,5,3,{"$f":"IF(AND(M$7-1<$Z455,M$7-1>=$AA455),0,M455)","v":4},{"$f":"IF(AND(N$7-1<$Z455,N$7-1>=$AA455),0,N455)","v":6},{"$f":"IF(AND(O$7-1<$Z455,O$7-1>=$AA455),0,O455)","v":3},{"$f":"IF(AND(P$7-1<$Z455,P$7-1>=$AA455),0,P455)","v":7},{"$f":"IF(Q456=FALSE,\"\",Q455)","v":1},6,"","","","",{"$f":"SUM(Q458:V458)","v":100}]
[94,{"$f":"IF(C457>1,CONCATENATE(HLOOKUP(C458,$Q$7:$V$9,3,TRUE),\"s\"),HLOOKUP(C458,$Q$7:$V$9,3,TRUE))","v":"centièmes"},{"$f":"W457","v":100},null,null,null,null,null,null,null,null,null,null,null,null,null,{"$f":"IF(AND(R457=\"\",Q457<>\"\"),Q$7,0)","v":0},{"$f":"IF(AND(S457=\"\",R457<>\"\"),R$7,0)","v":100},{"$f":"IF(AND(T457=\"\",S457<>\"\"),S$7,0)","v":0},{"$f":"IF(AND(U457=\"\",T457<>\"\"),T$7,0)","v":0},{"$f":"IF(AND(V457=\"\",U457<>\"\"),U$7,0)","v":0},{"$f":"IF(AND(W458=\"\",V457<>\"\"),V$7,0)","v":0}]
[null,{"$f":"IF($C$8=\"virgule\",CONCATENATE(B456,\" virgule \",B457),CONCATENATE(B456,\"  et \",B457,\" \",B458))","v":"cent soixante-huit milliards deux cents millions cinq cent trente-quatre mille six cent trente-sept virgule seize"}]
[null,null,null,null,{"$f":"IF(X460>100000000000,INT(RIGHT($X460,12)/100000000000),0)","v":0},{"$f":"IF(X460>10000000000,INT(RIGHT($X460,11)/10000000000),0)","v":7},{"$f":"IF(X460>1000000000,INT(RIGHT($X460,10)/1000000000),0)","v":9},{"$f":"IF(X460>100000000,INT(RIGHT($X460,9)/100000000),0)","v":9},{"$f":"IF(X460>10000000,INT(RIGHT($X460,8)/10000000),0)","v":8},{"$f":"IF(X460>1000000,INT(RIGHT($X460,7)/1000000),0)","v":9},{"$f":"IF(X460>100000,INT(RIGHT($X460,6)/100000),0)","v":8},{"$f":"IF(X460>10000,INT(RIGHT($X460,5)/10000),0)","v":8},{"$f":"IF(X460>1000,INT(RIGHT($X460,4)/1000),0)","v":1},{"$f":"IF(X460>100,INT(RIGHT($X460,3)/100),0)","v":4},{"$f":"IF(X460>10,INT(RIGHT($X460,2)/10),0)","v":5},{"$f":"INT(RIGHT($X460,1)/1)","v":7},{"$f":"INT(RIGHT($AC460,1))","v":1},{"$f":"INT(RIGHT($AC460,2)/10)","v":2},{"$f":"INT(RIGHT($AC460,3)/100)","v":0},{"$f":"INT(RIGHT($AC460,4)/1000)","v":0},{"$f":"INT(RIGHT($AC460,5)/10000)","v":0},{"$f":"INT(RIGHT($AC460,6)/100000)","v":0},{"$f":"((Q460*100000)+(R460*10000)+(S460*1000)+(T460*100)+(U460*10)+V460)","v":120000},{"$f":"C$3+INT(RAND()*(C$4-C$3+1))","v":79989881457},{"$f":"LEN(X460)","v":11},{"$f":"INT(RAND()*(Y460-C$5))+C$5","v":10},{"$f":"Z460-C$5","v":8},null,{"$f":"INT(RAND()*(POWER(10,$C$7))+1)","v":21},{"$f":"LEN(AC460)","v":2},{"$f":"INT(RAND()*(AD460-H$5))+H$5","v":0},{"$f":"AE460-H$5","v":0}]
[null,{"$f":"convnumberletter(C461)","v":"neuf cent quatre-vingt-neuf millions huit cent quatre-vingt-un mille quatre cent cinquante-sept"},{"$f":"(E462*10^E$7)+(F462*10^F$7)+(G462*10^G$7)+(H462*10^H$7)+(I462*10^I$7)+(J462*10^J$7)+(K462*10^K$7)+(L462*10^L$7)+(M462*10^M$7)+(N462*10^N$7)+(O462*10^O$7)+(P462*10^P$7)","v":989881457},null,{"$f":"IF(Z460=12,TRUE,FALSE)","v":false},{"$f":"IF(Z460=11,TRUE,FALSE)","v":false},{"$f":"IF(Z460=10,TRUE,FALSE)","v":true},{"$f":"IF(Z460=9,TRUE,FALSE)","v":false},{"$f":"IF(Z460=8,TRUE,FALSE)","v":false},{"$f":"IF(Z460=7,TRUE,FALSE)","v":false},{"$f":"IF(Z460=6,TRUE,FALSE)","v":false},{"$f":"IF(Z460=5,TRUE,FALSE)","v":false},{"$f":"IF(Z460=4,TRUE,FALSE)","v":false},{"$f":"IF(Z460=3,TRUE,FALSE)","v":false},{"$f":"IF(Z460=2,TRUE,FALSE)","v":false},{"$f":"IF(Z460=1,TRUE,FALSE)","v":false},{"$f":"IF(AND(Q460=0,R461=FALSE),FALSE,TRUE)","v":true},{"$f":"IF(AND(R460=0,S461=FALSE),FALSE,TRUE)","v":true},{"$f":"IF(AND(S460=0,T461=FALSE),FALSE,TRUE)","v":false},{"$f":"IF(AND(T460=0,U461=FALSE),FALSE,TRUE)","v":false},{"$f":"IF(AND(U460=0,V461=FALSE),FALSE,TRUE)","v":false},{"$f":"IF(V460=0,FALSE,TRUE)","v":false},{"$f":"W460/(1000000/W462)","v":12}]
[null,{"$f":"convnumberletter(C462)","v":"douze"},{"$f":"W461","v":12},null,{"$f":"IF(AND(E$7-1<$Z460,E$7-1>=$AA460),0,E460)","v":0},0,0,9,8,9,8,8,{"$f":"IF(AND(M$7-1<$Z460,M$7-1>=$AA460),0,M460)","v":1},{"$f":"IF(AND(N$7-1<$Z460,N$7-1>=$AA460),0,N460)","v":4},{"$f":"IF(AND(O$7-1<$Z460,O$7-1>=$AA460),0,O460)","v":5},{"$f":"IF(AND(P$7-1<$Z460,P$7-1>=$AA460),0,P460)","v":7},{"$f":"IF(Q461=FALSE,\"\",Q460)","v":1},2,"","","","",{"$f":"SUM(Q463:V463)","v":100}]
[95,{"$f":"IF(C462>1,CONCATENATE(HLOOKUP(C463,$Q$7:$V$9,3,TRUE),\"s\"),HLOOKUP(C463,$Q$7:$V$9,3,TRUE))","v":"centièmes"},{"$f":"W462","v":100},null,null,null,null,null,null,null,null,null,null,null,null,null,{"$f":"IF(AND(R462=\"\",Q462<>\"\"),Q$7,0)","v":0},{"$f":"IF(AND(S462=\"\",R462<>\"\"),R$7,0)","v":100},{"$f":"IF(AND(T462=\"\",S462<>\"\"),S$7,0)","v":0},{"$f":"IF(AND(U462=\"\",T462<>\"\"),T$7,0)","v":0},{"$f":"IF(AND(V462=\"\",U462<>\"\"),U$7,0)","v":0},{"$f":"IF(AND(W463=\"\",V462<>\"\"),V$7,0)","v":0}]
[null,{"$f":"IF($C$8=\"virgule\",CONCATENATE(B461,\" virgule \",B462),CONCATENATE(B461,\"  et \",B462,\" \",B463))","v":"neuf cent quatre-vingt-neuf millions huit cent quatre-vingt-un mille quatre cent cinquante-sept virgule douze"}]
[null,null,null,null,{"$f":"IF(X465>100000000000,INT(RIGHT($X465,12)/100000000000),0)","v":8},{"$f":"IF(X465>10000000000,INT(RIGHT($X465,11)/10000000000),0)","v":2},{"$f":"IF(X465>1000000000,INT(RIGHT($X465,10)/1000000000),0)","v":2},{"$f":"IF(X465>100000000,INT(RIGHT($X465,9)/100000000),0)","v":6},{"$f":"IF(X465>10000000,INT(RIGHT($X465,8)/10000000),0)","v":9},{"$f":"IF(X465>1000000,INT(RIGHT($X465,7)/1000000),0)","v":0},{"$f":"IF(X465>100000,INT(RIGHT($X465,6)/100000),0)","v":3},{"$f":"IF(X465>10000,INT(RIGHT($X465,5)/10000),0)","v":9},{"$f":"IF(X465>1000,INT(RIGHT($X465,4)/1000),0)","v":3},{"$f":"IF(X465>100,INT(RIGHT($X465,3)/100),0)","v":6},{"$f":"IF(X465>10,INT(RIGHT($X465,2)/10),0)","v":0},{"$f":"INT(RIGHT($X465,1)/1)","v":1},{"$f":"INT(RIGHT($AC465,1))","v":5},{"$f":"INT(RIGHT($AC465,2)/10)","v":0},{"$f":"INT(RIGHT($AC465,3)/100)","v":0},{"$f":"INT(RIGHT($AC465,4)/1000)","v":0},{"$f":"INT(RIGHT($AC465,5)/10000)","v":0},{"$f":"INT(RIGHT($AC465,6)/100000)","v":0},{"$f":"((Q465*100000)+(R465*10000)+(S465*1000)+(T465*100)+(U465*10)+V465)","v":500000},{"$f":"C$3+INT(RAND()*(C$4-C$3+1))","v":822690393601},{"$f":"LEN(X465)","v":12},{"$f":"INT(RAND()*(Y465-C$5))+C$5","v":4},{"$f":"Z465-C$5","v":2},null,{"$f":"INT(RAND()*(POWER(10,$C$7))+1)","v":5},{"$f":"LEN(AC465)","v":1},{"$f":"INT(RAND()*(AD465-H$5))+H$5","v":0},{"$f":"AE465-H$5","v":0}]
[null,{"$f":"convnumberletter(C466)","v":"huit cent vingt-deux milliards six cent quatre-vingt-dix millions trois cents mille six cent un"},{"$f":"(E467*10^E$7)+(F467*10^F$7)+(G467*10^G$7)+(H467*10^H$7)+(I467*10^I$7)+(J467*10^J$7)+(K467*10^K$7)+(L467*10^L$7)+(M467*10^M$7)+(N467*10^N$7)+(O467*10^O$7)+(P467*10^P$7)","v":822690300601},null,{"$f":"IF(Z465=12,TRUE,FALSE)","v":false},{"$f":"IF(Z465=11,TRUE,FALSE)","v":false},{"$f":"IF(Z465=10,TRUE,FALSE)","v":false},{"$f":"IF(Z465=9,TRUE,FALSE)","v":false},{"$f":"IF(Z465=8,TRUE,FALSE)","v":false},{"$f":"IF(Z465=7,TRUE,FALSE)","v":false},{"$f":"IF(Z465=6,TRUE,FALSE)","v":false},{"$f":"IF(Z465=5,TRUE,FALSE)","v":false},{"$f":"IF(Z465=4,TRUE,FALSE)","v":true},{"$f":"IF(Z465=3,TRUE,FALSE)","v":false},{"$f":"IF(Z465=2,TRUE,FALSE)","v":false},{"$f":"IF(Z465=1,TRUE,FALSE)","v":false},{"$f":"IF(AND(Q465=0,R466=FALSE),FALSE,TRUE)","v":true},{"$f":"IF(AND(R465=0,S466=FALSE),FALSE,TRUE)","v":false},{"$f":"IF(AND(S465=0,T466=FALSE),FALSE,TRUE)","v":false},{"$f":"IF(AND(T465=0,U466=FALSE),FALSE,TRUE)","v":false},{"$f":"IF(AND(U465=0,V466=FALSE),FALSE,TRUE)","v":false},{"$f":"IF(V465=0,FALSE,TRUE)","v":false},{"$f":"W465/(1000000/W467)","v":5}]
[null,{"$f":"convnumberletter(C467)","v":"cinq"},{"$f":"W466","v":5},null,{"$f":"IF(AND(E$7-1<$Z465,E$7-1>=$AA465),0,E465)","v":8},2,2,6,9,0,3,0,{"$f":"IF(AND(M$7-1<$Z465,M$7-1>=$AA465),0,M465)","v":0},{"$f":"IF(AND(N$7-1<$Z465,N$7-1>=$AA465),0,N465)","v":6},{"$f":"IF(AND(O$7-1<$Z465,O$7-1>=$AA465),0,O465)","v":0},{"$f":"IF(AND(P$7-1<$Z465,P$7-1>=$AA465),0,P465)","v":1},{"$f":"IF(Q466=FALSE,\"\",Q465)","v":5},"","","","","",{"$f":"SUM(Q468:V468)","v":10}]
[96,{"$f":"IF(C467>1,CONCATENATE(HLOOKUP(C468,$Q$7:$V$9,3,TRUE),\"s\"),HLOOKUP(C468,$Q$7:$V$9,3,TRUE))","v":"dixièmes"},{"$f":"W467","v":10},null,null,null,null,null,null,null,null,null,null,null,null,null,{"$f":"IF(AND(R467=\"\",Q467<>\"\"),Q$7,0)","v":10},{"$f":"IF(AND(S467=\"\",R467<>\"\"),R$7,0)","v":0},{"$f":"IF(AND(T467=\"\",S467<>\"\"),S$7,0)","v":0},{"$f":"IF(AND(U467=\"\",T467<>\"\"),T$7,0)","v":0},{"$f":"IF(AND(V467=\"\",U467<>\"\"),U$7,0)","v":0},{"$f":"IF(AND(W468=\"\",V467<>\"\"),V$7,0)","v":0}]
[null,{"$f":"IF($C$8=\"virgule\",CONCATENATE(B466,\" virgule \",B467),CONCATENATE(B466,\"  et \",B467,\" \",B468))","v":"huit cent vingt-deux milliards six cent quatre-vingt-dix millions trois cents mille six cent un virgule cinq"}]
[97,null,null,null,{"$f":"IF(X470>100000000000,INT(RIGHT($X470,12)/100000000000),0)","v":9},{"$f":"IF(X470>10000000000,INT(RIGHT($X470,11)/10000000000),0)","v":6},{"$f":"IF(X470>1000000000,INT(RIGHT($X470,10)/1000000000),0)","v":0},{"$f":"IF(X470>100000000,INT(RIGHT($X470,9)/100000000),0)","v":9},{"$f":"IF(X470>10000000,INT(RIGHT($X470,8)/10000000),0)","v":5},{"$f":"IF(X470>1000000,INT(RIGHT($X470,7)/1000000),0)","v":4},{"$f":"IF(X470>100000,INT(RIGHT($X470,6)/100000),0)","v":6},{"$f":"IF(X470>10000,INT(RIGHT($X470,5)/10000),0)","v":7},{"$f":"IF(X470>1000,INT(RIGHT($X470,4)/1000),0)","v":8},{"$f":"IF(X470>100,INT(RIGHT($X470,3)/100),0)","v":2},{"$f":"IF(X470>10,INT(RIGHT($X470,2)/10),0)","v":6},{"$f":"INT(RIGHT($X470,1)/1)","v":6},{"$f":"INT(RIGHT($AC470,1))","v":3},{"$f":"INT(RIGHT($AC470,2)/10)","v":0},{"$f":"INT(RIGHT($AC470,3)/100)","v":0},{"$f":"INT(RIGHT($AC470,4)/1000)","v":0},{"$f":"INT(RIGHT($AC470,5)/10000)","v":0},{"$f":"INT(RIGHT($AC470,6)/100000)","v":0},{"$f":"((Q470*100000)+(R470*10000)+(S470*1000)+(T470*100)+(U470*10)+V470)","v":300000},{"$f":"C$3+INT(RAND()*(C$4-C$3+1))","v":960954678266},{"$f":"LEN(X470)","v":12},{"$f":"INT(RAND()*(Y470-C$5))+C$5","v":11},{"$f":"Z470-C$5","v":9},null,{"$f":"INT(RAND()*(POWER(10,$C$7))+1)","v":3},{"$f":"LEN(AC470)","v":1},{"$f":"INT(RAND()*(AD470-H$5))+H$5","v":0},{"$f":"AE470-H$5","v":0}]
[null,{"$f":"convnumberletter(C471)","v":"neuf cent cinquante-quatre millions six cent soixante-dix-huit mille deux cent soixante-six"},{"$f":"(E472*10^E$7)+(F472*10^F$7)+(G472*10^G$7)+(H472*10^H$7)+(I472*10^I$7)+(J472*10^J$7)+(K472*10^K$7)+(L472*10^L$7)+(M472*10^M$7)+(N472*10^N$7)+(O472*10^O$7)+(P472*10^P$7)","v":954678266},null,{"$f":"IF(Z470=12,TRUE,FALSE)","v":false},{"$f":"IF(Z470=11,TRUE,FALSE)","v":true},{"$f":"IF(Z470=10,TRUE,FALSE)","v":false},{"$f":"IF(Z470=9,TRUE,FALSE)","v":false},{"$f":"IF(Z470=8,TRUE,FALSE)","v":false},{"$f":"IF(Z470=7,TRUE,FALSE)","v":false},{"$f":"IF(Z470=6,TRUE,FALSE)","v":false},{"$f":"IF(Z470=5,TRUE,FALSE)","v":false},{"$f":"IF(Z470=4,TRUE,FALSE)","v":false},{"$f":"IF(Z470=3,TRUE,FALSE)","v":false},{"$f":"IF(Z470=2,TRUE,FALSE)","v":false},{"$f":"IF(Z470=1,TRUE,FALSE)","v":false},{"$f":"IF(AND(Q470=0,R471=FALSE),FALSE,TRUE)","v":true},{"$f":"IF(AND(R470=0,S471=FALSE),FALSE,TRUE)","v":false},{"$f":"IF(AND(S470=0,T471=FALSE),FALSE,TRUE)","v":false},{"$f":"IF(AND(T470=0,U471=FALSE),FALSE,TRUE)","v":false},{"$f":"IF(AND(U470=0,V471=FALSE),FALSE,TRUE)","v":false},{"$f":"IF(V470=0,FALSE,TRUE)","v":false},{"$f":"W470/(1000000/W472)","v":3}]
[null,{"$f":"convnumberletter(C472)","v":"trois"},{"$f":"W471","v":3},null,{"$f":"IF(AND(E$7-1<$Z470,E$7-1>=$AA470),0,E470)","v":0},0,0,9,5,4,6,7,{"$f":"IF(AND(M$7-1<$Z470,M$7-1>=$AA470),0,M470)","v":8},{"$f":"IF(AND(N$7-1<$Z470,N$7-1>=$AA470),0,N470)","v":2},{"$f":"IF(AND(O$7-1<$Z470,O$7-1>=$AA470),0,O470)","v":6},{"$f":"IF(AND(P$7-1<$Z470,P$7-1>=$AA470),0,P470)","v":6},{"$f":"IF(Q471=FALSE,\"\",Q470)","v":3},"","","","","",{"$f":"SUM(Q473:V473)","v":10}]
[null,{"$f":"IF(C472>1,CONCATENATE(HLOOKUP(C473,$Q$7:$V$9,3,TRUE),\"s\"),HLOOKUP(C473,$Q$7:$V$9,3,TRUE))","v":"dixièmes"},{"$f":"W472","v":10},null,null,null,null,null,null,null,null,null,null,null,null,null,{"$f":"IF(AND(R472=\"\",Q472<>\"\"),Q$7,0)","v":10},{"$f":"IF(AND(S472=\"\",R472<>\"\"),R$7,0)","v":0},{"$f":"IF(AND(T472=\"\",S472<>\"\"),S$7,0)","v":0},{"$f":"IF(AND(U472=\"\",T472<>\"\"),T$7,0)","v":0},{"$f":"IF(AND(V472=\"\",U472<>\"\"),U$7,0)","v":0},{"$f":"IF(AND(W473=\"\",V472<>\"\"),V$7,0)","v":0}]
[null,{"$f":"IF($C$8=\"virgule\",CONCATENATE(B471,\" virgule \",B472),CONCATENATE(B471,\"  et \",B472,\" \",B473))","v":"neuf cent cinquante-quatre millions six cent soixante-dix-huit mille deux cent soixante-six virgule trois"}]
[98,null,null,null,{"$f":"IF(X475>100000000000,INT(RIGHT($X475,12)/100000000000),0)","v":1},{"$f":"IF(X475>10000000000,INT(RIGHT($X475,11)/10000000000),0)","v":5},{"$f":"IF(X475>1000000000,INT(RIGHT($X475,10)/1000000000),0)","v":8},{"$f":"IF(X475>100000000,INT(RIGHT($X475,9)/100000000),0)","v":0},{"$f":"IF(X475>10000000,INT(RIGHT($X475,8)/10000000),0)","v":2},{"$f":"IF(X475>1000000,INT(RIGHT($X475,7)/1000000),0)","v":5},{"$f":"IF(X475>100000,INT(RIGHT($X475,6)/100000),0)","v":3},{"$f":"IF(X475>10000,INT(RIGHT($X475,5)/10000),0)","v":9},{"$f":"IF(X475>1000,INT(RIGHT($X475,4)/1000),0)","v":6},{"$f":"IF(X475>100,INT(RIGHT($X475,3)/100),0)","v":5},{"$f":"IF(X475>10,INT(RIGHT($X475,2)/10),0)","v":1},{"$f":"INT(RIGHT($X475,1)/1)","v":6},{"$f":"INT(RIGHT($AC475,1))","v":5},{"$f":"INT(RIGHT($AC475,2)/10)","v":2},{"$f":"INT(RIGHT($AC475,3)/100)","v":0},{"$f":"INT(RIGHT($AC475,4)/1000)","v":0},{"$f":"INT(RIGHT($AC475,5)/10000)","v":0},{"$f":"INT(RIGHT($AC475,6)/100000)","v":0},{"$f":"((Q475*100000)+(R475*10000)+(S475*1000)+(T475*100)+(U475*10)+V475)","v":520000},{"$f":"C$3+INT(RAND()*(C$4-C$3+1))","v":158025396516},{"$f":"LEN(X475)","v":12},{"$f":"INT(RAND()*(Y475-C$5))+C$5","v":11},{"$f":"Z475-C$5","v":9},null,{"$f":"INT(RAND()*(POWER(10,$C$7))+1)","v":25},{"$f":"LEN(AC475)","v":2},{"$f":"INT(RAND()*(AD475-H$5))+H$5","v":1},{"$f":"AE475-H$5","v":1}]
[null,{"$f":"convnumberletter(C476)","v":"huit milliards vingt-cinq millions trois cent quatre-vingt-seize mille cinq cent seize"},{"$f":"(E477*10^E$7)+(F477*10^F$7)+(G477*10^G$7)+(H477*10^H$7)+(I477*10^I$7)+(J477*10^J$7)+(K477*10^K$7)+(L477*10^L$7)+(M477*10^M$7)+(N477*10^N$7)+(O477*10^O$7)+(P477*10^P$7)","v":8025396516},null,{"$f":"IF(Z475=12,TRUE,FALSE)","v":false},{"$f":"IF(Z475=11,TRUE,FALSE)","v":true},{"$f":"IF(Z475=10,TRUE,FALSE)","v":false},{"$f":"IF(Z475=9,TRUE,FALSE)","v":false},{"$f":"IF(Z475=8,TRUE,FALSE)","v":false},{"$f":"IF(Z475=7,TRUE,FALSE)","v":false},{"$f":"IF(Z475=6,TRUE,FALSE)","v":false},{"$f":"IF(Z475=5,TRUE,FALSE)","v":false},{"$f":"IF(Z475=4,TRUE,FALSE)","v":false},{"$f":"IF(Z475=3,TRUE,FALSE)","v":false},{"$f":"IF(Z475=2,TRUE,FALSE)","v":false},{"$f":"IF(Z475=1,TRUE,FALSE)","v":false},{"$f":"IF(AND(Q475=0,R476=FALSE),FALSE,TRUE)","v":true},{"$f":"IF(AND(R475=0,S476=FALSE),FALSE,TRUE)","v":true},{"$f":"IF(AND(S475=0,T476=FALSE),FALSE,TRUE)","v":false},{"$f":"IF(AND(T475=0,U476=FALSE),FALSE,TRUE)","v":false},{"$f":"IF(AND(U475=0,V476=FALSE),FALSE,TRUE)","v":false},{"$f":"IF(V475=0,FALSE,TRUE)","v":false},{"$f":"W475/(1000000/W477)","v":52}]
[null,{"$f":"convnumberletter(C477)","v":"cinquante-deux"},{"$f":"W476","v":52},null,{"$f":"IF(AND(E$7-1<$Z475,E$7-1>=$AA475),0,E475)","v":0},0,8,0,2,5,3,9,{"$f":"IF(AND(M$7-1<$Z475,M$7-1>=$AA475),0,M475)","v":6},{"$f":"IF(AND(N$7-1<$Z475,N$7-1>=$AA475),0,N475)","v":5},{"$f":"IF(AND(O$7-1<$Z475,O$7-1>=$AA475),0,O475)","v":1},{"$f":"IF(AND(P$7-1<$Z475,P$7-1>=$AA475),0,P475)","v":6},{"$f":"IF(Q476=FALSE,\"\",Q475)","v":5},2,"","","","",{"$f":"SUM(Q478:V478)","v":100}]
[null,{"$f":"IF(C477>1,CONCATENATE(HLOOKUP(C478,$Q$7:$V$9,3,TRUE),\"s\"),HLOOKUP(C478,$Q$7:$V$9,3,TRUE))","v":"centièmes"},{"$f":"W477","v":100},null,null,null,null,null,null,null,null,null,null,null,null,null,{"$f":"IF(AND(R477=\"\",Q477<>\"\"),Q$7,0)","v":0},{"$f":"IF(AND(S477=\"\",R477<>\"\"),R$7,0)","v":100},{"$f":"IF(AND(T477=\"\",S477<>\"\"),S$7,0)","v":0},{"$f":"IF(AND(U477=\"\",T477<>\"\"),T$7,0)","v":0},{"$f":"IF(AND(V477=\"\",U477<>\"\"),U$7,0)","v":0},{"$f":"IF(AND(W478=\"\",V477<>\"\"),V$7,0)","v":0}]
[null,{"$f":"IF($C$8=\"virgule\",CONCATENATE(B476,\" virgule \",B477),CONCATENATE(B476,\"  et \",B477,\" \",B478))","v":"huit milliards vingt-cinq millions trois cent quatre-vingt-seize mille cinq cent seize virgule cinquante-deux"}]
[99,null,null,null,{"$f":"IF(X480>100000000000,INT(RIGHT($X480,12)/100000000000),0)","v":9},{"$f":"IF(X480>10000000000,INT(RIGHT($X480,11)/10000000000),0)","v":2},{"$f":"IF(X480>1000000000,INT(RIGHT($X480,10)/1000000000),0)","v":4},{"$f":"IF(X480>100000000,INT(RIGHT($X480,9)/100000000),0)","v":2},{"$f":"IF(X480>10000000,INT(RIGHT($X480,8)/10000000),0)","v":9},{"$f":"IF(X480>1000000,INT(RIGHT($X480,7)/1000000),0)","v":9},{"$f":"IF(X480>100000,INT(RIGHT($X480,6)/100000),0)","v":6},{"$f":"IF(X480>10000,INT(RIGHT($X480,5)/10000),0)","v":1},{"$f":"IF(X480>1000,INT(RIGHT($X480,4)/1000),0)","v":0},{"$f":"IF(X480>100,INT(RIGHT($X480,3)/100),0)","v":4},{"$f":"IF(X480>10,INT(RIGHT($X480,2)/10),0)","v":6},{"$f":"INT(RIGHT($X480,1)/1)","v":0},{"$f":"INT(RIGHT($AC480,1))","v":1},{"$f":"INT(RIGHT($AC480,2)/10)","v":3},{"$f":"INT(RIGHT($AC480,3)/100)","v":0},{"$f":"INT(RIGHT($AC480,4)/1000)","v":0},{"$f":"INT(RIGHT($AC480,5)/10000)","v":0},{"$f":"INT(RIGHT($AC480,6)/100000)","v":0},{"$f":"((Q480*100000)+(R480*10000)+(S480*1000)+(T480*100)+(U480*10)+V480)","v":130000},{"$f":"C$3+INT(RAND()*(C$4-C$3+1))","v":924299610460},{"$f":"LEN(X480)","v":12},{"$f":"INT(RAND()*(Y480-C$5))+C$5","v":2},{"$f":"Z480-C$5","v":0},null,{"$f":"INT(RAND()*(POWER(10,$C$7))+1)","v":31},{"$f":"LEN(AC480)","v":2},{"$f":"INT(RAND()*(AD480-H$5))+H$5","v":1},{"$f":"AE480-H$5","v":1}]
[null,{"$f":"convnumberletter(C481)","v":"neuf cent vingt-quatre milliards deux cent quatre-vingt-dix-neuf millions six cent dix mille"},{"$f":"(E482*10^E$7)+(F482*10^F$7)+(G482*10^G$7)+(H482*10^H$7)+(I482*10^I$7)+(J482*10^J$7)+(K482*10^K$7)+(L482*10^L$7)+(M482*10^M$7)+(N482*10^N$7)+(O482*10^O$7)+(P482*10^P$7)","v":924299610000},null,{"$f":"IF(Z480=12,TRUE,FALSE)","v":false},{"$f":"IF(Z480=11,TRUE,FALSE)","v":false},{"$f":"IF(Z480=10,TRUE,FALSE)","v":false},{"$f":"IF(Z480=9,TRUE,FALSE)","v":false},{"$f":"IF(Z480=8,TRUE,FALSE)","v":false},{"$f":"IF(Z480=7,TRUE,FALSE)","v":false},{"$f":"IF(Z480=6,TRUE,FALSE)","v":false},{"$f":"IF(Z480=5,TRUE,FALSE)","v":false},{"$f":"IF(Z480=4,TRUE,FALSE)","v":false},{"$f":"IF(Z480=3,TRUE,FALSE)","v":false},{"$f":"IF(Z480=2,TRUE,FALSE)","v":true},{"$f":"IF(Z480=1,TRUE,FALSE)","v":false},{"$f":"IF(AND(Q480=0,R481=FALSE),FALSE,TRUE)","v":true},{"$f":"IF(AND(R480=0,S481=FALSE),FALSE,TRUE)","v":true},{"$f":"IF(AND(S480=0,T481=FALSE),FALSE,TRUE)","v":false},{"$f":"IF(AND(T480=0,U481=FALSE),FALSE,TRUE)","v":false},{"$f":"IF(AND(U480=0,V481=FALSE),FALSE,TRUE)","v":false},{"$f":"IF(V480=0,FALSE,TRUE)","v":false},{"$f":"W480/(1000000/W482)","v":13}]
[null,{"$f":"convnumberletter(C482)","v":"treize"},{"$f":"W481","v":13},null,{"$f":"IF(AND(E$7-1<$Z480,E$7-1>=$AA480),0,E480)","v":9},2,4,2,9,9,6,1,{"$f":"IF(AND(M$7-1<$Z480,M$7-1>=$AA480),0,M480)","v":0},{"$f":"IF(AND(N$7-1<$Z480,N$7-1>=$AA480),0,N480)","v":0},{"$f":"IF(AND(O$7-1<$Z480,O$7-1>=$AA480),0,O480)","v":0},{"$f":"IF(AND(P$7-1<$Z480,P$7-1>=$AA480),0,P480)","v":0},{"$f":"IF(Q481=FALSE,\"\",Q480)","v":1},3,"","","","",{"$f":"SUM(Q483:V483)","v":100}]
[null,{"$f":"IF(C482>1,CONCATENATE(HLOOKUP(C483,$Q$7:$V$9,3,TRUE),\"s\"),HLOOKUP(C483,$Q$7:$V$9,3,TRUE))","v":"centièmes"},{"$f":"W482","v":100},null,null,null,null,null,null,null,null,null,null,null,null,null,{"$f":"IF(AND(R482=\"\",Q482<>\"\"),Q$7,0)","v":0},{"$f":"IF(AND(S482=\"\",R482<>\"\"),R$7,0)","v":100},{"$f":"IF(AND(T482=\"\",S482<>\"\"),S$7,0)","v":0},{"$f":"IF(AND(U482=\"\",T482<>\"\"),T$7,0)","v":0},{"$f":"IF(AND(V482=\"\",U482<>\"\"),U$7,0)","v":0},{"$f":"IF(AND(W483=\"\",V482<>\"\"),V$7,0)","v":0}]
[null,{"$f":"IF($C$8=\"virgule\",CONCATENATE(B481,\" virgule \",B482),CONCATENATE(B481,\"  et \",B482,\" \",B483))","v":"neuf cent vingt-quatre milliards deux cent quatre-vingt-dix-neuf millions six cent dix mille virgule treize"}]
[100,null,null,null,{"$f":"IF(X485>100000000000,INT(RIGHT($X485,12)/100000000000),0)","v":6},{"$f":"IF(X485>10000000000,INT(RIGHT($X485,11)/10000000000),0)","v":4},{"$f":"IF(X485>1000000000,INT(RIGHT($X485,10)/1000000000),0)","v":8},{"$f":"IF(X485>100000000,INT(RIGHT($X485,9)/100000000),0)","v":3},{"$f":"IF(X485>10000000,INT(RIGHT($X485,8)/10000000),0)","v":8},{"$f":"IF(X485>1000000,INT(RIGHT($X485,7)/1000000),0)","v":5},{"$f":"IF(X485>100000,INT(RIGHT($X485,6)/100000),0)","v":8},{"$f":"IF(X485>10000,INT(RIGHT($X485,5)/10000),0)","v":6},{"$f":"IF(X485>1000,INT(RIGHT($X485,4)/1000),0)","v":1},{"$f":"IF(X485>100,INT(RIGHT($X485,3)/100),0)","v":3},{"$f":"IF(X485>10,INT(RIGHT($X485,2)/10),0)","v":8},{"$f":"INT(RIGHT($X485,1)/1)","v":4},{"$f":"INT(RIGHT($AC485,1))","v":2},{"$f":"INT(RIGHT($AC485,2)/10)","v":0},{"$f":"INT(RIGHT($AC485,3)/100)","v":0},{"$f":"INT(RIGHT($AC485,4)/1000)","v":0},{"$f":"INT(RIGHT($AC485,5)/10000)","v":0},{"$f":"INT(RIGHT($AC485,6)/100000)","v":0},{"$f":"((Q485*100000)+(R485*10000)+(S485*1000)+(T485*100)+(U485*10)+V485)","v":200000},{"$f":"C$3+INT(RAND()*(C$4-C$3+1))","v":648385861384},{"$f":"LEN(X485)","v":12},{"$f":"INT(RAND()*(Y485-C$5))+C$5","v":8},{"$f":"Z485-C$5","v":6},null,{"$f":"INT(RAND()*(POWER(10,$C$7))+1)","v":2},{"$f":"LEN(AC485)","v":1},{"$f":"INT(RAND()*(AD485-H$5))+H$5","v":0},{"$f":"AE485-H$5","v":0}]
[null,{"$f":"convnumberletter(C486)","v":"six cent quarante-huit milliards cinq millions huit cent soixante et un mille trois cent quatre-vingt-quatre"},{"$f":"(E487*10^E$7)+(F487*10^F$7)+(G487*10^G$7)+(H487*10^H$7)+(I487*10^I$7)+(J487*10^J$7)+(K487*10^K$7)+(L487*10^L$7)+(M487*10^M$7)+(N487*10^N$7)+(O487*10^O$7)+(P487*10^P$7)","v":648005861384},null,{"$f":"IF(Z485=12,TRUE,FALSE)","v":false},{"$f":"IF(Z485=11,TRUE,FALSE)","v":false},{"$f":"IF(Z485=10,TRUE,FALSE)","v":false},{"$f":"IF(Z485=9,TRUE,FALSE)","v":false},{"$f":"IF(Z485=8,TRUE,FALSE)","v":true},{"$f":"IF(Z485=7,TRUE,FALSE)","v":false},{"$f":"IF(Z485=6,TRUE,FALSE)","v":false},{"$f":"IF(Z485=5,TRUE,FALSE)","v":false},{"$f":"IF(Z485=4,TRUE,FALSE)","v":false},{"$f":"IF(Z485=3,TRUE,FALSE)","v":false},{"$f":"IF(Z485=2,TRUE,FALSE)","v":false},{"$f":"IF(Z485=1,TRUE,FALSE)","v":false},{"$f":"IF(AND(Q485=0,R486=FALSE),FALSE,TRUE)","v":true},{"$f":"IF(AND(R485=0,S486=FALSE),FALSE,TRUE)","v":false},{"$f":"IF(AND(S485=0,T486=FALSE),FALSE,TRUE)","v":false},{"$f":"IF(AND(T485=0,U486=FALSE),FALSE,TRUE)","v":false},{"$f":"IF(AND(U485=0,V486=FALSE),FALSE,TRUE)","v":false},{"$f":"IF(V485=0,FALSE,TRUE)","v":false},{"$f":"W485/(1000000/W487)","v":2}]
[null,{"$f":"convnumberletter(C487)","v":"deux"},{"$f":"W486","v":2},null,{"$f":"IF(AND(E$7-1<$Z485,E$7-1>=$AA485),0,E485)","v":6},4,8,0,0,5,8,6,{"$f":"IF(AND(M$7-1<$Z485,M$7-1>=$AA485),0,M485)","v":1},{"$f":"IF(AND(N$7-1<$Z485,N$7-1>=$AA485),0,N485)","v":3},{"$f":"IF(AND(O$7-1<$Z485,O$7-1>=$AA485),0,O485)","v":8},{"$f":"IF(AND(P$7-1<$Z485,P$7-1>=$AA485),0,P485)","v":4},{"$f":"IF(Q486=FALSE,\"\",Q485)","v":2},"","","","","",{"$f":"SUM(Q488:V488)","v":10}]
[null,{"$f":"IF(C487>1,CONCATENATE(HLOOKUP(C488,$Q$7:$V$9,3,TRUE),\"s\"),HLOOKUP(C488,$Q$7:$V$9,3,TRUE))","v":"dixièmes"},{"$f":"W487","v":10},null,null,null,null,null,null,null,null,null,null,null,null,null,{"$f":"IF(AND(R487=\"\",Q487<>\"\"),Q$7,0)","v":10},{"$f":"IF(AND(S487=\"\",R487<>\"\"),R$7,0)","v":0},{"$f":"IF(AND(T487=\"\",S487<>\"\"),S$7,0)","v":0},{"$f":"IF(AND(U487=\"\",T487<>\"\"),T$7,0)","v":0},{"$f":"IF(AND(V487=\"\",U487<>\"\"),U$7,0)","v":0},{"$f":"IF(AND(W488=\"\",V487<>\"\"),V$7,0)","v":0}]
[null,{"$f":"IF($C$8=\"virgule\",CONCATENATE(B486,\" virgule \",B487),CONCATENATE(B486,\"  et \",B487,\" \",B488))","v":"six cent quarante-huit milliards cinq millions huit cent soixante et un mille trois cent quatre-vingt-quatre virgule deux"}]