{"text_format":"1","workbook":"xlsx","n_sheets":14,"sheets":["Table Pythagore","Table ","Table ordre","Table désordre","Table --> 5","Table --> 10","Pythagores (ordre)","Pythagores (25) -->choisir","Pythagores (25) -->toutes","Pythagores (49)","Pythagores (100)","calculs","Graphique tables CE","Graphique tables CM"],"not_rendered":{"charts":0,"images":0,"macros":1,"external_links":0,"defined_names":14,"comments":0,"pivot_tables":0},"unopened":[],"bounds":{"document_bytes":16777216,"sheet_cells":100000,"rows_first":2000,"rows_last":500,"rows_between":2000,"halvings":0,"cell_chars":16384,"cell_head_chars":4096},"cells_cut":0,"cells_raw":0,"read":"whole","date_system":"1900"}

{"sheet":"Table Pythagore","index":0,"n_rows":11,"n_cols":11,"rows_kept":11,"cut":false,"hidden":false,"merged":[]}
["x",1,2,3,4,5,6,7,8,9,10]
[1,{"$f":"B$1*$A2","v":1},2,3,4,5,6,7,8,9,10]
[2,{"$f":"B$1*$A3","v":2},4,6,8,10,12,14,16,18,20]
[3,3,6,9,12,15,18,21,24,27,30]
[4,4,8,12,16,20,24,28,32,36,40]
[5,5,10,15,20,25,30,35,40,45,50]
[6,6,12,18,24,30,36,42,48,54,60]
[7,7,14,21,28,35,42,49,56,63,70]
[8,8,16,24,32,40,48,56,64,72,80]
[9,9,18,27,36,45,54,63,72,81,90]
[10,10,20,30,40,50,60,70,80,90,100]

{"sheet":"Table ","index":1,"n_rows":12,"n_cols":5,"rows_kept":12,"cut":false,"hidden":false,"merged":[[0,0,0,3]]}
["Table de ",null,null,null,10]
[]
[1,"x",{"$f":"$E$1","v":10},"=",{"$f":"A3*C3","v":10}]
[2,"x",10,"=",{"$f":"A4*C4","v":20}]
[3,"x",10,"=",30]
[4,"x",10,"=",40]
[5,"x",10,"=",50]
[6,"x",10,"=",60]
[7,"x",10,"=",70]
[8,"x",10,"=",80]
[9,"x",10,"=",90]
[10,"x",10,"=",100]

{"sheet":"Table ordre","index":2,"n_rows":39,"n_cols":14,"rows_kept":39,"cut":false,"hidden":false,"merged":[[0,0,0,9],[0,10,0,14]]}
["Générer table de",null,null,null,null,null,null,null,null,null,2]
[null,null,"Table de ",{"$f":"K1","v":2},null,null,null,"Table de ",{"$f":"$D$2","v":2},null,null,null,"Table de ",{"$f":"$D$2","v":2}]
[]
[1,"x",{"$f":"$D$2","v":2},"=",null,1,"x",{"$f":"$D$2","v":2},"=",null,1,"x",{"$f":"$D$2","v":2},"="]
[2,"x",{"$f":"$D$2","v":2},"=",null,2,"x",{"$f":"$D$2","v":2},"=",null,2,"x",{"$f":"$D$2","v":2},"="]
[3,"x",2,"=",null,3,"x",2,"=",null,3,"x",2,"="]
[4,"x",2,"=",null,4,"x",2,"=",null,4,"x",2,"="]
[5,"x",2,"=",null,5,"x",2,"=",null,5,"x",2,"="]
[6,"x",2,"=",null,6,"x",2,"=",null,6,"x",2,"="]
[7,"x",2,"=",null,7,"x",2,"=",null,7,"x",2,"="]
[8,"x",2,"=",null,8,"x",2,"=",null,8,"x",2,"="]
[9,"x",2,"=",null,9,"x",2,"=",null,9,"x",2,"="]
[10,"x",2,"=",null,10,"x",2,"=",null,10,"x",2,"="]
[]
[null,null,"Table de ",{"$f":"$D$2","v":2},null,null,null,"Table de ",{"$f":"$D$2","v":2},null,null,null,"Table de ",{"$f":"$D$2","v":2}]
[]
[1,"x",{"$f":"$D$2","v":2},"=",null,1,"x",{"$f":"$D$2","v":2},"=",null,1,"x",{"$f":"$D$2","v":2},"="]
[2,"x",{"$f":"$D$2","v":2},"=",null,2,"x",{"$f":"$D$2","v":2},"=",null,2,"x",{"$f":"$D$2","v":2},"="]
[3,"x",2,"=",null,3,"x",2,"=",null,3,"x",2,"="]
[4,"x",2,"=",null,4,"x",2,"=",null,4,"x",2,"="]
[5,"x",2,"=",null,5,"x",2,"=",null,5,"x",2,"="]
[6,"x",2,"=",null,6,"x",2,"=",null,6,"x",2,"="]
[7,"x",2,"=",null,7,"x",2,"=",null,7,"x",2,"="]
[8,"x",2,"=",null,8,"x",2,"=",null,8,"x",2,"="]
[9,"x",2,"=",null,9,"x",2,"=",null,9,"x",2,"="]
[10,"x",2,"=",null,10,"x",2,"=",null,10,"x",2,"="]
[]
[null,null,"Table de ",{"$f":"$D$2","v":2},null,null,null,"Table de ",{"$f":"$D$2","v":2},null,null,null,"Table de ",{"$f":"$D$2","v":2}]
[]
[1,"x",{"$f":"$D$2","v":2},"=",null,1,"x",{"$f":"$D$2","v":2},"=",null,1,"x",{"$f":"$D$2","v":2},"="]
[2,"x",{"$f":"$D$2","v":2},"=",null,2,"x",{"$f":"$D$2","v":2},"=",null,2,"x",{"$f":"$D$2","v":2},"="]
[3,"x",2,"=",null,3,"x",2,"=",null,3,"x",2,"="]
[4,"x",2,"=",null,4,"x",2,"=",null,4,"x",2,"="]
[5,"x",2,"=",null,5,"x",2,"=",null,5,"x",2,"="]
[6,"x",2,"=",null,6,"x",2,"=",null,6,"x",2,"="]
[7,"x",2,"=",null,7,"x",2,"=",null,7,"x",2,"="]
[8,"x",2,"=",null,8,"x",2,"=",null,8,"x",2,"="]
[9,"x",2,"=",null,9,"x",2,"=",null,9,"x",2,"="]
[10,"x",2,"=",null,10,"x",2,"=",null,10,"x",2,"="]

{"sheet":"Table désordre","index":3,"n_rows":39,"n_cols":15,"rows_kept":39,"cut":false,"hidden":false,"merged":[[0,1,0,10],[0,11,0,15]]}
[null,"Générer table de",null,null,null,null,null,null,null,null,null,10]
[null,null,null,"Table de ",{"$f":"L1","v":10},null,null,null,"Table de ",{"$f":"$E$2","v":10},null,null,null,"Table de ",{"$f":"$E$2","v":10}]
[]
[1,{"$f":"calculs!B3","v":2},"x",{"$f":"$E$2","v":10},"=",null,{"$f":"HLOOKUP(A4,calculs!$B$4:$K$6,3)","v":4},"x",{"$f":"$E$2","v":10},"=",null,{"$f":"HLOOKUP(A4,calculs!$B$7:$K$9,3)","v":8},"x",{"$f":"$E$2","v":10},"="]
[2,{"$f":"calculs!C3","v":5},"x",10,"=",null,{"$f":"HLOOKUP(A5,calculs!$B$4:$K$6,3)","v":8},"x",10,"=",null,{"$f":"HLOOKUP(A5,calculs!$B$7:$K$9,3)","v":6},"x",10,"="]
[3,{"$f":"calculs!D3","v":10},"x",10,"=",null,{"$f":"HLOOKUP(A6,calculs!$B$4:$K$6,3)","v":5},"x",10,"=",null,{"$f":"HLOOKUP(A6,calculs!$B$7:$K$9,3)","v":4},"x",10,"="]
[4,{"$f":"calculs!E3","v":7},"x",10,"=",null,{"$f":"HLOOKUP(A7,calculs!$B$4:$K$6,3)","v":10},"x",10,"=",null,{"$f":"HLOOKUP(A7,calculs!$B$7:$K$9,3)","v":9},"x",10,"="]
[5,{"$f":"calculs!F3","v":8},"x",10,"=",null,{"$f":"HLOOKUP(A8,calculs!$B$4:$K$6,3)","v":7},"x",10,"=",null,{"$f":"HLOOKUP(A8,calculs!$B$7:$K$9,3)","v":10},"x",10,"="]
[6,{"$f":"calculs!G3","v":6},"x",10,"=",null,{"$f":"HLOOKUP(A9,calculs!$B$4:$K$6,3)","v":1},"x",10,"=",null,{"$f":"HLOOKUP(A9,calculs!$B$7:$K$9,3)","v":5},"x",10,"="]
[7,{"$f":"calculs!H3","v":9},"x",10,"=",null,{"$f":"HLOOKUP(A10,calculs!$B$4:$K$6,3)","v":3},"x",10,"=",null,{"$f":"HLOOKUP(A10,calculs!$B$7:$K$9,3)","v":7},"x",10,"="]
[8,{"$f":"calculs!I3","v":3},"x",10,"=",null,{"$f":"HLOOKUP(A11,calculs!$B$4:$K$6,3)","v":2},"x",10,"=",null,{"$f":"HLOOKUP(A11,calculs!$B$7:$K$9,3)","v":1},"x",10,"="]
[9,{"$f":"calculs!J3","v":1},"x",10,"=",null,{"$f":"HLOOKUP(A12,calculs!$B$4:$K$6,3)","v":9},"x",10,"=",null,{"$f":"HLOOKUP(A12,calculs!$B$7:$K$9,3)","v":3},"x",10,"="]
[10,{"$f":"calculs!K3","v":4},"x",10,"=",null,{"$f":"HLOOKUP(A13,calculs!$B$4:$K$6,3)","v":6},"x",10,"=",null,{"$f":"HLOOKUP(A13,calculs!$B$7:$K$9,3)","v":2},"x",10,"="]
[]
[null,null,null,"Table de ",{"$f":"$E$2","v":10},null,null,null,"Table de ",{"$f":"$E$2","v":10},null,null,null,"Table de ",{"$f":"$E$2","v":10}]
[]
[1,{"$f":"HLOOKUP(A4,calculs!$B$10:$K$12,3)","v":8},"x",{"$f":"$E$2","v":10},"=",null,{"$f":"HLOOKUP(A4,calculs!$B$13:$K$15,3)","v":2},"x",{"$f":"$E$2","v":10},"=",null,{"$f":"HLOOKUP(A4,calculs!$B$16:$K$18,3)","v":1},"x",{"$f":"$E$2","v":10},"="]
[2,{"$f":"HLOOKUP(A5,calculs!$B$10:$K$12,3)","v":2},"x",10,"=",null,{"$f":"HLOOKUP(A5,calculs!$B$13:$K$15,3)","v":3},"x",10,"=",null,{"$f":"HLOOKUP(A5,calculs!$B$16:$K$18,3)","v":4},"x",10,"="]
[3,{"$f":"HLOOKUP(A6,calculs!$B$10:$K$12,3)","v":6},"x",10,"=",null,{"$f":"HLOOKUP(A6,calculs!$B$13:$K$15,3)","v":7},"x",10,"=",null,{"$f":"HLOOKUP(A6,calculs!$B$16:$K$18,3)","v":9},"x",10,"="]
[4,{"$f":"HLOOKUP(A7,calculs!$B$10:$K$12,3)","v":10},"x",10,"=",null,{"$f":"HLOOKUP(A7,calculs!$B$13:$K$15,3)","v":10},"x",10,"=",null,{"$f":"HLOOKUP(A7,calculs!$B$16:$K$18,3)","v":5},"x",10,"="]
[5,{"$f":"HLOOKUP(A8,calculs!$B$10:$K$12,3)","v":4},"x",10,"=",null,{"$f":"HLOOKUP(A8,calculs!$B$13:$K$15,3)","v":9},"x",10,"=",null,{"$f":"HLOOKUP(A8,calculs!$B$16:$K$18,3)","v":7},"x",10,"="]
[6,{"$f":"HLOOKUP(A9,calculs!$B$10:$K$12,3)","v":9},"x",10,"=",null,{"$f":"HLOOKUP(A9,calculs!$B$13:$K$15,3)","v":1},"x",10,"=",null,{"$f":"HLOOKUP(A9,calculs!$B$16:$K$18,3)","v":10},"x",10,"="]
[7,{"$f":"HLOOKUP(A10,calculs!$B$10:$K$12,3)","v":5},"x",10,"=",null,{"$f":"HLOOKUP(A10,calculs!$B$13:$K$15,3)","v":6},"x",10,"=",null,{"$f":"HLOOKUP(A10,calculs!$B$16:$K$18,3)","v":8},"x",10,"="]
[8,{"$f":"HLOOKUP(A11,calculs!$B$10:$K$12,3)","v":3},"x",10,"=",null,{"$f":"HLOOKUP(A11,calculs!$B$13:$K$15,3)","v":4},"x",10,"=",null,{"$f":"HLOOKUP(A11,calculs!$B$16:$K$18,3)","v":3},"x",10,"="]
[9,{"$f":"HLOOKUP(A12,calculs!$B$10:$K$12,3)","v":1},"x",10,"=",null,{"$f":"HLOOKUP(A12,calculs!$B$13:$K$15,3)","v":8},"x",10,"=",null,{"$f":"HLOOKUP(A12,calculs!$B$16:$K$18,3)","v":6},"x",10,"="]
[10,{"$f":"HLOOKUP(A13,calculs!$B$10:$K$12,3)","v":7},"x",10,"=",null,{"$f":"HLOOKUP(A13,calculs!$B$13:$K$15,3)","v":5},"x",10,"=",null,{"$f":"HLOOKUP(A13,calculs!$B$16:$K$18,3)","v":2},"x",10,"="]
[]
[null,null,null,"Table de ",{"$f":"$E$2","v":10},null,null,null,"Table de ",{"$f":"$E$2","v":10},null,null,null,"Table de ",{"$f":"$E$2","v":10}]
[]
[1,{"$f":"HLOOKUP(A4,calculs!$B$19:$K$21,3)","v":1},"x",{"$f":"$E$2","v":10},"=",null,{"$f":"HLOOKUP(A4,calculs!$B$22:$K$24,3)","v":1},"x",{"$f":"$E$2","v":10},"=",null,{"$f":"HLOOKUP(A4,calculs!$B$25:$K$27,3)","v":8},"x",{"$f":"$E$2","v":10},"="]
[2,{"$f":"HLOOKUP(A5,calculs!$B$19:$K$21,3)","v":9},"x",10,"=",null,{"$f":"HLOOKUP(A5,calculs!$B$22:$K$24,3)","v":10},"x",10,"=",null,{"$f":"HLOOKUP(A5,calculs!$B$25:$K$27,3)","v":4},"x",10,"="]
[3,{"$f":"HLOOKUP(A6,calculs!$B$19:$K$21,3)","v":2},"x",10,"=",null,{"$f":"HLOOKUP(A6,calculs!$B$22:$K$24,3)","v":4},"x",10,"=",null,{"$f":"HLOOKUP(A6,calculs!$B$25:$K$27,3)","v":9},"x",10,"="]
[4,{"$f":"HLOOKUP(A7,calculs!$B$19:$K$21,3)","v":8},"x",10,"=",null,{"$f":"HLOOKUP(A7,calculs!$B$22:$K$24,3)","v":6},"x",10,"=",null,{"$f":"HLOOKUP(A7,calculs!$B$25:$K$27,3)","v":10},"x",10,"="]
[5,{"$f":"HLOOKUP(A8,calculs!$B$19:$K$21,3)","v":5},"x",10,"=",null,{"$f":"HLOOKUP(A8,calculs!$B$22:$K$24,3)","v":7},"x",10,"=",null,{"$f":"HLOOKUP(A8,calculs!$B$25:$K$27,3)","v":2},"x",10,"="]
[6,{"$f":"HLOOKUP(A9,calculs!$B$19:$K$21,3)","v":6},"x",10,"=",null,{"$f":"HLOOKUP(A9,calculs!$B$22:$K$24,3)","v":3},"x",10,"=",null,{"$f":"HLOOKUP(A9,calculs!$B$25:$K$27,3)","v":6},"x",10,"="]
[7,{"$f":"HLOOKUP(A10,calculs!$B$19:$K$21,3)","v":4},"x",10,"=",null,{"$f":"HLOOKUP(A10,calculs!$B$22:$K$24,3)","v":9},"x",10,"=",null,{"$f":"HLOOKUP(A10,calculs!$B$25:$K$27,3)","v":3},"x",10,"="]
[8,{"$f":"HLOOKUP(A11,calculs!$B$19:$K$21,3)","v":3},"x",10,"=",null,{"$f":"HLOOKUP(A11,calculs!$B$22:$K$24,3)","v":2},"x",10,"=",null,{"$f":"HLOOKUP(A11,calculs!$B$25:$K$27,3)","v":7},"x",10,"="]
[9,{"$f":"HLOOKUP(A12,calculs!$B$19:$K$21,3)","v":10},"x",10,"=",null,{"$f":"HLOOKUP(A12,calculs!$B$22:$K$24,3)","v":5},"x",10,"=",null,{"$f":"HLOOKUP(A12,calculs!$B$25:$K$27,3)","v":1},"x",10,"="]
[10,{"$f":"HLOOKUP(A13,calculs!$B$19:$K$21,3)","v":7},"x",10,"=",null,{"$f":"HLOOKUP(A13,calculs!$B$22:$K$24,3)","v":8},"x",10,"=",null,{"$f":"HLOOKUP(A13,calculs!$B$25:$K$27,3)","v":5},"x",10,"="]

{"sheet":"Table --> 5","index":4,"n_rows":40,"n_cols":30,"rows_kept":40,"cut":false,"hidden":true,"merged":[[27,0,27,4],[27,5,27,9],[27,10,27,14],[1,0,1,4],[1,5,1,9],[1,10,1,14],[14,10,14,14],[14,5,14,9],[14,0,14,4],[27,15,27,19],[27,20,27,24],[27,25,27,29],[1,15,1,19],[1,20,1,24],[1,25,1,29],[14,15,14,19],[14,20,14,24],[14,25,14,29]]}
[]
["Tables *    ",null,null,null,null,"Tables *",null,null,null,null,"Tables *",null,null,null,null,"Tables *    ",null,null,null,null,"Tables *",null,null,null,null,"Tables *"]
[]
[{"$f":"calculs!B109","v":1},"x",{"$f":"calculs!#REF!","v":{"$error":"#REF!"}},"=",null,{"$f":"calculs!P107","v":8},"x",{"$f":"calculs!K77","v":4},"=",null,{"$f":"calculs!S107","v":4},"x",{"$f":"calculs!N77","v":4},"=",null,{"$f":"A4","v":1},"x",{"$f":"C4","v":{"$error":"#REF!"}},"=",{"$f":"P4*R4","v":{"$error":"#REF!"}},{"$f":"F4","v":8},"x",{"$f":"H4","v":4},"=",{"$f":"U4*W4","v":32},{"$f":"K4","v":4},"x",{"$f":"M4","v":4},"=",{"$f":"Z4*AB4","v":16}]
[{"$f":"calculs!C109","v":3},"x",{"$f":"calculs!#REF!","v":{"$error":"#REF!"}},"=",null,{"$f":"calculs!P108","v":5},"x",{"$f":"calculs!K78","v":""},"=",null,{"$f":"calculs!S108","v":10},"x",{"$f":"calculs!N78","v":""},"=",null,{"$f":"A5","v":3},"x",{"$f":"C5","v":{"$error":"#REF!"}},"=",{"$f":"P5*R5","v":{"$error":"#REF!"}},{"$f":"F5","v":5},"x",{"$f":"H5","v":""},"=",{"$f":"U5*W5","v":{"$error":"#VALUE!"}},{"$f":"K5","v":10},"x",{"$f":"M5","v":""},"=",{"$f":"Z5*AB5","v":{"$error":"#VALUE!"}}]
[{"$f":"calculs!D109","v":8},"x",{"$f":"calculs!#REF!","v":{"$error":"#REF!"}},"=",null,{"$f":"calculs!P109","v":9},"x",{"$f":"calculs!K79","v":""},"=",null,{"$f":"calculs!S109","v":6},"x",{"$f":"calculs!N79","v":""},"=",null,8,"x",{"$error":"#REF!"},"=",{"$error":"#REF!"},9,"x","","=",{"$error":"#VALUE!"},6,"x","","=",{"$error":"#VALUE!"}]
[{"$f":"calculs!E109","v":10},"x",{"$f":"calculs!#REF!","v":{"$error":"#REF!"}},"=",null,{"$f":"calculs!P110","v":2},"x",{"$f":"calculs!K80","v":""},"=",null,{"$f":"calculs!S110","v":2},"x",{"$f":"calculs!N80","v":""},"=",null,10,"x",{"$error":"#REF!"},"=",{"$error":"#REF!"},2,"x","","=",{"$error":"#VALUE!"},2,"x","","=",{"$error":"#VALUE!"}]
[{"$f":"calculs!F109","v":5},"x",{"$f":"calculs!#REF!","v":{"$error":"#REF!"}},"=",null,{"$f":"calculs!P111","v":10},"x",{"$f":"calculs!K81","v":""},"=",null,{"$f":"calculs!S111","v":5},"x",{"$f":"calculs!N81","v":""},"=",null,5,"x",{"$error":"#REF!"},"=",{"$error":"#REF!"},10,"x","","=",{"$error":"#VALUE!"},5,"x","","=",{"$error":"#VALUE!"}]
[{"$f":"calculs!G109","v":9},"x",{"$f":"calculs!B76","v":9},"=",null,{"$f":"calculs!P112","v":1},"x",{"$f":"calculs!N77","v":4},"=",null,{"$f":"calculs!S112","v":7},"x",{"$f":"calculs!Q77","v":4},"=",null,9,"x",9,"=",81,1,"x",4,"=",4,7,"x",4,"=",28]
[{"$f":"calculs!H109","v":7},"x",{"$f":"calculs!C76","v":6},"=",null,{"$f":"calculs!P113","v":3},"x",{"$f":"calculs!N78","v":""},"=",null,{"$f":"calculs!S113","v":9},"x",{"$f":"calculs!Q78","v":""},"=",null,7,"x",6,"=",42,3,"x","","=",{"$error":"#VALUE!"},9,"x","","=",{"$error":"#VALUE!"}]
[{"$f":"calculs!I109","v":6},"x",{"$f":"calculs!D76","v":4},"=",null,{"$f":"calculs!P114","v":4},"x",{"$f":"calculs!N79","v":""},"=",null,{"$f":"calculs!S114","v":3},"x",{"$f":"calculs!Q79","v":""},"=",null,6,"x",4,"=",24,4,"x","","=",{"$error":"#VALUE!"},3,"x","","=",{"$error":"#VALUE!"}]
[{"$f":"calculs!J109","v":2},"x",{"$f":"calculs!E76","v":5},"=",null,{"$f":"calculs!P115","v":7},"x",{"$f":"calculs!N80","v":""},"=",null,{"$f":"calculs!S115","v":1},"x",{"$f":"calculs!Q80","v":""},"=",null,2,"x",5,"=",10,7,"x","","=",{"$error":"#VALUE!"},1,"x","","=",{"$error":"#VALUE!"}]
[{"$f":"calculs!K109","v":4},"x",{"$f":"calculs!F76","v":7},"=",null,{"$f":"calculs!P116","v":6},"x",{"$f":"calculs!N81","v":""},"=",null,{"$f":"calculs!S116","v":8},"x",{"$f":"calculs!Q81","v":""},"=",null,4,"x",7,"=",{"$f":"P13*R13","v":28},6,"x","","=",{"$error":"#VALUE!"},8,"x","","=",{"$error":"#VALUE!"}]
[null,null,null,null,"a",null,null,null,null,"b",null,null,null,null,"c",null,null,null,null,"a",null,null,null,null,"b",null,null,null,null,"c"]
["Tables *",null,null,null,null,"Tables *",null,null,null,null,"Tables *",null,null,null,null,"Tables *",null,null,null,null,"Tables *",null,null,null,null,"Tables *"]
[]
[{"$f":"calculs!V107","v":6},"x",{"$f":"calculs!Q77","v":4},"=",null,{"$f":"calculs!Y107","v":10},"x",{"$f":"calculs!T77","v":10},"=",null,{"$f":"calculs!AB107","v":10},"x",{"$f":"calculs!W77","v":10},"=",null,{"$f":"A17","v":6},"x",{"$f":"C17","v":4},"=",{"$f":"P17*R17","v":24},{"$f":"F17","v":10},"x",{"$f":"H17","v":10},"=",{"$f":"U17*W17","v":100},{"$f":"K17","v":10},"x",{"$f":"M17","v":10},"=",{"$f":"Z17*AB17","v":100}]
[{"$f":"calculs!V108","v":8},"x",{"$f":"calculs!Q78","v":""},"=",null,{"$f":"calculs!Y108","v":3},"x",{"$f":"calculs!T78","v":7},"=",null,{"$f":"calculs!AB108","v":7},"x",{"$f":"calculs!W78","v":6},"=",null,{"$f":"A18","v":8},"x",{"$f":"C18","v":""},"=",{"$f":"P18*R18","v":{"$error":"#VALUE!"}},{"$f":"F18","v":3},"x",{"$f":"H18","v":7},"=",{"$f":"U18*W18","v":21},{"$f":"K18","v":7},"x",{"$f":"M18","v":6},"=",{"$f":"Z18*AB18","v":42}]
[{"$f":"calculs!V109","v":4},"x",{"$f":"calculs!Q79","v":""},"=",null,{"$f":"calculs!Y109","v":7},"x",{"$f":"calculs!T79","v":8},"=",null,{"$f":"calculs!AB109","v":9},"x",{"$f":"calculs!W79","v":7},"=",null,4,"x","","=",{"$error":"#VALUE!"},7,"x",8,"=",56,9,"x",7,"=",63]
[{"$f":"calculs!V110","v":7},"x",{"$f":"calculs!Q80","v":""},"=",null,{"$f":"calculs!Y110","v":6},"x",{"$f":"calculs!T80","v":5},"=",null,{"$f":"calculs!AB110","v":8},"x",{"$f":"calculs!W80","v":6},"=",null,7,"x","","=",{"$error":"#VALUE!"},6,"x",5,"=",30,8,"x",6,"=",48]
[{"$f":"calculs!V111","v":10},"x",{"$f":"calculs!Q81","v":""},"=",null,{"$f":"calculs!Y111","v":8},"x",{"$f":"calculs!T81","v":4},"=",null,{"$f":"calculs!AB111","v":1},"x",{"$f":"calculs!W81","v":7},"=",null,10,"x","","=",{"$error":"#VALUE!"},8,"x",4,"=",32,1,"x",7,"=",7]
[{"$f":"calculs!V112","v":9},"x",{"$f":"calculs!T77","v":10},"=",null,{"$f":"calculs!Y112","v":4},"x",{"$f":"calculs!W77","v":10},"=",null,{"$f":"calculs!AB112","v":4},"x",{"$f":"calculs!Z77","v":8},"=",null,9,"x",10,"=",90,4,"x",10,"=",40,4,"x",8,"=",32]
[{"$f":"calculs!V113","v":1},"x",{"$f":"calculs!T78","v":7},"=",null,{"$f":"calculs!Y113","v":9},"x",{"$f":"calculs!W78","v":6},"=",null,{"$f":"calculs!AB113","v":5},"x",{"$f":"calculs!Z78","v":8},"=",null,1,"x",7,"=",7,9,"x",6,"=",54,5,"x",8,"=",40]
[{"$f":"calculs!V114","v":2},"x",{"$f":"calculs!T79","v":8},"=",null,{"$f":"calculs!Y114","v":2},"x",{"$f":"calculs!W79","v":7},"=",null,{"$f":"calculs!AB114","v":6},"x",{"$f":"calculs!Z79","v":6},"=",null,2,"x",8,"=",16,2,"x",7,"=",14,6,"x",6,"=",36]
[{"$f":"calculs!V115","v":3},"x",{"$f":"calculs!T80","v":5},"=",null,{"$f":"calculs!Y115","v":5},"x",{"$f":"calculs!W80","v":6},"=",null,{"$f":"calculs!AB115","v":3},"x",{"$f":"calculs!Z80","v":4},"=",null,3,"x",5,"=",15,5,"x",6,"=",30,3,"x",4,"=",12]
[{"$f":"calculs!V116","v":5},"x",{"$f":"calculs!T81","v":4},"=",null,{"$f":"calculs!Y116","v":1},"x",{"$f":"calculs!W81","v":7},"=",null,{"$f":"calculs!AB116","v":2},"x",{"$f":"calculs!Z81","v":6},"=",null,5,"x",4,"=",20,1,"x",7,"=",7,2,"x",6,"=",12]
[null,null,null,null,"d",null,null,null,null,"e",null,null,null,null,"f",null,null,null,null,"d",null,null,null,null,"e",null,null,null,null,"f"]
["Tables *",null,null,null,null,"Tables *",null,null,null,null,"Tables *",null,null,null,null,"Tables *",null,null,null,null,"Tables *",null,null,null,null,"Tables *"]
[]
[{"$f":"calculs!AE107","v":4},"x",{"$f":"calculs!Z77","v":8},"=",null,{"$f":"calculs!AH107","v":3},"x",{"$f":"calculs!AC77","v":10},"=",null,{"$f":"calculs!AK107","v":6},"x",{"$f":"calculs!AF77","v":10},"=",null,{"$f":"A30","v":4},"x",{"$f":"C30","v":8},"=",{"$f":"P30*R30","v":32},{"$f":"F30","v":3},"x",{"$f":"H30","v":10},"=",{"$f":"U30*W30","v":30},{"$f":"K30","v":6},"x",{"$f":"M30","v":10},"=",{"$f":"Z30*AB30","v":60}]
[{"$f":"calculs!AE108","v":8},"x",{"$f":"calculs!Z78","v":8},"=",null,{"$f":"calculs!AH108","v":5},"x",{"$f":"calculs!AC78","v":5},"=",null,{"$f":"calculs!AK108","v":1},"x",{"$f":"calculs!AF78","v":4},"=",null,{"$f":"A31","v":8},"x",{"$f":"C31","v":8},"=",{"$f":"P31*R31","v":64},{"$f":"F31","v":5},"x",{"$f":"H31","v":5},"=",{"$f":"U31*W31","v":25},{"$f":"K31","v":1},"x",{"$f":"M31","v":4},"=",{"$f":"Z31*AB31","v":4}]
[{"$f":"calculs!AE109","v":5},"x",{"$f":"calculs!Z79","v":6},"=",null,{"$f":"calculs!AH109","v":10},"x",{"$f":"calculs!AC79","v":5},"=",null,{"$f":"calculs!AK109","v":5},"x",{"$f":"calculs!AF79","v":9},"=",null,5,"x",6,"=",30,10,"x",5,"=",50,5,"x",9,"=",45]
[{"$f":"calculs!AE110","v":2},"x",{"$f":"calculs!Z80","v":4},"=",null,{"$f":"calculs!AH110","v":7},"x",{"$f":"calculs!AC80","v":8},"=",null,{"$f":"calculs!AK110","v":4},"x",{"$f":"calculs!AF80","v":7},"=",null,2,"x",4,"=",8,7,"x",8,"=",56,4,"x",7,"=",28]
[{"$f":"calculs!AE111","v":7},"x",{"$f":"calculs!Z81","v":6},"=",null,{"$f":"calculs!AH111","v":2},"x",{"$f":"calculs!AC81","v":9},"=",null,{"$f":"calculs!AK111","v":7},"x",{"$f":"calculs!AF81","v":5},"=",null,7,"x",6,"=",42,2,"x",9,"=",18,7,"x",5,"=",35]
[{"$f":"calculs!AE112","v":10},"x",{"$f":"calculs!AC77","v":10},"=",null,{"$f":"calculs!AH112","v":6},"x",{"$f":"calculs!AF77","v":10},"=",null,{"$f":"calculs!AK112","v":3},"x",{"$f":"calculs!AI77","v":9},"=",null,10,"x",10,"=",100,6,"x",10,"=",60,3,"x",9,"=",27]
[{"$f":"calculs!AE113","v":1},"x",{"$f":"calculs!AC78","v":5},"=",null,{"$f":"calculs!AH113","v":4},"x",{"$f":"calculs!AF78","v":4},"=",null,{"$f":"calculs!AK113","v":10},"x",{"$f":"calculs!AI78","v":9},"=",null,1,"x",5,"=",5,4,"x",4,"=",16,10,"x",9,"=",90]
[{"$f":"calculs!AE114","v":6},"x",{"$f":"calculs!AC79","v":5},"=",null,{"$f":"calculs!AH114","v":9},"x",{"$f":"calculs!AF79","v":9},"=",null,{"$f":"calculs!AK114","v":2},"x",{"$f":"calculs!AI79","v":4},"=",null,6,"x",5,"=",30,9,"x",9,"=",81,2,"x",4,"=",8]
[{"$f":"calculs!AE115","v":9},"x",{"$f":"calculs!AC80","v":8},"=",null,{"$f":"calculs!AH115","v":1},"x",{"$f":"calculs!AF80","v":7},"=",null,{"$f":"calculs!AK115","v":9},"x",{"$f":"calculs!AI80","v":9},"=",null,9,"x",8,"=",72,1,"x",7,"=",7,9,"x",9,"=",81]
[{"$f":"calculs!AE116","v":3},"x",{"$f":"calculs!AC81","v":9},"=",null,{"$f":"calculs!AH116","v":8},"x",{"$f":"calculs!AF81","v":5},"=",null,{"$f":"calculs!AK116","v":8},"x",{"$f":"calculs!AI81","v":8},"=",null,3,"x",9,"=",27,8,"x",5,"=",40,8,"x",8,"=",64]
[null,null,null,null,"g",null,null,null,null,"h",null,null,null,null,"i",null,null,null,null,"g",null,null,null,null,"h",null,null,null,null,"i"]

{"sheet":"Table --> 10","index":5,"n_rows":40,"n_cols":15,"rows_kept":40,"cut":false,"hidden":false,"merged":[[27,0,27,4],[27,5,27,9],[27,10,27,14],[1,0,1,4],[1,5,1,9],[1,10,1,14],[14,10,14,14],[14,5,14,9],[14,0,14,4]]}
[]
["Tables ***",null,null,null,null,"Tables ***",null,null,null,null,"Tables ***"]
[]
[{"$f":"calculs!C39","v":3},"*",{"$f":"calculs!B42","v":9},"=",null,3,"x",7,"=",null,6,"x",4,"="]
[{"$f":"calculs!D39","v":10},"x",{"$f":"calculs!C42","v":5},"=",null,7,"x",8,"=",null,7,"x",8,"="]
[{"$f":"calculs!E39","v":4},"x",{"$f":"calculs!D42","v":6},"=",null,4,"x",6,"=",null,8,"x",9,"="]
[{"$f":"calculs!F39","v":5},"x",{"$f":"calculs!E42","v":7},"=",null,6,"x",9,"=",null,4,"x",6,"="]
[{"$f":"calculs!G39","v":8},"x",{"$f":"calculs!F42","v":3},"=",null,8,"x",3,"=",null,4,"x",9,"="]
[{"$f":"calculs!H39","v":2},"x",{"$f":"calculs!G42","v":1},"=",null,9,"x",8,"=",null,5,"x",6,"="]
[{"$f":"calculs!I39","v":9},"x",{"$f":"calculs!H42","v":10},"=",null,3,"x",4,"=",null,7,"x",7,"="]
[{"$f":"calculs!J39","v":1},"x",{"$f":"calculs!I42","v":8},"=",null,9,"x",9,"=",null,8,"x",8,"="]
[{"$f":"calculs!K39","v":6},"x",{"$f":"calculs!J42","v":4},"=",null,10,"x",6,"=",null,8,"x",7,"="]
[{"$f":"calculs!B39","v":7},"x",{"$f":"calculs!K42","v":2},"=",null,9,"x",7,"=",null,6,"x",3,"="]
[null,null,null,null,"a",null,null,null,null,"b",null,null,null,null,"c"]
["Tables ***",null,null,null,null,"Tables ***",null,null,null,null,"Tables ***"]
[]
[5,"x",9,"=",null,4,"x",3,"=",null,9,"x",9,"="]
[5,"x",7,"=",null,5,"x",8,"=",null,8,"x",8,"="]
[7,"x",6,"=",null,6,"x",7,"=",null,7,"x",4,"="]
[2,"x",8,"=",null,9,"x",9,"=",null,4,"x",7,"="]
[9,"x",3,"=",null,7,"x",7,"=",null,9,"x",6,"="]
[7,"x",9,"=",null,3,"x",6,"=",null,8,"x",9,"="]
[6,"x",4,"=",null,6,"x",8,"=",null,8,"x",3,"="]
[9,"x",7,"=",null,6,"x",9,"=",null,3,"x",7,"="]
[8,"x",6,"=",null,8,"x",4,"=",null,7,"x",8,"="]
[8,"x",8,"=",null,6,"x",6,"=",null,5,"x",6,"="]
[null,null,null,null,"d",null,null,null,null,"e",null,null,null,null,"f"]
["Tables ***",null,null,null,null,"Tables ***",null,null,null,null,"Tables ***"]
[]
[8,"x",8,"=",null,8,"x",8,"=",null,6,"x",8,"="]
[8,"x",7,"=",null,3,"x",6,"=",null,3,"x",8,"="]
[7,"x",6,"=",null,9,"x",9,"=",null,7,"x",9,"="]
[4,"x",9,"=",null,9,"x",6,"=",null,2,"x",3,"="]
[5,"x",8,"=",null,7,"x",7,"=",null,8,"x",7,"="]
[4,"x",3,"=",null,4,"x",4,"=",null,10,"x",4,"="]
[6,"x",7,"=",null,2,"x",8,"=",null,8,"x",6,"="]
[6,"x",4,"=",null,8,"x",7,"=",null,6,"x",9,"="]
[8,"x",9,"=",null,7,"x",9,"=",null,3,"x",6,"="]
[6,"x",6,"=",null,9,"x",3,"=",null,4,"x",7,"="]
[null,null,null,null,"g",null,null,null,null,"h",null,null,null,null,"i"]

{"sheet":"Pythagores (ordre)","index":6,"n_rows":43,"n_cols":26,"rows_kept":43,"cut":false,"hidden":false,"merged":[[13,0,13,5],[28,0,28,5],[42,0,42,5]]}
[]
[]
[null,"x",1,2,3,4,5,6,7,8,9,10,null,null,null,"x",1,2,3,4,5,6,7,8,9,10]
[null,1,null,null,null,null,null,null,null,null,null,null,null,null,null,1]
[null,2,null,null,null,null,null,null,null,null,null,null,null,null,null,2]
[null,3,null,null,null,null,null,null,null,null,null,null,null,null,null,3]
[null,4,null,null,null,null,null,null,null,null,null,null,null,null,null,4]
[null,5,null,null,null,null,null,null,null,null,null,null,null,null,null,5]
[null,6,null,null,null,null,null,null,null,null,null,null,null,null,null,6]
[null,7,null,null,null,null,null,null,null,null,null,null,null,null,null,7]
[null,8,null,null,null,null,null,null,null,null,null,null,null,null,null,8]
[null,9,null,null,null,null,null,null,null,null,null,null,null,null,null,9]
[null,10,null,null,null,null,null,null,null,null,null,null,null,null,null,10]
["Réussite:          %.",null,null,null,null,null,"Temps:      min.       sec.",null,null,null,null,null,null,null,null,"Réussite:         %",null,null,null,null,"Temps:      min.       sec."]
[]
[]
[]
[null,"x",1,2,3,4,5,6,7,8,9,10,null,null,null,"x",1,2,3,4,5,6,7,8,9,10]
[null,1,null,null,null,null,null,null,null,null,null,null,null,null,null,1]
[null,2,null,null,null,null,null,null,null,null,null,null,null,null,null,2]
[null,3,null,null,null,null,null,null,null,null,null,null,null,null,null,3]
[null,4,null,null,null,null,null,null,null,null,null,null,null,null,null,4]
[null,5,null,null,null,null,null,null,null,null,null,null,null,null,null,5]
[null,6,null,null,null,null,null,null,null,null,null,null,null,null,null,6]
[null,7,null,null,null,null,null,null,null,null,null,null,null,null,null,7]
[null,8,null,null,null,null,null,null,null,null,null,null,null,null,null,8]
[null,9,null,null,null,null,null,null,null,null,null,null,null,null,null,9]
[null,10,null,null,null,null,null,null,null,null,null,null,null,null,null,10]
["Réussite:          %.",null,null,null,null,null,"Temps:      min.       sec.",null,null,null,null,null,null,null,null,"Réussite:         %",null,null,null,null,"Temps:      min.       sec."]
[]
[]
[null,"x",1,2,3,4,5,6,7,8,9,10,null,null,null,"x",1,2,3,4,5,6,7,8,9,10]
[null,1,null,null,null,null,null,null,null,null,null,null,null,null,null,1]
[null,2,null,null,null,null,null,null,null,null,null,null,null,null,null,2]
[null,3,null,null,null,null,null,null,null,null,null,null,null,null,null,3]
[null,4,null,null,null,null,null,null,null,null,null,null,null,null,null,4]
[null,5,null,null,null,null,null,null,null,null,null,null,null,null,null,5]
[null,6,null,null,null,null,null,null,null,null,null,null,null,null,null,6]
[null,7,null,null,null,null,null,null,null,null,null,null,null,null,null,7]
[null,8,null,null,null,null,null,null,null,null,null,null,null,null,null,8]
[null,9,null,null,null,null,null,null,null,null,null,null,null,null,null,9]
[null,10,null,null,null,null,null,null,null,null,null,null,null,null,null,10]
["Réussite:          %.",null,null,null,null,null,"Temps:      min.       sec.",null,null,null,null,null,null,null,null,"Réussite:         %",null,null,null,null,"Temps:      min.       sec."]

{"sheet":"Pythagores (25) -->choisir","index":7,"n_rows":30,"n_cols":19,"rows_kept":30,"cut":false,"hidden":false,"merged":[[29,1,29,9],[1,9,1,10],[1,11,1,12],[2,11,2,12],[2,9,2,10],[4,3,4,7],[4,13,4,17],[13,3,13,7],[13,13,13,17],[22,3,22,7],[22,13,22,17],[20,1,20,9]]}
[null,null,null,null,"Pour générer de nouvelles tables, appuyez sur F9"]
[null,null,null,1,2,3,4,5,null,6,null,7,null,8,9,10]
[null,null,null,null,null,null,"ok","ok",null,"ok",null,"ok",null,"ok","ok"]
[]
[null,null,null,"25 cases (facile) --> 3 minutes maxi",null,null,null,null,null,null,null,null,null,"25 cases (facile) --> 3 minutes maxi"]
[null,null,"x",{"$f":"calculs!B109","v":1},{"$f":"calculs!C109","v":3},{"$f":"calculs!D109","v":8},{"$f":"calculs!E109","v":10},{"$f":"calculs!F109","v":5},"x",null,null,null,"x",{"$f":"HLOOKUP(calculs!B4,calculs!B4:K6,3,TRUE)","v":4},{"$f":"HLOOKUP(calculs!C4,calculs!B4:K6,3,TRUE)","v":8},{"$f":"HLOOKUP(calculs!D4,calculs!B4:K6,3,TRUE)","v":5},{"$f":"HLOOKUP(calculs!E4,calculs!B4:K6,3,TRUE)","v":10},{"$f":"HLOOKUP(calculs!F4,calculs!B4:K6,3,TRUE)","v":7},"x"]
[null,null,{"$f":"calculs!B$73","v":3},null,null,null,null,null,{"$f":"C7","v":3},null,null,null,{"$f":"calculs!B76","v":9},null,null,null,null,null,{"$f":"M7","v":9}]
[null,null,{"$f":"calculs!C$73","v":1},null,null,null,null,null,{"$f":"C8","v":1},null,null,null,{"$f":"calculs!C76","v":6},null,null,null,null,null,{"$f":"M8","v":6}]
[null,null,{"$f":"calculs!D$73","v":5},null,null,null,null,null,5,null,null,null,{"$f":"calculs!D76","v":4},null,null,null,null,null,4]
[null,null,{"$f":"calculs!E$73","v":2},null,null,null,null,null,2,null,null,null,{"$f":"calculs!E76","v":5},null,null,null,null,null,5]
[null,null,{"$f":"calculs!F$73","v":4},null,null,null,null,null,4,null,null,null,{"$f":"calculs!F76","v":7},null,null,null,null,null,7]
[null,null,null,null,null,"Temps:      min.       sec.",null,null,null,null,null,null,null,null,null,"Temps:      min.       sec."]
[]
[null,null,null,"25 cases (facile) --> 3 minutes maxi",null,null,null,null,null,null,null,null,null,"25 cases (facile) --> 3 minutes maxi"]
[null,null,"x",{"$f":"HLOOKUP(calculs!B$10,calculs!$B$10:$K$12,3,TRUE)","v":8},{"$f":"HLOOKUP(calculs!C$10,calculs!$B$10:$K$12,3,TRUE)","v":2},{"$f":"HLOOKUP(calculs!D$10,calculs!$B$10:$K$12,3,TRUE)","v":6},{"$f":"HLOOKUP(calculs!E$10,calculs!$B$10:$K$12,3,TRUE)","v":10},{"$f":"HLOOKUP(calculs!F$10,calculs!$B$10:$K$12,3,TRUE)","v":4},"x",null,null,null,"x",{"$f":"HLOOKUP(calculs!B$16,calculs!$B$16:$K$18,3,TRUE)","v":1},{"$f":"HLOOKUP(calculs!C$16,calculs!$B$16:$K$18,3,TRUE)","v":4},{"$f":"HLOOKUP(calculs!D$16,calculs!$B$16:$K$18,3,TRUE)","v":9},{"$f":"HLOOKUP(calculs!E$16,calculs!$B$16:$K$18,3,TRUE)","v":5},{"$f":"HLOOKUP(calculs!F$16,calculs!$B$16:$K$18,3,TRUE)","v":7},"x"]
[null,null,{"$f":"calculs!B79","v":8},null,null,null,null,null,{"$f":"C16","v":8},null,null,null,{"$f":"calculs!B82","v":9},null,null,null,null,null,{"$f":"M16","v":9}]
[null,null,{"$f":"calculs!C79","v":4},null,null,null,null,null,{"$f":"C17","v":4},null,null,null,{"$f":"calculs!C82","v":7},null,null,null,null,null,{"$f":"M17","v":7}]
[null,null,{"$f":"calculs!D79","v":5},null,null,null,null,null,5,null,null,null,{"$f":"calculs!D82","v":8},null,null,null,null,null,8]
[null,null,{"$f":"calculs!E79","v":6},null,null,null,null,null,6,null,null,null,{"$f":"calculs!E82","v":5},null,null,null,null,null,5]
[null,null,{"$f":"calculs!F79","v":7},null,null,null,null,null,7,null,null,null,{"$f":"calculs!F82","v":4},null,null,null,null,null,4]
[null,"Temps:      min.       sec.",null,null,null,null,null,null,null,null,null,null,null,null,null,"Temps:      min.       sec."]
[]
[null,null,null,"25 cases (facile) --> 3 minutes maxi",null,null,null,null,null,null,null,null,null,"25 cases (facile) --> 3 minutes maxi"]
[null,null,"x",{"$f":"HLOOKUP(calculs!B$19,calculs!$B$19:$K$21,3,TRUE)","v":1},{"$f":"HLOOKUP(calculs!C$19,calculs!$B$19:$K$21,3,TRUE)","v":9},{"$f":"HLOOKUP(calculs!D$19,calculs!$B$19:$K$21,3,TRUE)","v":2},{"$f":"HLOOKUP(calculs!E$19,calculs!$B$19:$K$21,3,TRUE)","v":8},{"$f":"HLOOKUP(calculs!F$19,calculs!$B$19:$K$21,3,TRUE)","v":5},"x",null,null,null,"x",{"$f":"HLOOKUP(calculs!B$28,calculs!$B$28:$K$30,3,TRUE)","v":1},{"$f":"HLOOKUP(calculs!C$28,calculs!$B$28:$K$30,3,TRUE)","v":8},{"$f":"HLOOKUP(calculs!D$28,calculs!$B$28:$K$30,3,TRUE)","v":9},{"$f":"HLOOKUP(calculs!E$28,calculs!$B$28:$K$30,3,TRUE)","v":6},{"$f":"HLOOKUP(calculs!F$28,calculs!$B$28:$K$30,3,TRUE)","v":4},"x"]
[null,null,{"$f":"calculs!B85","v":7},null,null,null,null,null,{"$f":"C25","v":7},null,null,null,{"$f":"calculs!B88","v":4},null,null,null,null,null,{"$f":"M25","v":4}]
[null,null,{"$f":"calculs!C85","v":9},null,null,null,null,null,{"$f":"C26","v":9},null,null,null,{"$f":"calculs!C88","v":5},null,null,null,null,null,{"$f":"M26","v":5}]
[null,null,{"$f":"calculs!D85","v":5},null,null,null,null,null,5,null,null,null,{"$f":"calculs!D88","v":8},null,null,null,null,null,8]
[null,null,{"$f":"calculs!E85","v":6},null,null,null,null,null,6,null,null,null,{"$f":"calculs!E88","v":9},null,null,null,null,null,9]
[null,null,{"$f":"calculs!F85","v":8},null,null,null,null,null,8,null,null,null,{"$f":"calculs!F88","v":7},null,null,null,null,null,7]
[null,"Temps:      min.       sec.",null,null,null,null,null,null,null,null,null,null,null,null,null,"Temps:      min.       sec."]

{"sheet":"Pythagores (25) -->toutes","index":8,"n_rows":28,"n_cols":19,"rows_kept":28,"cut":false,"hidden":false,"merged":[[27,1,27,9],[2,3,2,7],[2,13,2,17],[11,3,11,7],[11,13,11,17],[20,3,20,7],[20,13,20,17],[18,1,18,9]]}
[null,null,null,null,"Pour générer de nouvelles tables, appuyez sur F9"]
[]
[null,null,null,"25 cases (difficile) --> 3 minutes maxi",null,null,null,null,null,null,null,null,null,"25 cases (difficile) --> 3 minutes maxi"]
[null,null,"x",{"$f":"calculs!C42","v":5},{"$f":"calculs!D42","v":6},{"$f":"calculs!E39","v":4},{"$f":"calculs!F42","v":3},{"$f":"calculs!G42","v":1},"x",null,null,null,"x",{"$f":"HLOOKUP(calculs!B1,calculs!$B$1:$K$3,3,TRUE)","v":2},{"$f":"HLOOKUP(calculs!C1,calculs!$B$1:$K$3,3,TRUE)","v":5},{"$f":"HLOOKUP(calculs!D1,calculs!$B$1:$K$3,3,TRUE)","v":10},{"$f":"HLOOKUP(calculs!E1,calculs!$B$1:$K$3,3,TRUE)","v":7},{"$f":"HLOOKUP(calculs!F1,calculs!$B$1:$K$3,3,TRUE)","v":8},"x"]
[null,null,{"$f":"calculs!C39","v":3},null,null,null,null,null,{"$f":"C5","v":3},null,null,null,{"$f":"HLOOKUP(calculs!B4,calculs!B4:K6,3,TRUE)","v":4},null,null,null,null,null,{"$f":"M5","v":4}]
[null,null,{"$f":"calculs!D39","v":10},null,null,null,null,null,{"$f":"C6","v":10},null,null,null,{"$f":"HLOOKUP(calculs!C4,calculs!B4:K6,3,TRUE)","v":8},null,null,null,null,null,{"$f":"M6","v":8}]
[null,null,{"$f":"calculs!E39","v":4},null,null,null,null,null,4,null,null,null,{"$f":"HLOOKUP(calculs!D4,calculs!B4:K6,3,TRUE)","v":5},null,null,null,null,null,5]
[null,null,{"$f":"calculs!F39","v":5},null,null,null,null,null,5,null,null,null,{"$f":"HLOOKUP(calculs!E4,calculs!B4:K6,3,TRUE)","v":10},null,null,null,null,null,10]
[null,null,{"$f":"calculs!G39","v":8},null,null,null,null,null,8,null,null,null,{"$f":"HLOOKUP(calculs!F4,calculs!B4:K6,3,TRUE)","v":7},null,null,null,null,null,7]
[null,null,null,null,null,"Temps:      min.       sec.",null,null,null,null,null,null,null,null,null,"Temps:      min.       sec."]
[]
[null,null,null,"25 cases (difficile) --> 3 minutes maxi",null,null,null,null,null,null,null,null,null,"25 cases (difficile) --> 3 minutes maxi"]
[null,null,"x",{"$f":"HLOOKUP(calculs!B7,calculs!$B$7:$K$9,3,TRUE)","v":8},{"$f":"HLOOKUP(calculs!C7,calculs!$B$7:$K$9,3,TRUE)","v":6},{"$f":"HLOOKUP(calculs!D7,calculs!$B$7:$K$9,3,TRUE)","v":4},{"$f":"HLOOKUP(calculs!E7,calculs!$B$7:$K$9,3,TRUE)","v":9},{"$f":"HLOOKUP(calculs!F7,calculs!$B$7:$K$9,3,TRUE)","v":10},"x",null,null,null,"x",{"$f":"HLOOKUP(calculs!B13,calculs!$B$13:$K$15,3,TRUE)","v":2},{"$f":"HLOOKUP(calculs!C13,calculs!$B$13:$K$15,3,TRUE)","v":3},{"$f":"HLOOKUP(calculs!D13,calculs!$B$13:$K$15,3,TRUE)","v":7},{"$f":"HLOOKUP(calculs!E13,calculs!$B$13:$K$15,3,TRUE)","v":10},{"$f":"HLOOKUP(calculs!F13,calculs!$B$13:$K$15,3,TRUE)","v":9},"x"]
[null,null,{"$f":"HLOOKUP(calculs!B$10,calculs!$B$10:$K$12,3,TRUE)","v":8},null,null,null,null,null,{"$f":"C14","v":8},null,null,null,{"$f":"HLOOKUP(calculs!B$16,calculs!$B$16:$K$18,3,TRUE)","v":1},null,null,null,null,null,{"$f":"M14","v":1}]
[null,null,{"$f":"HLOOKUP(calculs!C$10,calculs!$B$10:$K$12,3,TRUE)","v":2},null,null,null,null,null,{"$f":"C15","v":2},null,null,null,{"$f":"HLOOKUP(calculs!C$16,calculs!$B$16:$K$18,3,TRUE)","v":4},null,null,null,null,null,{"$f":"M15","v":4}]
[null,null,{"$f":"HLOOKUP(calculs!D$10,calculs!$B$10:$K$12,3,TRUE)","v":6},null,null,null,null,null,6,null,null,null,{"$f":"HLOOKUP(calculs!D$16,calculs!$B$16:$K$18,3,TRUE)","v":9},null,null,null,null,null,9]
[null,null,{"$f":"HLOOKUP(calculs!E$10,calculs!$B$10:$K$12,3,TRUE)","v":10},null,null,null,null,null,10,null,null,null,{"$f":"HLOOKUP(calculs!E$16,calculs!$B$16:$K$18,3,TRUE)","v":5},null,null,null,null,null,5]
[null,null,{"$f":"HLOOKUP(calculs!F$10,calculs!$B$10:$K$12,3,TRUE)","v":4},null,null,null,null,null,4,null,null,null,{"$f":"HLOOKUP(calculs!F$16,calculs!$B$16:$K$18,3,TRUE)","v":7},null,null,null,null,null,7]
[null,"Temps:      min.       sec.",null,null,null,null,null,null,null,null,null,null,null,null,null,"Temps:      min.       sec."]
[]
[null,null,null,"25 cases (difficile) --> 3 minutes maxi",null,null,null,null,null,null,null,null,null,"25 cases (difficile) --> 3 minutes maxi"]
[null,null,"x",{"$f":"HLOOKUP(calculs!B22,calculs!$B$22:$K$24,3,TRUE)","v":1},{"$f":"HLOOKUP(calculs!C22,calculs!$B$22:$K$24,3,TRUE)","v":10},{"$f":"HLOOKUP(calculs!D22,calculs!$B$22:$K$24,3,TRUE)","v":4},{"$f":"HLOOKUP(calculs!E22,calculs!$B$22:$K$24,3,TRUE)","v":6},{"$f":"HLOOKUP(calculs!F22,calculs!$B$22:$K$24,3,TRUE)","v":7},"x",null,null,null,"x",{"$f":"HLOOKUP(calculs!B25,calculs!$B$25:$K$27,3,TRUE)","v":8},{"$f":"HLOOKUP(calculs!C25,calculs!$B$25:$K$27,3,TRUE)","v":4},{"$f":"HLOOKUP(calculs!D25,calculs!$B$25:$K$27,3,TRUE)","v":9},{"$f":"HLOOKUP(calculs!E25,calculs!$B$25:$K$27,3,TRUE)","v":10},{"$f":"HLOOKUP(calculs!F25,calculs!$B$25:$K$27,3,TRUE)","v":2},"x"]
[null,null,{"$f":"HLOOKUP(calculs!B$19,calculs!$B$19:$K$21,3,TRUE)","v":1},null,null,null,null,null,{"$f":"C23","v":1},null,null,null,{"$f":"HLOOKUP(calculs!B$28,calculs!$B$28:$K$30,3,TRUE)","v":1},null,null,null,null,null,{"$f":"M23","v":1}]
[null,null,{"$f":"HLOOKUP(calculs!C$19,calculs!$B$19:$K$21,3,TRUE)","v":9},null,null,null,null,null,{"$f":"C24","v":9},null,null,null,{"$f":"HLOOKUP(calculs!C$28,calculs!$B$28:$K$30,3,TRUE)","v":8},null,null,null,null,null,{"$f":"M24","v":8}]
[null,null,{"$f":"HLOOKUP(calculs!D$19,calculs!$B$19:$K$21,3,TRUE)","v":2},null,null,null,null,null,2,null,null,null,{"$f":"HLOOKUP(calculs!D$28,calculs!$B$28:$K$30,3,TRUE)","v":9},null,null,null,null,null,9]
[null,null,{"$f":"HLOOKUP(calculs!E$19,calculs!$B$19:$K$21,3,TRUE)","v":8},null,null,null,null,null,8,null,null,null,{"$f":"HLOOKUP(calculs!E$28,calculs!$B$28:$K$30,3,TRUE)","v":6},null,null,null,null,null,6]
[null,null,{"$f":"HLOOKUP(calculs!F$19,calculs!$B$19:$K$21,3,TRUE)","v":5},null,null,null,null,null,5,null,null,null,{"$f":"HLOOKUP(calculs!F$28,calculs!$B$28:$K$30,3,TRUE)","v":4},null,null,null,null,null,4]
[null,"Temps:      min.       sec.",null,null,null,null,null,null,null,null,null,null,null,null,null,"Temps:      min.       sec."]

{"sheet":"Pythagores (49)","index":9,"n_rows":36,"n_cols":23,"rows_kept":36,"cut":false,"hidden":false,"merged":[[26,3,26,9],[26,15,26,21],[0,1,0,23],[4,3,4,9],[4,15,4,21],[15,3,15,9],[15,15,15,21]]}
[null,"Enlever les tables de:"]
[null,1,"oui",2,"oui",3,"non",4,"oui",5,null,"oui",6,"oui",7,"oui",8,"oui",9,"oui",10,"non"]
[null,null,null,null,"Pour générer de nouvelles tables, appuyez sur F9"]
[]
[null,null,null,"49 cases (5 minutes maxi)",null,null,null,null,null,null,null,null,null,null,null,"49 cases (5 minutes maxi)"]
[null,null,"x",{"$f":"HLOOKUP(calculs!B25,calculs!$B$1:$K$25,3,TRUE)","v":2},{"$f":"HLOOKUP(calculs!C25,calculs!$B$1:$K$25,3,TRUE)","v":5},{"$f":"HLOOKUP(calculs!D25,calculs!$B$1:$K$25,3,TRUE)","v":10},{"$f":"HLOOKUP(calculs!E25,calculs!$B$1:$K$25,3,TRUE)","v":7},{"$f":"HLOOKUP(calculs!F25,calculs!$B$1:$K$25,3,TRUE)","v":8},{"$f":"HLOOKUP(calculs!G25,calculs!$B$1:$K$25,3,TRUE)","v":6},{"$f":"HLOOKUP(calculs!H25,calculs!$B$1:$K$25,3,TRUE)","v":9},"x",null,null,null,"x",{"$f":"HLOOKUP(calculs!B1,calculs!$B$1:$K$3,3,TRUE)","v":2},{"$f":"HLOOKUP(calculs!C1,calculs!$B$1:$K$3,3,TRUE)","v":5},{"$f":"HLOOKUP(calculs!D1,calculs!$B$1:$K$3,3,TRUE)","v":10},{"$f":"HLOOKUP(calculs!E1,calculs!$B$1:$K$3,3,TRUE)","v":7},{"$f":"HLOOKUP(calculs!F1,calculs!$B$1:$K$3,3,TRUE)","v":8},{"$f":"HLOOKUP(calculs!G1,calculs!$B$1:$K$3,3,TRUE)","v":6},{"$f":"HLOOKUP(calculs!H1,calculs!$B$1:$K$3,3,TRUE)","v":9},"x"]
[null,null,{"$f":"HLOOKUP(calculs!B28,calculs!$B$28:$K$30,3,TRUE)","v":1},null,null,null,null,null,null,null,{"$f":"C7","v":1},null,null,null,{"$f":"HLOOKUP(calculs!B4,calculs!B4:K6,3,TRUE)","v":4},null,null,null,null,null,null,null,{"$f":"O7","v":4}]
[null,null,{"$f":"HLOOKUP(calculs!C28,calculs!$B$28:$K$30,3,TRUE)","v":8},null,null,null,null,null,null,null,{"$f":"C8","v":8},null,null,null,{"$f":"HLOOKUP(calculs!C4,calculs!B4:K6,3,TRUE)","v":8},null,null,null,null,null,null,null,{"$f":"O8","v":8}]
[null,null,{"$f":"HLOOKUP(calculs!D28,calculs!$B$28:$K$30,3,TRUE)","v":9},null,null,null,null,null,null,null,9,null,null,null,{"$f":"HLOOKUP(calculs!D4,calculs!B4:K6,3,TRUE)","v":5},null,null,null,null,null,null,null,5]
[null,null,{"$f":"HLOOKUP(calculs!E28,calculs!$B$28:$K$30,3,TRUE)","v":6},null,null,null,null,null,null,null,6,null,null,null,{"$f":"HLOOKUP(calculs!E4,calculs!B4:K6,3,TRUE)","v":10},null,null,null,null,null,null,null,10]
[null,null,{"$f":"HLOOKUP(calculs!F28,calculs!$B$28:$K$30,3,TRUE)","v":4},null,null,null,null,null,null,null,4,null,null,null,{"$f":"HLOOKUP(calculs!F4,calculs!B4:K6,3,TRUE)","v":7},null,null,null,null,null,null,null,7]
[null,null,{"$f":"HLOOKUP(calculs!G28,calculs!$B$28:$K$30,3,TRUE)","v":3},null,null,null,null,null,null,null,3,null,null,null,{"$f":"HLOOKUP(calculs!G4,calculs!B4:K6,3,TRUE)","v":1},null,null,null,null,null,null,null,1]
[null,null,{"$f":"HLOOKUP(calculs!H28,calculs!$B$28:$K$30,3,TRUE)","v":10},null,null,null,null,null,null,null,10,null,null,null,{"$f":"HLOOKUP(calculs!H4,calculs!B4:K6,3,TRUE)","v":3},null,null,null,null,null,null,null,3]
[null,null,null,null,null,null,"Temps:      min.       sec.",null,null,null,null,null,null,null,null,null,null,null,"Temps:      min.       sec."]
[]
[null,null,null,"49 cases (5 minutes maxi)",null,null,null,null,null,null,null,null,null,null,null,"49 cases (5 minutes maxi)"]
[null,null,"x",{"$f":"HLOOKUP(calculs!B7,calculs!$B$7:$K$9,3,TRUE)","v":8},{"$f":"HLOOKUP(calculs!C7,calculs!$B$7:$K$9,3,TRUE)","v":6},{"$f":"HLOOKUP(calculs!D7,calculs!$B$7:$K$9,3,TRUE)","v":4},{"$f":"HLOOKUP(calculs!E7,calculs!$B$7:$K$9,3,TRUE)","v":9},{"$f":"HLOOKUP(calculs!F7,calculs!$B$7:$K$9,3,TRUE)","v":10},{"$f":"HLOOKUP(calculs!G7,calculs!$B$7:$K$9,3,TRUE)","v":5},{"$f":"HLOOKUP(calculs!H7,calculs!$B$7:$K$9,3,TRUE)","v":7},"x",null,null,null,"x",{"$f":"HLOOKUP(calculs!B13,calculs!$B$13:$K$15,3,TRUE)","v":2},{"$f":"HLOOKUP(calculs!C13,calculs!$B$13:$K$15,3,TRUE)","v":3},{"$f":"HLOOKUP(calculs!D13,calculs!$B$13:$K$15,3,TRUE)","v":7},{"$f":"HLOOKUP(calculs!E13,calculs!$B$13:$K$15,3,TRUE)","v":10},{"$f":"HLOOKUP(calculs!F13,calculs!$B$13:$K$15,3,TRUE)","v":9},{"$f":"HLOOKUP(calculs!G13,calculs!$B$13:$K$15,3,TRUE)","v":1},{"$f":"HLOOKUP(calculs!H13,calculs!$B$13:$K$15,3,TRUE)","v":6},"x"]
[null,null,{"$f":"HLOOKUP(calculs!B$10,calculs!$B$10:$K$12,3,TRUE)","v":8},null,null,null,null,null,null,null,{"$f":"C18","v":8},null,null,null,{"$f":"HLOOKUP(calculs!B$16,calculs!$B$16:$K$18,3,TRUE)","v":1},null,null,null,null,null,null,null,{"$f":"O18","v":1}]
[null,null,{"$f":"HLOOKUP(calculs!C$10,calculs!$B$10:$K$12,3,TRUE)","v":2},null,null,null,null,null,null,null,{"$f":"C19","v":2},null,null,null,{"$f":"HLOOKUP(calculs!C$16,calculs!$B$16:$K$18,3,TRUE)","v":4},null,null,null,null,null,null,null,{"$f":"O19","v":4}]
[null,null,{"$f":"HLOOKUP(calculs!D$10,calculs!$B$10:$K$12,3,TRUE)","v":6},null,null,null,null,null,null,null,6,null,null,null,{"$f":"HLOOKUP(calculs!D$16,calculs!$B$16:$K$18,3,TRUE)","v":9},null,null,null,null,null,null,null,9]
[null,null,{"$f":"HLOOKUP(calculs!E$10,calculs!$B$10:$K$12,3,TRUE)","v":10},null,null,null,null,null,null,null,10,null,null,null,{"$f":"HLOOKUP(calculs!E$16,calculs!$B$16:$K$18,3,TRUE)","v":5},null,null,null,null,null,null,null,5]
[null,null,{"$f":"HLOOKUP(calculs!F$10,calculs!$B$10:$K$12,3,TRUE)","v":4},null,null,null,null,null,null,null,4,null,null,null,{"$f":"HLOOKUP(calculs!F$16,calculs!$B$16:$K$18,3,TRUE)","v":7},null,null,null,null,null,null,null,7]
[null,null,{"$f":"HLOOKUP(calculs!G$10,calculs!$B$10:$K$12,3,TRUE)","v":9},null,null,null,null,null,null,null,9,null,null,null,{"$f":"HLOOKUP(calculs!G$16,calculs!$B$16:$K$18,3,TRUE)","v":10},null,null,null,null,null,null,null,10]
[null,null,{"$f":"HLOOKUP(calculs!H$10,calculs!$B$10:$K$12,3,TRUE)","v":5},null,null,null,null,null,null,null,5,null,null,null,{"$f":"HLOOKUP(calculs!H$16,calculs!$B$16:$K$18,3,TRUE)","v":8},null,null,null,null,null,null,null,8]
[null,null,null,null,null,null,"Temps:      min.       sec.",null,null,null,null,null,null,null,null,null,null,null,"Temps:      min.       sec."]
[]
[null,null,null,"49 cases (5 minutes maxi)",null,null,null,null,null,null,null,null,null,null,null,"49 cases (5 minutes maxi)"]
[null,null,"x",{"$f":"HLOOKUP(calculs!B22,calculs!$B$22:$K$24,3,TRUE)","v":1},{"$f":"HLOOKUP(calculs!C22,calculs!$B$22:$K$24,3,TRUE)","v":10},{"$f":"HLOOKUP(calculs!D22,calculs!$B$22:$K$24,3,TRUE)","v":4},{"$f":"HLOOKUP(calculs!E22,calculs!$B$22:$K$24,3,TRUE)","v":6},{"$f":"HLOOKUP(calculs!F22,calculs!$B$22:$K$24,3,TRUE)","v":7},{"$f":"HLOOKUP(calculs!G22,calculs!$B$22:$K$24,3,TRUE)","v":3},{"$f":"HLOOKUP(calculs!H22,calculs!$B$22:$K$24,3,TRUE)","v":9},"x",null,null,null,"x",{"$f":"HLOOKUP(calculs!B25,calculs!$B$25:$K$27,3,TRUE)","v":8},{"$f":"HLOOKUP(calculs!C25,calculs!$B$25:$K$27,3,TRUE)","v":4},{"$f":"HLOOKUP(calculs!D25,calculs!$B$25:$K$27,3,TRUE)","v":9},{"$f":"HLOOKUP(calculs!E25,calculs!$B$25:$K$27,3,TRUE)","v":10},{"$f":"HLOOKUP(calculs!F25,calculs!$B$25:$K$27,3,TRUE)","v":2},{"$f":"HLOOKUP(calculs!G25,calculs!$B$25:$K$27,3,TRUE)","v":6},{"$f":"HLOOKUP(calculs!H25,calculs!$B$25:$K$27,3,TRUE)","v":3},"x"]
[null,null,{"$f":"HLOOKUP(calculs!B$19,calculs!$B$19:$K$21,3,TRUE)","v":1},null,null,null,null,null,null,null,{"$f":"C29","v":1},null,null,null,{"$f":"HLOOKUP(calculs!B$28,calculs!$B$28:$K$30,3,TRUE)","v":1},null,null,null,null,null,null,null,{"$f":"O29","v":1}]
[null,null,{"$f":"HLOOKUP(calculs!C$19,calculs!$B$19:$K$21,3,TRUE)","v":9},null,null,null,null,null,null,null,{"$f":"C30","v":9},null,null,null,{"$f":"HLOOKUP(calculs!C$28,calculs!$B$28:$K$30,3,TRUE)","v":8},null,null,null,null,null,null,null,{"$f":"O30","v":8}]
[null,null,{"$f":"HLOOKUP(calculs!D$19,calculs!$B$19:$K$21,3,TRUE)","v":2},null,null,null,null,null,null,null,2,null,null,null,{"$f":"HLOOKUP(calculs!D$28,calculs!$B$28:$K$30,3,TRUE)","v":9},null,null,null,null,null,null,null,9]
[null,null,{"$f":"HLOOKUP(calculs!E$19,calculs!$B$19:$K$21,3,TRUE)","v":8},null,null,null,null,null,null,null,8,null,null,null,{"$f":"HLOOKUP(calculs!E$28,calculs!$B$28:$K$30,3,TRUE)","v":6},null,null,null,null,null,null,null,6]
[null,null,{"$f":"HLOOKUP(calculs!F$19,calculs!$B$19:$K$21,3,TRUE)","v":5},null,null,null,null,null,null,null,5,null,null,null,{"$f":"HLOOKUP(calculs!F$28,calculs!$B$28:$K$30,3,TRUE)","v":4},null,null,null,null,null,null,null,4]
[null,null,{"$f":"HLOOKUP(calculs!G$19,calculs!$B$19:$K$21,3,TRUE)","v":6},null,null,null,null,null,null,null,6,null,null,null,{"$f":"HLOOKUP(calculs!G$28,calculs!$B$28:$K$30,3,TRUE)","v":3},null,null,null,null,null,null,null,3]
[null,null,{"$f":"HLOOKUP(calculs!H$19,calculs!$B$19:$K$21,3,TRUE)","v":4},null,null,null,null,null,null,null,4,null,null,null,{"$f":"HLOOKUP(calculs!H$28,calculs!$B$28:$K$30,3,TRUE)","v":10},null,null,null,null,null,null,null,10]
[null,null,null,null,null,null,"Temps:      min.       sec.",null,null,null,null,null,null,null,null,null,null,null,"Temps:      min.       sec."]

{"sheet":"Pythagores (100)","index":10,"n_rows":43,"n_cols":29,"rows_kept":43,"cut":false,"hidden":false,"merged":[[2,3,2,12],[2,18,2,27],[16,3,16,12],[16,18,16,27],[30,3,30,12],[30,18,30,27],[42,1,42,14],[42,16,42,29],[28,16,28,29],[28,1,28,14],[14,1,14,14],[14,16,14,29]]}
[null,null,null,null,"Pour générer de nouvelles tables, appuyez sur F9"]
[]
[null,null,null,"100 cases (7 minutes maxi)",null,null,null,null,null,null,null,null,null,null,null,null,null,null,"100 cases (7 minutes maxi)"]
[null,null,"x",{"$f":"HLOOKUP(calculs!B28,calculs!$B$28:$K$31,3,TRUE)","v":1},{"$f":"HLOOKUP(calculs!C28,calculs!$B$28:$K$31,3,TRUE)","v":8},{"$f":"HLOOKUP(calculs!D28,calculs!$B$28:$K$31,3,TRUE)","v":9},{"$f":"HLOOKUP(calculs!E28,calculs!$B$28:$K$31,3,TRUE)","v":6},{"$f":"HLOOKUP(calculs!F28,calculs!$B$28:$K$31,3,TRUE)","v":4},{"$f":"HLOOKUP(calculs!G28,calculs!$B$28:$K$31,3,TRUE)","v":3},{"$f":"HLOOKUP(calculs!H28,calculs!$B$28:$K$31,3,TRUE)","v":10},{"$f":"HLOOKUP(calculs!I28,calculs!$B$28:$K$31,3,TRUE)","v":7},{"$f":"HLOOKUP(calculs!J28,calculs!$B$28:$K$31,3,TRUE)","v":5},{"$f":"HLOOKUP(calculs!K28,calculs!$B$28:$K$31,3,TRUE)","v":2},"x",null,null,null,"x",{"$f":"HLOOKUP(calculs!B1,calculs!$B$1:$K$3,3,TRUE)","v":2},{"$f":"HLOOKUP(calculs!C1,calculs!$B$1:$K$3,3,TRUE)","v":5},{"$f":"HLOOKUP(calculs!D1,calculs!$B$1:$K$3,3,TRUE)","v":10},{"$f":"HLOOKUP(calculs!E1,calculs!$B$1:$K$3,3,TRUE)","v":7},{"$f":"HLOOKUP(calculs!F1,calculs!$B$1:$K$3,3,TRUE)","v":8},{"$f":"HLOOKUP(calculs!G1,calculs!$B$1:$K$3,3,TRUE)","v":6},{"$f":"HLOOKUP(calculs!H1,calculs!$B$1:$K$3,3,TRUE)","v":9},{"$f":"HLOOKUP(calculs!I1,calculs!$B$1:$K$3,3,TRUE)","v":3},{"$f":"HLOOKUP(calculs!J1,calculs!$B$1:$K$3,3,TRUE)","v":1},{"$f":"HLOOKUP(calculs!K1,calculs!$B$1:$K$3,3,TRUE)","v":4},"x"]
[null,null,{"$f":"HLOOKUP(calculs!B16,calculs!$B$16:$K$18,3,TRUE)","v":1},null,null,null,null,null,null,null,null,null,null,{"$f":"C5","v":1},null,null,null,{"$f":"HLOOKUP(calculs!B4,calculs!B4:K6,3,TRUE)","v":4},null,null,null,null,null,null,null,null,null,null,{"$f":"R5","v":4}]
[null,null,{"$f":"HLOOKUP(calculs!C16,calculs!$B$16:$K$18,3,TRUE)","v":4},null,null,null,null,null,null,null,null,null,null,{"$f":"C6","v":4},null,null,null,{"$f":"HLOOKUP(calculs!C4,calculs!B4:K6,3,TRUE)","v":8},null,null,null,null,null,null,null,null,null,null,{"$f":"R6","v":8}]
[null,null,{"$f":"HLOOKUP(calculs!D16,calculs!$B$16:$K$18,3,TRUE)","v":9},null,null,null,null,null,null,null,null,null,null,9,null,null,null,{"$f":"HLOOKUP(calculs!D4,calculs!B4:K6,3,TRUE)","v":5},null,null,null,null,null,null,null,null,null,null,5]
[null,null,{"$f":"HLOOKUP(calculs!E16,calculs!$B$16:$K$18,3,TRUE)","v":5},null,null,null,null,null,null,null,null,null,null,5,null,null,null,{"$f":"HLOOKUP(calculs!E4,calculs!B4:K6,3,TRUE)","v":10},null,null,null,null,null,null,null,null,null,null,10]
[null,null,{"$f":"HLOOKUP(calculs!F16,calculs!$B$16:$K$18,3,TRUE)","v":7},null,null,null,null,null,null,null,null,null,null,7,null,null,null,{"$f":"HLOOKUP(calculs!F4,calculs!B4:K6,3,TRUE)","v":7},null,null,null,null,null,null,null,null,null,null,7]
[null,null,{"$f":"HLOOKUP(calculs!G16,calculs!$B$16:$K$18,3,TRUE)","v":10},null,null,null,null,null,null,null,null,null,null,10,null,null,null,{"$f":"HLOOKUP(calculs!G4,calculs!B4:K6,3,TRUE)","v":1},null,null,null,null,null,null,null,null,null,null,1]
[null,null,{"$f":"HLOOKUP(calculs!H16,calculs!$B$16:$K$18,3,TRUE)","v":8},null,null,null,null,null,null,null,null,null,null,8,null,null,null,{"$f":"HLOOKUP(calculs!H4,calculs!B4:K6,3,TRUE)","v":3},null,null,null,null,null,null,null,null,null,null,3]
[null,null,{"$f":"HLOOKUP(calculs!I16,calculs!$B$16:$K$18,3,TRUE)","v":3},null,null,null,null,null,null,null,null,null,null,3,null,null,null,{"$f":"HLOOKUP(calculs!I4,calculs!B4:K6,3,TRUE)","v":2},null,null,null,null,null,null,null,null,null,null,2]
[null,null,{"$f":"HLOOKUP(calculs!J16,calculs!$B$16:$K$18,3,TRUE)","v":6},null,null,null,null,null,null,null,null,null,null,6,null,null,null,{"$f":"HLOOKUP(calculs!J4,calculs!B4:K6,3,TRUE)","v":9},null,null,null,null,null,null,null,null,null,null,9]
[null,null,{"$f":"HLOOKUP(calculs!K16,calculs!$B$16:$K$18,3,TRUE)","v":2},null,null,null,null,null,null,null,null,null,null,2,null,null,null,{"$f":"HLOOKUP(calculs!K4,calculs!B4:K6,3,TRUE)","v":6},null,null,null,null,null,null,null,null,null,null,6]
[null,"Temps:      min.       sec.",null,null,null,null,null,null,null,null,null,null,null,null,null,null,"Temps:      min.       sec."]
[]
[null,null,null,"100 cases (7 minutes maxi)",null,null,null,null,null,null,null,null,null,null,null,null,null,null,"100 cases (7 minutes maxi)"]
[null,null,"x",{"$f":"HLOOKUP(calculs!B7,calculs!$B$7:$K$9,3,TRUE)","v":8},{"$f":"HLOOKUP(calculs!C7,calculs!$B$7:$K$9,3,TRUE)","v":6},{"$f":"HLOOKUP(calculs!D7,calculs!$B$7:$K$9,3,TRUE)","v":4},{"$f":"HLOOKUP(calculs!E7,calculs!$B$7:$K$9,3,TRUE)","v":9},{"$f":"HLOOKUP(calculs!F7,calculs!$B$7:$K$9,3,TRUE)","v":10},{"$f":"HLOOKUP(calculs!G7,calculs!$B$7:$K$9,3,TRUE)","v":5},{"$f":"HLOOKUP(calculs!H7,calculs!$B$7:$K$9,3,TRUE)","v":7},{"$f":"HLOOKUP(calculs!I7,calculs!$B$7:$K$9,3,TRUE)","v":1},{"$f":"HLOOKUP(calculs!J7,calculs!$B$7:$K$9,3,TRUE)","v":3},{"$f":"HLOOKUP(calculs!K7,calculs!$B$7:$K$9,3,TRUE)","v":2},"x",null,null,null,"x",{"$f":"HLOOKUP(calculs!B13,calculs!$B$13:$K$15,3,TRUE)","v":2},{"$f":"HLOOKUP(calculs!C13,calculs!$B$13:$K$15,3,TRUE)","v":3},{"$f":"HLOOKUP(calculs!D13,calculs!$B$13:$K$15,3,TRUE)","v":7},{"$f":"HLOOKUP(calculs!E13,calculs!$B$13:$K$15,3,TRUE)","v":10},{"$f":"HLOOKUP(calculs!F13,calculs!$B$13:$K$15,3,TRUE)","v":9},{"$f":"HLOOKUP(calculs!G13,calculs!$B$13:$K$15,3,TRUE)","v":1},{"$f":"HLOOKUP(calculs!H13,calculs!$B$13:$K$15,3,TRUE)","v":6},{"$f":"HLOOKUP(calculs!I13,calculs!$B$13:$K$15,3,TRUE)","v":4},{"$f":"HLOOKUP(calculs!J13,calculs!$B$13:$K$15,3,TRUE)","v":8},{"$f":"HLOOKUP(calculs!K13,calculs!$B$13:$K$15,3,TRUE)","v":5},"x"]
[null,null,{"$f":"HLOOKUP(calculs!B$10,calculs!$B$10:$K$12,3,TRUE)","v":8},null,null,null,null,null,null,null,null,null,null,{"$f":"C19","v":8},null,null,null,{"$f":"HLOOKUP(calculs!B$16,calculs!$B$16:$K$18,3,TRUE)","v":1},null,null,null,null,null,null,null,null,null,null,{"$f":"R19","v":1}]
[null,null,{"$f":"HLOOKUP(calculs!C$10,calculs!$B$10:$K$12,3,TRUE)","v":2},null,null,null,null,null,null,null,null,null,null,{"$f":"C20","v":2},null,null,null,{"$f":"HLOOKUP(calculs!C$16,calculs!$B$16:$K$18,3,TRUE)","v":4},null,null,null,null,null,null,null,null,null,null,{"$f":"R20","v":4}]
[null,null,{"$f":"HLOOKUP(calculs!D$10,calculs!$B$10:$K$12,3,TRUE)","v":6},null,null,null,null,null,null,null,null,null,null,6,null,null,null,{"$f":"HLOOKUP(calculs!D$16,calculs!$B$16:$K$18,3,TRUE)","v":9},null,null,null,null,null,null,null,null,null,null,9]
[null,null,{"$f":"HLOOKUP(calculs!E$10,calculs!$B$10:$K$12,3,TRUE)","v":10},null,null,null,null,null,null,null,null,null,null,10,null,null,null,{"$f":"HLOOKUP(calculs!E$16,calculs!$B$16:$K$18,3,TRUE)","v":5},null,null,null,null,null,null,null,null,null,null,5]
[null,null,{"$f":"HLOOKUP(calculs!F$10,calculs!$B$10:$K$12,3,TRUE)","v":4},null,null,null,null,null,null,null,null,null,null,4,null,null,null,{"$f":"HLOOKUP(calculs!F$16,calculs!$B$16:$K$18,3,TRUE)","v":7},null,null,null,null,null,null,null,null,null,null,7]
[null,null,{"$f":"HLOOKUP(calculs!G$10,calculs!$B$10:$K$12,3,TRUE)","v":9},null,null,null,null,null,null,null,null,null,null,9,null,null,null,{"$f":"HLOOKUP(calculs!G$16,calculs!$B$16:$K$18,3,TRUE)","v":10},null,null,null,null,null,null,null,null,null,null,10]
[null,null,{"$f":"HLOOKUP(calculs!H$10,calculs!$B$10:$K$12,3,TRUE)","v":5},null,null,null,null,null,null,null,null,null,null,5,null,null,null,{"$f":"HLOOKUP(calculs!H$16,calculs!$B$16:$K$18,3,TRUE)","v":8},null,null,null,null,null,null,null,null,null,null,8]
[null,null,{"$f":"HLOOKUP(calculs!I$10,calculs!$B$10:$K$12,3,TRUE)","v":3},null,null,null,null,null,null,null,null,null,null,3,null,null,null,{"$f":"HLOOKUP(calculs!I$16,calculs!$B$16:$K$18,3,TRUE)","v":3},null,null,null,null,null,null,null,null,null,null,3]
[null,null,{"$f":"HLOOKUP(calculs!J$10,calculs!$B$10:$K$12,3,TRUE)","v":1},null,null,null,null,null,null,null,null,null,null,1,null,null,null,{"$f":"HLOOKUP(calculs!J$16,calculs!$B$16:$K$18,3,TRUE)","v":6},null,null,null,null,null,null,null,null,null,null,6]
[null,null,{"$f":"HLOOKUP(calculs!K$10,calculs!$B$10:$K$12,3,TRUE)","v":7},null,null,null,null,null,null,null,null,null,null,7,null,null,null,{"$f":"HLOOKUP(calculs!K$16,calculs!$B$16:$K$18,3,TRUE)","v":2},null,null,null,null,null,null,null,null,null,null,2]
[null,"Temps:      min.       sec.",null,null,null,null,null,null,null,null,null,null,null,null,null,null,"Temps:      min.       sec."]
[]
[null,null,null,"100 cases (7 minutes maxi)",null,null,null,null,null,null,null,null,null,null,null,null,null,null,"100 cases (7 minutes maxi)"]
[null,null,"x",{"$f":"HLOOKUP(calculs!B22,calculs!$B$22:$K$24,3,TRUE)","v":1},{"$f":"HLOOKUP(calculs!C22,calculs!$B$22:$K$24,3,TRUE)","v":10},{"$f":"HLOOKUP(calculs!D22,calculs!$B$22:$K$24,3,TRUE)","v":4},{"$f":"HLOOKUP(calculs!E22,calculs!$B$22:$K$24,3,TRUE)","v":6},{"$f":"HLOOKUP(calculs!F22,calculs!$B$22:$K$24,3,TRUE)","v":7},{"$f":"HLOOKUP(calculs!G22,calculs!$B$22:$K$24,3,TRUE)","v":3},{"$f":"HLOOKUP(calculs!H22,calculs!$B$22:$K$24,3,TRUE)","v":9},{"$f":"HLOOKUP(calculs!I22,calculs!$B$22:$K$24,3,TRUE)","v":2},{"$f":"HLOOKUP(calculs!J22,calculs!$B$22:$K$24,3,TRUE)","v":5},{"$f":"HLOOKUP(calculs!K22,calculs!$B$22:$K$24,3,TRUE)","v":8},"x",null,null,null,"x",{"$f":"HLOOKUP(calculs!B25,calculs!$B$25:$K$27,3,TRUE)","v":8},{"$f":"HLOOKUP(calculs!C25,calculs!$B$25:$K$27,3,TRUE)","v":4},{"$f":"HLOOKUP(calculs!D25,calculs!$B$25:$K$27,3,TRUE)","v":9},{"$f":"HLOOKUP(calculs!E25,calculs!$B$25:$K$27,3,TRUE)","v":10},{"$f":"HLOOKUP(calculs!F25,calculs!$B$25:$K$27,3,TRUE)","v":2},{"$f":"HLOOKUP(calculs!G25,calculs!$B$25:$K$27,3,TRUE)","v":6},{"$f":"HLOOKUP(calculs!H25,calculs!$B$25:$K$27,3,TRUE)","v":3},{"$f":"HLOOKUP(calculs!I25,calculs!$B$25:$K$27,3,TRUE)","v":7},{"$f":"HLOOKUP(calculs!J25,calculs!$B$25:$K$27,3,TRUE)","v":1},{"$f":"HLOOKUP(calculs!K25,calculs!$B$25:$K$27,3,TRUE)","v":5},"x"]
[null,null,{"$f":"HLOOKUP(calculs!B$19,calculs!$B$19:$K$21,3,TRUE)","v":1},null,null,null,null,null,null,null,null,null,null,{"$f":"C33","v":1},null,null,null,{"$f":"HLOOKUP(calculs!B$28,calculs!$B$28:$K$30,3,TRUE)","v":1},null,null,null,null,null,null,null,null,null,null,{"$f":"R33","v":1}]
[null,null,{"$f":"HLOOKUP(calculs!C$19,calculs!$B$19:$K$21,3,TRUE)","v":9},null,null,null,null,null,null,null,null,null,null,{"$f":"C34","v":9},null,null,null,{"$f":"HLOOKUP(calculs!C$28,calculs!$B$28:$K$30,3,TRUE)","v":8},null,null,null,null,null,null,null,null,null,null,{"$f":"R34","v":8}]
[null,null,{"$f":"HLOOKUP(calculs!D$19,calculs!$B$19:$K$21,3,TRUE)","v":2},null,null,null,null,null,null,null,null,null,null,2,null,null,null,{"$f":"HLOOKUP(calculs!D$28,calculs!$B$28:$K$30,3,TRUE)","v":9},null,null,null,null,null,null,null,null,null,null,9]
[null,null,{"$f":"HLOOKUP(calculs!E$19,calculs!$B$19:$K$21,3,TRUE)","v":8},null,null,null,null,null,null,null,null,null,null,8,null,null,null,{"$f":"HLOOKUP(calculs!E$28,calculs!$B$28:$K$30,3,TRUE)","v":6},null,null,null,null,null,null,null,null,null,null,6]
[null,null,{"$f":"HLOOKUP(calculs!F$19,calculs!$B$19:$K$21,3,TRUE)","v":5},null,null,null,null,null,null,null,null,null,null,5,null,null,null,{"$f":"HLOOKUP(calculs!F$28,calculs!$B$28:$K$30,3,TRUE)","v":4},null,null,null,null,null,null,null,null,null,null,4]
[null,null,{"$f":"HLOOKUP(calculs!G$19,calculs!$B$19:$K$21,3,TRUE)","v":6},null,null,null,null,null,null,null,null,null,null,6,null,null,null,{"$f":"HLOOKUP(calculs!G$28,calculs!$B$28:$K$30,3,TRUE)","v":3},null,null,null,null,null,null,null,null,null,null,3]
[null,null,{"$f":"HLOOKUP(calculs!H$19,calculs!$B$19:$K$21,3,TRUE)","v":4},null,null,null,null,null,null,null,null,null,null,4,null,null,null,{"$f":"HLOOKUP(calculs!H$28,calculs!$B$28:$K$30,3,TRUE)","v":10},null,null,null,null,null,null,null,null,null,null,10]
[null,null,{"$f":"HLOOKUP(calculs!I$19,calculs!$B$19:$K$21,3,TRUE)","v":3},null,null,null,null,null,null,null,null,null,null,3,null,null,null,{"$f":"HLOOKUP(calculs!I$28,calculs!$B$28:$K$30,3,TRUE)","v":7},null,null,null,null,null,null,null,null,null,null,7]
[null,null,{"$f":"HLOOKUP(calculs!J$19,calculs!$B$19:$K$21,3,TRUE)","v":10},null,null,null,null,null,null,null,null,null,null,10,null,null,null,{"$f":"HLOOKUP(calculs!J$28,calculs!$B$28:$K$30,3,TRUE)","v":5},null,null,null,null,null,null,null,null,null,null,5]
[null,null,{"$f":"HLOOKUP(calculs!K$19,calculs!$B$19:$K$21,3,TRUE)","v":7},null,null,null,null,null,null,null,null,null,null,7,null,null,null,{"$f":"HLOOKUP(calculs!K$28,calculs!$B$28:$K$30,3,TRUE)","v":2},null,null,null,null,null,null,null,null,null,null,2]
[null,"Temps:      min.       sec.",null,null,null,null,null,null,null,null,null,null,null,null,null,null,"Temps:      min.       sec."]

{"sheet":"calculs","index":11,"n_rows":136,"n_cols":43,"rows_kept":136,"cut":false,"hidden":true,"merged":[[127,0,129,0],[130,0,132,0],[133,0,135,0],[112,0,114,0],[115,0,117,0],[118,0,120,0],[121,0,123,0],[124,0,126,0],[91,0,93,0],[94,0,96,0],[97,0,99,0],[106,0,108,0],[109,0,111,0],[76,0,78,0],[79,0,81,0],[82,0,84,0],[85,0,87,0],[88,0,90,0],[15,0,17,0],[36,0,38,0],[39,0,41,0],[42,0,44,0],[45,0,47,0],[0,0,2,0],[3,0,5,0],[6,0,8,0],[9,0,11,0],[12,0,14,0],[75,8,75,10],[75,11,75,13],[75,14,75,16],[75,17,75,19],[18,0,20,0],[21,0,23,0],[24,0,26,0],[27,0,29,0],[48,0,50,0],[51,0,53,0],[54,0,56,0],[57,0,59,0],[60,0,62,0],[63,0,65,0],[70,0,72,0],[73,0,75,0],[75,35,75,37],[75,20,75,22],[75,23,75,25],[75,26,75,28],[75,29,75,31],[75,32,75,34]]}
[1,1,2,3,4,5,6,7,8,9,10,null,null,"choix"]
[null,{"$f":"RAND()","v":0.93460519522004359},{"$f":"RAND()","v":0.46549644350014807},0.1494818025229111,0.31420873423794193,0.22304513060770215,0.34285567623936597,0.18472176275961505,0.89835225357756976,0.97454326482268583,0.61710194670746499,null,null,"oui"]
[null,{"$f":"RANK(B2,$B2:$K2)","v":2},{"$f":"RANK(C2,$B2:$K2)","v":5},10,7,8,6,9,3,1,4,null,null,"non"]
[2,1,2,3,4,5,6,7,8,9,10]
[null,{"$f":"RAND()","v":0.67005572050060191},{"$f":"RAND()","v":0.29386854305215337},0.49107357232888993,5.5010948295981077E-2,0.30977099489295545,0.95055077377199149,0.87839859282196242,0.93099761579991291,0.10586344725185282,0.40303978754766634]
[null,{"$f":"RANK(B5,$B5:$K5)","v":4},8,5,{"$f":"RANK(E5,$B5:$K5)","v":10},7,1,3,2,9,6]
[3,1,2,3,4,5,6,7,8,9,10]
[null,{"$f":"RAND()","v":0.39036208943681294},{"$f":"RAND()","v":0.61272715302714709},0.71275348368472879,0.36861398189116301,5.1616444025127994E-2,0.70535123670996636,0.43704024610557179,0.94583737296203496,0.76647384229573645,0.89044550979998671]
[null,{"$f":"RANK(B8,$B8:$K8)","v":8},6,4,9,10,5,7,1,3,2]
[4,1,2,3,4,5,6,7,8,9,10]
[null,{"$f":"RAND()","v":0.28688470682883238},{"$f":"RAND()","v":0.85713583378839486},0.45188661760109872,0.22784512936029999,0.76951401713007461,0.26404751458423048,0.68322699976822632,0.77813584412318848,0.8880865662050621,0.45147135052641918]
[null,{"$f":"RANK(B11,$B11:$K11)","v":8},2,6,10,4,9,5,3,1,7]
[5,1,2,3,4,5,6,7,8,9,10]
[null,{"$f":"RAND()","v":0.97204451926284596},{"$f":"RAND()","v":0.77809148987455512},0.61000022312900837,6.2278121662658337E-2,0.21386097867554177,0.98021651782017749,0.68613391039657301,0.74468118393755822,0.41416172112086314,0.71986733520148427]
[null,{"$f":"RANK(B14,$B14:$K14)","v":2},3,7,10,9,1,6,4,8,5]
[6,1,2,3,4,5,6,7,8,9,10]
[null,{"$f":"RAND()","v":0.89794422246831762},{"$f":"RAND()","v":0.6407522955306878},0.15817160645174089,0.57120491713399246,0.44856890378373782,0.14919755584848016,0.25221546799413819,0.70280095694658007,0.48728184370927141,0.89741959952573924]
[null,{"$f":"RANK(B17,$B17:$K17)","v":1},4,9,5,7,10,8,3,6,2]
[7,1,2,3,4,5,6,7,8,9,10]
[null,{"$f":"RAND()","v":0.84403900285630629},{"$f":"RAND()","v":0.10659242421193016},0.84140350394296204,0.38581018042855975,0.61005549939437154,0.48389747361568147,0.64870264074408135,0.73544535640135744,8.8131388537787569E-2,0.43117873431017095]
[null,{"$f":"RANK(B20,$B20:$K20)","v":1},9,2,8,5,6,4,3,10,7]
[8,1,2,3,4,5,6,7,8,9,10]
[null,{"$f":"RAND()","v":0.97415817409905714},{"$f":"RAND()","v":9.683250245351549E-3},0.94958318302236799,0.54462172830327316,0.27046514444855219,0.95871495748251989,0.14564243331994853,0.96734839272682727,0.55912799898310361,0.14779521017667274]
[null,{"$f":"RANK(B23,$B23:$K23)","v":1},10,4,6,7,3,9,2,5,8]
[9,1,2,3,4,5,6,7,8,9,10]
[null,{"$f":"RAND()","v":0.37288266724127861},{"$f":"RAND()","v":0.67084525322046384},0.33647797844677008,0.1540056844280081,0.85004525637809247,0.50421515388652838,0.82608269093668663,0.45823388605146576,0.97537464908031335,0.51587153704241273]
[null,{"$f":"RANK(B26,$B26:$K26)","v":8},4,9,10,2,6,3,7,1,5]
[10,1,2,3,4,5,6,7,8,9,10]
[null,{"$f":"RAND()","v":0.9464049900588194},{"$f":"RAND()","v":0.22400846908768413},0.10860560441545475,0.33564306172262937,0.61663029685897452,0.75095626585214104,1.1508655911705024E-2,0.24663904259984915,0.49674922097910423,0.77087694230565229]
[null,{"$f":"RANK(B29,$B29:$K29)","v":1},8,9,6,4,3,10,7,5,2]
[]
[]
[]
[]
[]
[null,{"$f":"'Pythagores (49)'!C2","v":"oui"},{"$f":"'Pythagores (49)'!E2","v":"oui"},{"$f":"'Pythagores (49)'!G2","v":"non"},{"$f":"'Pythagores (49)'!I2","v":"oui"},{"$f":"'Pythagores (49)'!L2","v":"oui"},{"$f":"'Pythagores (49)'!N2","v":"oui"},{"$f":"'Pythagores (49)'!P2","v":"oui"},{"$f":"'Pythagores (49)'!R2","v":"oui"},{"$f":"'Pythagores (49)'!T2","v":"oui"},{"$f":"'Pythagores (49)'!V2","v":"non"}]
[1,1,2,3,4,5,6,7,8,9,10]
[null,{"$f":"RAND()","v":0.43274915620584453},{"$f":"RAND()","v":0.84974052965138103},9.1050788742948141E-2,0.7122911933083953,0.70168652318007962,0.38305261702816651,0.94934418986825719,0.11122768673841954,0.96204851821262638,0.53232734504396617,{"$f":"B36","v":"oui"}]
[null,{"$f":"RANK(B38,$B38:$K38)","v":7},{"$f":"RANK(C38,$B38:$K38)","v":3},10,4,5,8,2,9,1,6]
[2,1,2,3,4,5,6,7,8,9,10]
[null,{"$f":"RAND()","v":0.13528487421676494},{"$f":"RAND()","v":0.4500970731141638},0.42546206591827995,0.41864275101903647,0.74200788126081441,0.93179556032257538,0.12115523570814601,0.25389630656301987,0.5758650476327859,0.83793728179891525,{"$f":"C36","v":"oui"}]
[null,{"$f":"RANK(B41,$B41:$K41)","v":9},5,6,7,3,1,10,8,4,2]
[3,1,2,3,4,5,6,7,8,9,10]
[null,{"$f":"RAND()","v":2.2042578744331354E-2},{"$f":"RAND()","v":0.6845158292508905},0.38360780491692714,0.92538456237540845,0.1069320190257862,0.89200535811618209,0.62843477909377732,0.39405890876183447,0.89596813968401023,0.62478163434956857,{"$f":"D36","v":"non"}]
[null,{"$f":"RANK(B44,$B44:$K44)","v":10},4,8,1,9,3,5,7,2,6]
[4,1,2,3,4,5,6,7,8,9,10]
[null,{"$f":"RAND()","v":0.87593524644795151},{"$f":"RAND()","v":0.12848953747741332},0.93167120860935593,0.6866381081702716,0.49778969204896006,0.15528471811202471,0.60504680506297304,0.39893188328914941,0.20923267597423956,5.5211072260567762E-2,{"$f":"E36","v":"oui"}]
[null,{"$f":"RANK(B47,$B47:$K47)","v":2},9,1,3,5,8,4,6,7,10]
[5,1,2,3,4,5,6,7,8,9,10]
[null,{"$f":"RAND()","v":0.32820260638851839},{"$f":"RAND()","v":0.28553599012868713},0.53943521943748096,0.18473687661384963,0.47729277132069403,0.78014838678375598,0.45091512173505577,5.4618737853592281E-3,8.1663163428262298E-2,0.48795899298083123,{"$f":"F36","v":"oui"}]
[null,{"$f":"RANK(B50,$B50:$K50)","v":6},7,2,8,4,1,5,10,9,3]
[6,1,2,3,4,5,6,7,8,9,10]
[null,{"$f":"RAND()","v":0.39474456457713991},{"$f":"RAND()","v":0.92154198418876354},0.68490110102906032,0.91823802979059843,0.26262005269560607,0.730484453225268,0.11728720048711461,0.68532088747539199,0.57465973568984785,0.47054744413030802,{"$f":"G36","v":"oui"}]
[null,{"$f":"RANK(B53,$B53:$K53)","v":8},1,5,2,9,3,10,4,6,7]
[7,1,2,3,4,5,6,7,8,9,10]
[null,{"$f":"RAND()","v":0.93737638171038218},{"$f":"RAND()","v":0.17436757197160047},0.94614433688997934,6.7852695612792502E-2,3.510931043183696E-2,0.93742199331007459,0.91942738439960814,0.36467263553322837,0.38085938147215537,0.16357428454015588,{"$f":"H36","v":"oui"}]
[null,{"$f":"RANK(B56,$B56:$K56)","v":3},7,1,9,10,2,4,6,5,8]
[8,1,2,3,4,5,6,7,8,9,10]
[null,{"$f":"RAND()","v":0.77149693754811133},{"$f":"RAND()","v":0.83932641076315639},0.72773640599780876,0.79628600488906587,0.2883866452962851,0.69812641186659097,0.67108218366300776,0.71754488742083411,0.64882362852598929,0.54175758762081205,{"$f":"I36","v":"oui"}]
[null,{"$f":"RANK(B59,$B59:$K59)","v":3},1,4,2,10,6,7,5,8,9]
[9,1,2,3,4,5,6,7,8,9,10]
[null,{"$f":"RAND()","v":0.83946005400369783},{"$f":"RAND()","v":0.13600835382330434},0.59258926700972792,0.61699895988108389,0.11813057819448058,0.24010073542108801,0.97513726037580262,0.86372583554916715,0.3868892504869702,0.72733993968823774,{"$f":"J36","v":"oui"}]
[null,{"$f":"RANK(B62,$B62:$K62)","v":3},9,6,5,10,8,1,2,7,4]
[10,1,2,3,4,5,6,7,8,9,10]
[null,{"$f":"RAND()","v":0.32033601618088181},{"$f":"RAND()","v":0.88952027965915026},0.86127854880985277,8.8648453857240184E-2,0.26982432580856786,0.10499394435095455,0.56304066274806186,0.46975777670623253,0.78621106450254152,0.45912063138955417,{"$f":"K36","v":"non"}]
[null,{"$f":"RANK(B65,$B65:$K65)","v":7},1,2,10,8,9,4,5,3,6]
[]
[]
[null,null,null,null,null,null,null,null,null,{"$f":"'Pythagores (25) -->choisir'!D2","v":1},{"$f":"'Pythagores (25) -->choisir'!E2","v":2},{"$f":"'Pythagores (25) -->choisir'!F2","v":3},{"$f":"'Pythagores (25) -->choisir'!G2","v":4},{"$f":"'Pythagores (25) -->choisir'!H2","v":5},{"$f":"'Pythagores (25) -->choisir'!J2","v":6},{"$f":"'Pythagores (25) -->choisir'!L2","v":7},{"$f":"'Pythagores (25) -->choisir'!N2","v":8},{"$f":"'Pythagores (25) -->choisir'!O2","v":9},{"$f":"'Pythagores (25) -->choisir'!P2","v":10},"total"]
[null,null,null,null,null,null,null,null,null,{"$f":"IF('Pythagores (25) -->choisir'!D3<>\"\",TRUE,FALSE)","v":false},{"$f":"IF('Pythagores (25) -->choisir'!E3<>\"\",TRUE,FALSE)","v":false},{"$f":"IF('Pythagores (25) -->choisir'!F3<>\"\",TRUE,FALSE)","v":false},{"$f":"IF('Pythagores (25) -->choisir'!G3<>\"\",TRUE,FALSE)","v":true},{"$f":"IF('Pythagores (25) -->choisir'!H3<>\"\",TRUE,FALSE)","v":true},{"$f":"IF('Pythagores (25) -->choisir'!J3<>\"\",TRUE,FALSE)","v":true},{"$f":"IF('Pythagores (25) -->choisir'!L3<>\"\",TRUE,FALSE)","v":true},{"$f":"IF('Pythagores (25) -->choisir'!N3<>\"\",TRUE,FALSE)","v":true},{"$f":"IF('Pythagores (25) -->choisir'!O3<>\"\",TRUE,FALSE)","v":true},{"$f":"IF('Pythagores (25) -->choisir'!P3<>\"\",TRUE,FALSE)","v":false},{"$f":"COUNTIF($J70:$S70,TRUE)","v":6}]
[1,1,2,3,4,5,null,null,null,{"$f":"IF(J70=TRUE,1,0)","v":0},{"$f":"IF(K70=TRUE,1,0)","v":0},0,1,1,1,1,1,1,0]
[null,null,null,null,null,null,null,null,null,{"$f":"J71","v":0},{"$f":"J72+K70","v":0},0,1,2,3,4,5,6,6]
[null,{"$f":"HLOOKUP(B71,$J91:$S97,6,FALSE)","v":3},{"$f":"HLOOKUP(C71,$J91:$S97,6,FALSE)","v":1},{"$f":"HLOOKUP(D71,$J91:$S97,6,FALSE)","v":5},{"$f":"HLOOKUP(E71,$J91:$S97,6,FALSE)","v":2},{"$f":"HLOOKUP(F71,$J91:$S97,6,FALSE)","v":4},null,null,null,{"$f":"IF(J71=0,J71,J72)","v":0},{"$f":"IF(K71=0,K71,K72)","v":0},0,1,2,3,4,5,6,0]
[2,1,2,3,4,5,null,null,null,{"$f":"J69","v":1},2,3,4,5,6,7,8,9,10]
[]
[null,{"$f":"HLOOKUP(B74,$J92:$S98,6,FALSE)","v":9},{"$f":"HLOOKUP(C74,$J92:$S98,6,FALSE)","v":6},{"$f":"HLOOKUP(D74,$J92:$S98,6,FALSE)","v":4},{"$f":"HLOOKUP(E74,$J92:$S98,6,FALSE)","v":5},{"$f":"HLOOKUP(F74,$J92:$S98,6,FALSE)","v":7},null,null,1,null,null,2,null,null,3,null,null,4,null,null,5,null,null,6,null,null,7,null,null,8,null,null,9,null,null,10]
[3,1,2,3,4,5,null,null,1,{"$f":"IF(HLOOKUP(I$76,$J$69:$S$70,2,FALSE)=FALSE,1,RAND())","v":1},{"$f":"IF(J77<>\"\",HLOOKUP(RANK(J77,$J$85:$S$85),$J$73:$S$74,2,TRUE),\"\")","v":4},1,{"$f":"IF(HLOOKUP(L$76,$J$69:$S$70,2,FALSE)=FALSE,1,RAND())","v":1},{"$f":"IF(M77<>\"\",HLOOKUP(RANK(M77,$J85:$S85),$J$73:$S$74,2,TRUE),\"\")","v":4},1,{"$f":"IF(HLOOKUP(O$76,$J$69:$S$70,2,FALSE)=FALSE,1,RAND())","v":1},{"$f":"IF(P77<>\"\",HLOOKUP(RANK(P77,$J85:$S85),$J$73:$S$74,2,TRUE),\"\")","v":4},1,{"$f":"IF(HLOOKUP(R$76,$J$69:$S$70,2,FALSE)=FALSE,1,RAND())","v":8.2207332882034523E-2},{"$f":"IF(S77<>\"\",HLOOKUP(RANK(S77,$J85:$S85),$J$73:$S$74,2,TRUE),\"\")","v":10},1,{"$f":"IF(HLOOKUP(U$76,$J$69:$S$70,2,FALSE)=FALSE,1,RAND())","v":0.38326664924012088},{"$f":"IF(V77<>\"\",HLOOKUP(RANK(V77,$J85:$S85),$J$73:$S$74,2,TRUE),\"\")","v":10},1,{"$f":"IF(HLOOKUP(X$76,$J$69:$S$70,2,FALSE)=FALSE,1,RAND())","v":0.64263552205049834},{"$f":"IF(Y77<>\"\",HLOOKUP(RANK(Y77,$J85:$S85),$J$73:$S$74,2,TRUE),\"\")","v":8},1,{"$f":"IF(HLOOKUP(AA$76,$J$69:$S$70,2,FALSE)=FALSE,1,RAND())","v":0.31199850969199305},{"$f":"IF(AB77<>\"\",HLOOKUP(RANK(AB77,$J85:$S85),$J$73:$S$74,2,TRUE),\"\")","v":10},1,{"$f":"IF(HLOOKUP(AD$76,$J$69:$S$70,2,FALSE)=FALSE,1,RAND())","v":4.9689651183798977E-2},{"$f":"IF(AE77<>\"\",HLOOKUP(RANK(AE77,$J85:$S85),$J$73:$S$74,2,TRUE),\"\")","v":10},1,{"$f":"IF(HLOOKUP(AG$76,$J$69:$S$70,2,FALSE)=FALSE,1,RAND())","v":0.54289866409073073},{"$f":"IF(AH77<>\"\",HLOOKUP(RANK(AH77,$J85:$S85),$J$73:$S$74,2,TRUE),\"\")","v":9},1,{"$f":"IF(HLOOKUP(AJ$76,$J$69:$S$70,2,FALSE)=FALSE,1,RAND())","v":1},{"$f":"IF(AK77<>\"\",HLOOKUP(RANK(AK77,$J85:$S85),$J$73:$S$74,2,TRUE),\"\")","v":4}]
[null,null,null,null,null,null,null,null,2,{"$f":"IF(HLOOKUP(I$76,$J$69:$S$70,2,FALSE)=FALSE,\"\",RAND())","v":""},{"$f":"IF(J78<>\"\",HLOOKUP(RANK(J78,$J$85:$S$85),$J$73:$S$74,2,TRUE),\"\")","v":""},2,{"$f":"IF(HLOOKUP(L$76,$J$69:$S$70,2,FALSE)=FALSE,\"\",RAND())","v":""},{"$f":"IF(M78<>\"\",HLOOKUP(RANK(M78,$J86:$S86),$J$73:$S$74,2,TRUE),\"\")","v":""},2,{"$f":"IF(HLOOKUP(O$76,$J$69:$S$70,2,FALSE)=FALSE,\"\",RAND())","v":""},{"$f":"IF(P78<>\"\",HLOOKUP(RANK(P78,$J86:$S86),$J$73:$S$74,2,TRUE),\"\")","v":""},2,{"$f":"IF(HLOOKUP(R$76,$J$69:$S$70,2,FALSE)=FALSE,\"\",RAND())","v":0.59905172629690229},{"$f":"IF(S78<>\"\",HLOOKUP(RANK(S78,$J86:$S86),$J$73:$S$74,2,TRUE),\"\")","v":7},2,{"$f":"IF(HLOOKUP(U$76,$J$69:$S$70,2,FALSE)=FALSE,\"\",RAND())","v":0.86225510004876582},{"$f":"IF(V78<>\"\",HLOOKUP(RANK(V78,$J86:$S86),$J$73:$S$74,2,TRUE),\"\")","v":6},2,{"$f":"IF(HLOOKUP(X$76,$J$69:$S$70,2,FALSE)=FALSE,\"\",RAND())","v":0.33501449986370424},{"$f":"IF(Y78<>\"\",HLOOKUP(RANK(Y78,$J86:$S86),$J$73:$S$74,2,TRUE),\"\")","v":8},2,{"$f":"IF(HLOOKUP(AA$76,$J$69:$S$70,2,FALSE)=FALSE,\"\",RAND())","v":0.95689293393030783},{"$f":"IF(AB78<>\"\",HLOOKUP(RANK(AB78,$J86:$S86),$J$73:$S$74,2,TRUE),\"\")","v":5},2,{"$f":"IF(HLOOKUP(AD$76,$J$69:$S$70,2,FALSE)=FALSE,\"\",RAND())","v":0.96108870185660833},{"$f":"IF(AE78<>\"\",HLOOKUP(RANK(AE78,$J86:$S86),$J$73:$S$74,2,TRUE),\"\")","v":4},2,{"$f":"IF(HLOOKUP(AG$76,$J$69:$S$70,2,FALSE)=FALSE,\"\",RAND())","v":0.22399161176415094},{"$f":"IF(AH78<>\"\",HLOOKUP(RANK(AH78,$J86:$S86),$J$73:$S$74,2,TRUE),\"\")","v":9},2,{"$f":"IF(HLOOKUP(AJ$76,$J$69:$S$70,2,FALSE)=FALSE,\"\",RAND())","v":""},{"$f":"IF(AK78<>\"\",HLOOKUP(RANK(AK78,$J86:$S86),$J$73:$S$74,2,TRUE),\"\")","v":""}]
[null,{"$f":"HLOOKUP(B77,$J93:$S99,6,FALSE)","v":8},{"$f":"HLOOKUP(C77,$J93:$S99,6,FALSE)","v":4},{"$f":"HLOOKUP(D77,$J93:$S99,6,FALSE)","v":5},{"$f":"HLOOKUP(E77,$J93:$S99,6,FALSE)","v":6},{"$f":"HLOOKUP(F77,$J93:$S99,6,FALSE)","v":7},null,null,3,"","",3,"","",3,"","",3,0.26938611097612752,8,3,0.39840333785669113,7,3,0.63194008769753784,6,3,0.63868025775322013,5,3,3.2042664869130988E-2,9,3,0.72221910578744186,4,3,"",""]
[4,1,2,3,4,5,null,null,4,"","",4,"","",4,"","",4,0.70768712984762727,5,4,0.41383229471281857,6,4,0.81543508828592548,4,4,0.19538739838557917,8,4,0.30667002254547704,7,4,4.1092808021961913E-3,9,4,"",""]
[null,null,null,null,null,null,null,null,5,"","",5,"","",5,"","",5,0.90494713292714846,4,5,0.59769640324953988,7,5,0.67489713923016614,6,5,0.27481625369328999,9,5,0.83457802118906543,5,5,0.37186010943443026,8,5,"",""]
[null,{"$f":"HLOOKUP(B80,$J94:$S100,6,FALSE)","v":9},{"$f":"HLOOKUP(C80,$J94:$S100,6,FALSE)","v":7},{"$f":"HLOOKUP(D80,$J94:$S100,6,FALSE)","v":8},{"$f":"HLOOKUP(E80,$J94:$S100,6,FALSE)","v":5},{"$f":"HLOOKUP(F80,$J94:$S100,6,FALSE)","v":4},null,null,6,{"$f":"IF(HLOOKUP(I$76,$J$69:$S$70,2,FALSE)=FALSE,\"\",RAND())","v":""},{"$f":"IF(J82<>\"\",HLOOKUP(RANK(J82,$J$85:$S$85),$J$73:$S$74,2,TRUE),\"\")","v":""},6,{"$f":"IF(HLOOKUP(L$76,$J$69:$S$70,2,FALSE)=FALSE,\"\",RAND())","v":""},{"$f":"IF(M82<>\"\",HLOOKUP(RANK(M82,$J90:$S90),$J$73:$S$74,2,TRUE),\"\")","v":""},6,{"$f":"IF(HLOOKUP(O$76,$J$69:$S$70,2,FALSE)=FALSE,\"\",RAND())","v":""},{"$f":"IF(P82<>\"\",HLOOKUP(RANK(P82,$J90:$S90),$J$73:$S$74,2,TRUE),\"\")","v":""},6,{"$f":"IF(HLOOKUP(R$76,$J$69:$S$70,2,FALSE)=FALSE,\"\",RAND())","v":0.40025184454950136},{"$f":"IF(S82<>\"\",HLOOKUP(RANK(S82,$J90:$S90),$J$73:$S$74,2,TRUE),\"\")","v":9},6,{"$f":"IF(HLOOKUP(U$76,$J$69:$S$70,2,FALSE)=FALSE,\"\",RAND())","v":0.42118856466171928},{"$f":"IF(V82<>\"\",HLOOKUP(RANK(V82,$J90:$S90),$J$73:$S$74,2,TRUE),\"\")","v":8},6,{"$f":"IF(HLOOKUP(X$76,$J$69:$S$70,2,FALSE)=FALSE,\"\",RAND())","v":0.82472826826821022},{"$f":"IF(Y82<>\"\",HLOOKUP(RANK(Y82,$J90:$S90),$J$73:$S$74,2,TRUE),\"\")","v":4},6,{"$f":"IF(HLOOKUP(AA$76,$J$69:$S$70,2,FALSE)=FALSE,\"\",RAND())","v":0.80935503268274411},{"$f":"IF(AB82<>\"\",HLOOKUP(RANK(AB82,$J90:$S90),$J$73:$S$74,2,TRUE),\"\")","v":5},6,{"$f":"IF(HLOOKUP(AD$76,$J$69:$S$70,2,FALSE)=FALSE,\"\",RAND())","v":0.46796469033333166},{"$f":"IF(AE82<>\"\",HLOOKUP(RANK(AE82,$J90:$S90),$J$73:$S$74,2,TRUE),\"\")","v":7},6,{"$f":"IF(HLOOKUP(AG$76,$J$69:$S$70,2,FALSE)=FALSE,\"\",RAND())","v":0.47083036680074974},{"$f":"IF(AH82<>\"\",HLOOKUP(RANK(AH82,$J90:$S90),$J$73:$S$74,2,TRUE),\"\")","v":6},6,{"$f":"IF(HLOOKUP(AJ$76,$J$69:$S$70,2,FALSE)=FALSE,\"\",RAND())","v":""},{"$f":"IF(AK82<>\"\",HLOOKUP(RANK(AK82,$J90:$S90),$J$73:$S$74,2,TRUE),\"\")","v":""}]
[5,1,2,3,4,5]
[null,null,null,null,null,null,null,null,null,{"$f":"J$74","v":1},{"$f":"K$74","v":2},3,4,5,6,7,8,9,10]
[null,{"$f":"HLOOKUP(B83,$J95:$S101,6,FALSE)","v":7},{"$f":"HLOOKUP(C83,$J95:$S101,6,FALSE)","v":9},{"$f":"HLOOKUP(D83,$J95:$S101,6,FALSE)","v":5},{"$f":"HLOOKUP(E83,$J95:$S101,6,FALSE)","v":6},{"$f":"HLOOKUP(F83,$J95:$S101,6,FALSE)","v":8},null,null,null,{"$f":"J77","v":1},{"$f":"M77","v":1},{"$f":"P77","v":1},{"$f":"S77","v":8.2207332882034523E-2},{"$f":"V77","v":0.38326664924012088},{"$f":"Y77","v":0.64263552205049834},{"$f":"AB77","v":0.31199850969199305},{"$f":"AE77","v":4.9689651183798977E-2},{"$f":"AH77","v":0.54289866409073073},{"$f":"AK77","v":1}]
[6,1,2,3,4,5,null,null,null,{"$f":"J78","v":""},{"$f":"M78","v":""},{"$f":"P78","v":""},{"$f":"S78","v":0.59905172629690229},{"$f":"V78","v":0.86225510004876582},{"$f":"Y78","v":0.33501449986370424},{"$f":"AB78","v":0.95689293393030783},{"$f":"AE78","v":0.96108870185660833},{"$f":"AH78","v":0.22399161176415094},{"$f":"AK78","v":""}]
[null,null,null,null,null,null,null,null,null,"","","",0.26938611097612752,0.39840333785669113,0.63194008769753784,0.63868025775322013,3.2042664869130988E-2,0.72221910578744186,""]
[null,{"$f":"HLOOKUP(B83,$J96:$S102,6,FALSE)","v":4},{"$f":"HLOOKUP(C83,$J96:$S102,6,FALSE)","v":5},8,9,7,null,null,null,"","","",0.70768712984762727,0.41383229471281857,0.81543508828592548,0.19538739838557917,0.30667002254547704,4.1092808021961913E-3,""]
[null,null,null,null,null,null,null,null,null,"","","",0.90494713292714846,0.59769640324953988,0.67489713923016614,0.27481625369328999,0.83457802118906543,0.37186010943443026,""]
[null,null,null,null,null,null,null,null,null,"",{"$f":"M82","v":""},{"$f":"P82","v":""},{"$f":"S82","v":0.40025184454950136},{"$f":"V82","v":0.42118856466171928},{"$f":"Y82","v":0.82472826826821022},{"$f":"AB82","v":0.80935503268274411},{"$f":"AE82","v":0.46796469033333166},{"$f":"AH82","v":0.47083036680074974},{"$f":"AK82","v":""}]
[null,null,null,null,null,null,null,null,null,{"$f":"IF(J$70=FALSE,\"\",RANK(J85,$J85:$S85,1))","v":""},{"$f":"IF(K$70=FALSE,\"\",RANK(K85,$J85:$S85,1))","v":""},"",2,4,6,3,1,5,""]
[null,null,null,null,null,null,null,null,null,"","","",3,4,2,5,6,1,""]
[null,null,null,null,null,null,null,null,null,{"$f":"IF(J$70=FALSE,\"\",RANK(J87,$J87:$S87,1))","v":""},"","",2,3,4,5,1,6,""]
[null,null,null,null,null,null,null,null,null,{"$f":"IF(J$70=FALSE,\"\",RANK(J88,$J88:$S88,1))","v":""},"","",5,4,6,2,3,1,""]
[null,null,null,null,null,null,null,null,null,{"$f":"IF(J$70=FALSE,\"\",RANK(J89,$J89:$S89,1))","v":""},"","",6,3,4,1,5,2,""]
[null,null,null,null,null,null,null,null,null,"","","",1,2,6,5,3,4,""]
[null,null,null,null,null,null,null,null,null,{"$f":"J$74","v":1},{"$f":"K$74","v":2},3,4,5,6,7,8,9,10]
[null,null,null,null,null,null,null,null,null,{"$f":"J$74","v":1},2,3,4,5,6,7,8,9,10]
[null,null,null,null,null,null,null,null,null,1,2,3,4,5,6,7,8,9,10]
[null,null,null,null,null,null,null,null,null,1,2,3,4,5,6,7,8,9,10]
[null,null,null,null,null,null,null,null,null,1,2,3,4,5,6,7,8,9,10]
[null,null,null,null,null,null,null,null,null,1,2,3,4,5,6,7,8,9,10]
[]
[]
[]
[null,{"$f":"'Pythagores (49)'!C72","v":0},{"$f":"'Pythagores (49)'!E72","v":0},{"$f":"'Pythagores (49)'!G72","v":0},{"$f":"'Pythagores (49)'!I72","v":0},{"$f":"'Pythagores (49)'!L72","v":0},{"$f":"'Pythagores (49)'!N72","v":0},{"$f":"'Pythagores (49)'!P72","v":0},{"$f":"'Pythagores (49)'!R72","v":0},{"$f":"'Pythagores (49)'!T72","v":0},{"$f":"'Pythagores (49)'!V72","v":0}]
[1,1,2,3,4,5,6,7,8,9,10,null,null,1,{"$f":"RAND()","v":0.53462648751469188},{"$f":"RANK(O107,O$107:O$116)","v":8},1,{"$f":"RAND()","v":0.47048660865091718},{"$f":"RANK(R107,R$107:R$116)","v":4},1,{"$f":"RAND()","v":0.45152870365339892},{"$f":"RANK(U107,U$107:U$116)","v":6},1,{"$f":"RAND()","v":6.1045646198235159E-2},{"$f":"RANK(X107,X$107:X$116)","v":10},1,{"$f":"RAND()","v":8.176860935403929E-2},{"$f":"RANK(AA107,AA$107:AA$116)","v":10},1,{"$f":"RAND()","v":0.47336747164355331},{"$f":"RANK(AD107,AD$107:AD$116)","v":4},1,{"$f":"RAND()","v":0.58213105278436872},{"$f":"RANK(AG107,AG$107:AG$116)","v":3},1,{"$f":"RAND()","v":0.58564549492431028},{"$f":"RANK(AJ107,AJ$107:AJ$116)","v":6},1,{"$f":"RAND()","v":9.3456018158092014E-2},{"$f":"RANK(AM107,AM$107:AM$116)","v":10},1,{"$f":"RAND()","v":0.86959277989992145},{"$f":"RANK(AP107,AP$107:AP$116)","v":1}]
[null,{"$f":"RAND()","v":0.99146946516117662},{"$f":"RAND()","v":0.90862146252328158},0.62496903365788459,0.10661858099349664,0.88750052981192895,0.38916323418792098,0.69637593136888198,0.8510842984616297,0.9610252643310262,0.90085791165112727,{"$f":"B106","v":0},null,2,0.70608839474205254,5,2,0.15928630413441791,10,2,0.31984863953448162,8,2,0.80805375366854859,3,2,0.27769379972893693,7,2,0.11734441733501066,8,2,0.35933521113494138,5,2,0.93316613821007011,1,2,0.97419440241880906,1,2,0.63265662287109703,6]
[null,{"$f":"RANK(B108,$B108:$K108)","v":1},{"$f":"RANK(C108,$B108:$K108)","v":3},8,10,5,9,7,6,{"$f":"RANK(J108,$B108:$K108)","v":2},{"$f":"RANK(K108,$B108:$K108)","v":4},null,null,3,0.27515703621506837,9,3,0.43988948537962935,6,3,0.51399389944194496,4,3,0.46547448885970166,7,3,0.11342576816481764,9,3,0.36137565831639173,5,3,1.3237285087203232E-2,10,3,0.58987891159818284,5,3,0.92936949130274482,3,3,0.10618876596033489,10]
[2,1,2,3,4,5,6,7,8,9,10,null,null,4,0.92230958427687804,2,4,0.76636894928122812,2,4,0.410031368979764,7,4,0.5318151770135725,6,4,0.16638980448348628,8,4,0.70444334714642054,2,4,0.15835555085535979,7,4,0.59886773516534053,4,4,0.81175479285127006,4,4,0.44668699707394988,7]
[null,{"$f":"RAND()","v":8.2483571535836853E-2},{"$f":"RAND()","v":0.42954355554805312},0.75569417497447788,0.5636727789478353,0.25741285571248196,0.83752125554241452,0.17943207504690517,0.22102087698442152,0.95497114000874572,0.17004735497530221,{"$f":"C106","v":0},null,5,0.2391728832690917,10,5,0.45789576962211243,5,5,3.4807784913876594E-2,10,5,0.32430847444188815,8,5,0.95133067220270429,1,5,0.24420497545099751,7,5,0.78848457655671955,2,5,0.56867512119240327,7,5,0.70607093611206284,5,5,0.64171933126366443,5]
[null,{"$f":"RANK(B111,$B111:$K111)","v":10},5,3,4,6,2,8,7,{"$f":"RANK(J111,$B111:$K111)","v":1},{"$f":"RANK(K111,$B111:$K111)","v":9},null,null,6,0.92684360408335642,1,6,0.42948798586846992,7,6,0.15661054289995857,9,6,0.76582574254756119,4,6,0.47898272442728251,4,6,1.6403722221460582E-2,10,6,0.30780185024365558,6,6,0.73584233195186666,3,6,0.94083745280029885,2,6,0.13935725912595742,9]
[3,1,2,3,4,5,6,7,8,9,10,null,null,7,0.82401037485882489,3,7,0.28285581340228694,9,7,0.8305302350780136,1,7,0.18626465713118112,9,7,0.47178736928080955,5,7,0.98889242469063754,1,7,0.53748923079293009,4,7,2.0261592488346247E-2,10,7,0.52982330416089485,6,7,0.74146309184246562,3]
[null,{"$f":"RAND()","v":0.70549436005471822},{"$f":"RAND()","v":0.66331793889960611},0.43422901312539663,0.143320372444387,0.5451688260113845,0.20906483236306539,0.17749310497381121,0.57407157889744409,0.88432350205415622,0.5068320415903822,{"$f":"D106","v":0},null,8,0.70898372465840387,4,8,0.51580476516353468,3,8,0.82975465710382412,2,8,0.83097068485184955,2,8,0.38960021803867606,6,8,0.2577463008583698,6,8,7.5465412162798229E-2,9,8,0.87187397423534652,2,8,0.40182215494056117,9,8,0.31713371499800858,8]
[null,{"$f":"RANK(B114,$B114:$K114)","v":2},3,7,10,5,8,9,4,{"$f":"RANK(J114,$B114:$K114)","v":1},{"$f":"RANK(K114,$B114:$K114)","v":6},null,null,9,0.63151008379036222,7,9,0.9200392054402019,1,9,0.59692352486486167,3,9,0.58249665794252259,5,9,0.55421526638185603,3,9,9.0477449438357005E-2,9,9,0.98018448445471984,1,9,0.1332256370358047,9,9,0.46460693887578075,7,9,0.71296865950901478,4]
[4,1,2,3,4,5,6,7,8,9,10,null,null,10,0.63934741701489539,6,10,0.39766101212874194,8,10,0.50156718179095283,5,10,0.88187633140735699,1,10,0.77380229464830641,2,10,0.64485332911821081,3,10,8.5222329417697251E-2,8,10,0.28421762648485738,8,10,0.4146576426966837,8,10,0.85500934926555361,2]
[null,{"$f":"RAND()","v":0.18600161251963299},{"$f":"RAND()","v":0.73694080500160353},0.91412503876501316,0.2221824555837324,0.56568493346882642,0.13205778778744082,0.52488317559100628,0.29693770386370588,0.36481643675346231,0.32799587467138924,{"$f":"E106","v":0}]
[null,{"$f":"RANK(B117,$B117:$K117)","v":9},2,1,8,3,10,4,7,{"$f":"RANK(J117,$B117:$K117)","v":5},{"$f":"RANK(K117,$B117:$K117)","v":6}]
[5,1,2,3,4,5,6,7,8,9,10]
[null,{"$f":"RAND()","v":0.87946420571887352},{"$f":"RAND()","v":0.3820699202100214},0.20483177070613789,0.5205565714243614,0.77419821631556363,0.46729599352122397,3.7922715448586497E-2,5.4382601912145612E-2,0.88761259239645518,0.2432855984277591,{"$f":"F106","v":0}]
[null,{"$f":"RANK(B120,$B120:$K120)","v":2},6,8,4,3,5,10,9,{"$f":"RANK(J120,$B120:$K120)","v":1},{"$f":"RANK(K120,$B120:$K120)","v":7}]
[6,1,2,3,4,5,6,7,8,9,10]
[null,{"$f":"RAND()","v":0.71465360309164938},{"$f":"RAND()","v":0.9683526594409676},7.2503031596133138E-2,0.95442337087731821,0.70444176804037695,0.62736906902334666,3.4211213786138561E-2,0.9163734517395038,0.83888478691199886,0.99602341571934272,{"$f":"G106","v":0}]
[null,{"$f":"RANK(B123,$B123:$K123)","v":6},2,9,3,7,8,10,4,{"$f":"RANK(J123,$B123:$K123)","v":5},{"$f":"RANK(K123,$B123:$K123)","v":1}]
[7,1,2,3,4,5,6,7,8,9,10]
[null,{"$f":"RAND()","v":0.20627848941738414},{"$f":"RAND()","v":0.90863526954806495},0.90563958264916855,6.8286733845859704E-2,0.45299507683045792,0.75353366794836074,0.27330864068883676,0.13720716622421569,8.4794396883892897E-2,0.62757443993936857,{"$f":"H106","v":0}]
[null,{"$f":"RANK(B126,$B126:$K126)","v":7},1,2,10,5,3,6,8,{"$f":"RANK(J126,$B126:$K126)","v":9},{"$f":"RANK(K126,$B126:$K126)","v":4}]
[8,1,2,3,4,5,6,7,8,9,10]
[null,{"$f":"RAND()","v":0.12111905754606611},{"$f":"RAND()","v":0.81316567497298975},0.92652665727473404,0.53037052935077933,0.40387938811397117,0.27559069610908671,0.94814989448756348,0.81447988945806793,0.39133661651042217,7.8286803251637282E-2,{"$f":"I106","v":0}]
[null,{"$f":"RANK(B129,$B129:$K129)","v":9},4,2,5,6,8,1,3,{"$f":"RANK(J129,$B129:$K129)","v":7},{"$f":"RANK(K129,$B129:$K129)","v":10}]
[9,1,2,3,4,5,6,7,8,9,10]
[null,{"$f":"RAND()","v":0.89542419350700031},{"$f":"RAND()","v":0.97215205977092278},0.34423051056025356,0.87099140153886356,0.23505185308764953,0.56111606138852299,0.72928779541090594,0.94880886337677706,0.26975161595744634,0.30638313661947025,{"$f":"J106","v":0}]
[null,{"$f":"RANK(B132,$B132:$K132)","v":3},1,7,4,10,6,5,2,{"$f":"RANK(J132,$B132:$K132)","v":9},{"$f":"RANK(K132,$B132:$K132)","v":8}]
[10,1,2,3,4,5,6,7,8,9,10]
[null,{"$f":"RAND()","v":0.15751914916297061},{"$f":"RAND()","v":0.57956800226126448},0.7735497479506469,0.60343052042917134,0.96375768850109522,0.15063500616969439,0.59073687912756467,3.0838702107616189E-4,0.33934483679067262,0.19008401817109666,{"$f":"K106","v":0}]
[null,{"$f":"RANK(B135,$B135:$K135)","v":8},5,2,3,1,9,4,10,{"$f":"RANK(J135,$B135:$K135)","v":6},{"$f":"RANK(K135,$B135:$K135)","v":7}]

{"sheet":"Graphique tables CE","index":12,"n_rows":59,"n_cols":46,"rows_kept":59,"cut":false,"hidden":false,"merged":[[55,0,55,1],[39,1,44,1],[39,0,44,0],[33,0,38,0],[27,0,32,0],[27,1,32,1],[33,1,38,1],[45,1,50,1],[45,0,50,0],[54,3,54,4],[54,6,54,7],[1,0,1,35],[2,3,2,7],[21,0,26,0],[21,1,26,1],[15,0,20,0],[15,1,20,1],[9,0,14,0],[3,0,8,0],[3,1,8,1],[2,0,2,2],[56,0,56,1],[55,3,55,4],[55,6,55,7],[9,1,14,1],[3,2,50,2],[56,3,56,6],[51,0,51,1],[52,0,52,1],[53,0,53,1],[54,0,54,1],[51,6,51,7],[52,6,52,7],[51,3,51,4],[52,3,52,4],[53,3,53,4],[53,6,53,7]]}
[]
["Brevets de tables de multiplication CE",null,null,null,null,null,null,null,null,null,null,null,null,null,null,null,null,null,null,null,null,null,null,null,null,null,null,null,null,null,null,null,null,null,null,null,null,null,null,null,null,null,null,"vitesse\n/case"]
["Or",null,null,"Moins de 3 minutes",null,null,null,null,null,null,null,null,null,null,null,null,null,null,null,null,null,null,null,null,null,null,null,null,null,null,null,null,null,null,null,null,null,null,null,null,null,null,null,{"$f":"(E4-0.001)/100","v":"00:01:47.736"}]
["Maxi argent","moins de 3 min. 30","100 cases","de","03:01:00","à","03:05:00",null,null,null,null,null,null,null,null,null,null,null,null,null,null,null,null,null,null,null,null,null,null,null,null,null,null,null,null,null,null,null,null,null,null,null,null,{"$f":"E4/100","v":"00:01:48.600"}]
[null,null,null,"de","03:06:00","à","03:10:00",null,null,null,null,null,null,null,null,null,null,null,null,null,null,null,null,null,null,null,null,null,null,null,null,null,null,null,null,null,null,null,null,null,null,null,null,{"$f":"E5/100","v":"00:01:51.600"}]
[null,null,null,"de","03:11:00","à","03:15:00",null,null,null,null,null,null,null,null,null,null,null,null,null,null,null,null,null,null,null,null,null,null,null,null,null,null,null,null,null,null,null,null,null,null,null,null,"00:01:54.600"]
[null,null,null,"de","03:16:00","à","03:20:00",null,null,null,null,null,null,null,null,null,null,null,null,null,null,null,null,null,null,null,null,null,null,null,null,null,null,null,null,null,null,null,null,null,null,null,null,"00:01:57.600"]
[null,null,null,"de","03:21:00","à","03:25:00",null,null,null,null,null,null,null,null,null,null,null,null,null,null,null,null,null,null,null,null,null,null,null,null,null,null,null,null,null,null,null,null,null,null,null,null,"00:02:00.600"]
[null,null,null,"de","03:26:00","à","03:30:00",null,null,null,null,null,null,null,null,null,null,null,null,null,null,null,null,null,null,null,null,null,null,null,null,null,null,null,null,null,null,null,null,null,null,null,null,"00:02:03.600"]
["Argent","moins de 4 minutes",null,"de","03:31:00","à","03:35:00",null,null,null,null,null,null,null,null,null,null,null,null,null,null,null,null,null,null,null,null,null,null,null,null,null,null,null,null,null,null,null,null,null,null,null,null,"00:02:06.600"]
[null,null,null,"de","03:36:00","à","03:40:00",null,null,null,null,null,null,null,null,null,null,null,null,null,null,null,null,null,null,null,null,null,null,null,null,null,null,null,null,null,null,null,null,null,null,null,null,"00:02:09.600"]
[null,null,null,"de","03:41:00","à","03:45:00",null,null,null,null,null,null,null,null,null,null,null,null,null,null,null,null,null,null,null,null,null,null,null,null,null,null,null,null,null,null,null,null,null,null,null,null,"00:02:12.600"]
[null,null,null,"de","03:46:00","à","03:50:00",null,null,null,null,null,null,null,null,null,null,null,null,null,null,null,null,null,null,null,null,null,null,null,null,null,null,null,null,null,null,null,null,null,null,null,null,"00:02:15.600"]
[null,null,null,"de","03:51:00","à","03:55:00",null,null,null,null,null,null,null,null,null,null,null,null,null,null,null,null,null,null,null,null,null,null,null,null,null,null,null,null,null,null,null,null,null,null,null,null,"00:02:18.600"]
[null,null,null,"de","03:56:00","à","04:00:00",null,null,null,null,null,null,null,null,null,null,null,null,null,null,null,null,null,null,null,null,null,null,null,null,null,null,null,null,null,null,null,null,null,null,null,null,"00:02:21.600"]
["Maxi bleu","moins de 4 min. 30",null,"de","04:01:00","à","04:05:00",null,null,null,null,null,null,null,null,null,null,null,null,null,null,null,null,null,null,null,null,null,null,null,null,null,null,null,null,null,null,null,null,null,null,null,null,"00:02:24.600"]
[null,null,null,"de","04:06:00","à","04:10:00",null,null,null,null,null,null,null,null,null,null,null,null,null,null,null,null,null,null,null,null,null,null,null,null,null,null,null,null,null,null,null,null,null,null,null,null,"00:02:27.600"]
[null,null,null,"de","04:11:00","à","04:15:00",null,null,null,null,null,null,null,null,null,null,null,null,null,null,null,null,null,null,null,null,null,null,null,null,null,null,null,null,null,null,null,null,null,null,null,null,"00:02:30.600"]
[null,null,null,"de","04:16:00","à","04:20:00",null,null,null,null,null,null,null,null,null,null,null,null,null,null,null,null,null,null,null,null,null,null,null,null,null,null,null,null,null,null,null,null,null,null,null,null,"00:02:33.600"]
[null,null,null,"de","04:21:00","à","04:25:00",null,null,null,null,null,null,null,null,null,null,null,null,null,null,null,null,null,null,null,null,null,null,null,null,null,null,null,null,null,null,null,null,null,null,null,null,"00:02:36.600"]
[null,null,null,"de","04:26:00","à","04:30:00",null,null,null,null,null,null,null,null,null,null,null,null,null,null,null,null,null,null,null,null,null,null,null,null,null,null,null,null,null,null,null,null,null,null,null,null,"00:02:39.600"]
["Bleu","moins de 5 minutes",null,"de","04:31:00","à","04:35:00",null,null,null,null,null,null,null,null,null,null,null,null,null,null,null,null,null,null,null,null,null,null,null,null,null,null,null,null,null,null,null,null,null,null,null,null,"00:02:42.600"]
[null,null,null,"de","04:36:00","à","04:40:00",null,null,null,null,null,null,null,null,null,null,null,null,null,null,null,null,null,null,null,null,null,null,null,null,null,null,null,null,null,null,null,null,null,null,null,null,"00:02:45.600"]
[null,null,null,"de","04:41:00","à","04:45:00",null,null,null,null,null,null,null,null,null,null,null,null,null,null,null,null,null,null,null,null,null,null,null,null,null,null,null,null,null,null,null,null,null,null,null,null,"00:02:48.600"]
[null,null,null,"de","04:46:00","à","04:50:00",null,null,null,null,null,null,null,null,null,null,null,null,null,null,null,null,null,null,null,null,null,null,null,null,null,null,null,null,null,null,null,null,null,null,null,null,"00:02:51.600"]
[null,null,null,"de","04:51:00","à","04:55:00",null,null,null,null,null,null,null,null,null,null,null,null,null,null,null,null,null,null,null,null,null,null,null,null,null,null,null,null,null,null,null,null,null,null,null,null,"00:02:54.600"]
[null,null,null,"de","04:56:00","à","05:00:00",null,null,null,null,null,null,null,null,null,null,null,null,null,null,null,null,null,null,null,null,null,null,null,null,null,null,null,null,null,null,null,null,null,null,null,null,"00:02:57.600"]
["Maxi vert","moins de 5 min. 30",null,"de","05:01:00","à","05:05:00",null,null,null,null,null,null,null,null,null,null,null,null,null,null,null,null,null,null,null,null,null,null,null,null,null,null,null,null,null,null,null,null,null,null,null,null,"00:03:00.600"]
[null,null,null,"de","05:06:00","à","05:10:00",null,null,null,null,null,null,null,null,null,null,null,null,null,null,null,null,null,null,null,null,null,null,null,null,null,null,null,null,null,null,null,null,null,null,null,null,"00:03:03.600"]
[null,null,null,"de","05:11:00","à","05:15:00",null,null,null,null,null,null,null,null,null,null,null,null,null,null,null,null,null,null,null,null,null,null,null,null,null,null,null,null,null,null,null,null,null,null,null,null,"00:03:06.600"]
[null,null,null,"de","05:16:00","à","05:20:00",null,null,null,null,null,null,null,null,null,null,null,null,null,null,null,null,null,null,null,null,null,null,null,null,null,null,null,null,null,null,null,null,null,null,null,null,"00:03:09.600"]
[null,null,null,"de","05:21:00","à","05:25:00",null,null,null,null,null,null,null,null,null,null,null,null,null,null,null,null,null,null,null,null,null,null,null,null,null,null,null,null,null,null,null,null,null,null,null,null,"00:03:12.600"]
[null,null,null,"de","05:26:00","à","05:30:00",null,null,null,null,null,null,null,null,null,null,null,null,null,null,null,null,null,null,null,null,null,null,null,null,null,null,null,null,null,null,null,null,null,null,null,null,"00:03:15.600"]
["Vert","moins de 6 minutes",null,"de","05:31:00","à","05:35:00",null,null,null,null,null,null,null,null,null,null,null,null,null,null,null,null,null,null,null,null,null,null,null,null,null,null,null,null,null,null,null,null,null,null,null,null,"00:03:18.600"]
[null,null,null,"de","05:36:00","à","05:40:00",null,null,null,null,null,null,null,null,null,null,null,null,null,null,null,null,null,null,null,null,null,null,null,null,null,null,null,null,null,null,null,null,null,null,null,null,"00:03:21.600"]
[null,null,null,"de","05:41:00","à","05:45:00",null,null,null,null,null,null,null,null,null,null,null,null,null,null,null,null,null,null,null,null,null,null,null,null,null,null,null,null,null,null,null,null,null,null,null,null,"00:03:24.600"]
[null,null,null,"de","05:46:00","à","05:50:00",null,null,null,null,null,null,null,null,null,null,null,null,null,null,null,null,null,null,null,null,null,null,null,null,null,null,null,null,null,null,null,null,null,null,null,null,"00:03:27.600"]
[null,null,null,"de","05:51:00","à","05:55:00",null,null,null,null,null,null,null,null,null,null,null,null,null,null,null,null,null,null,null,null,null,null,null,null,null,null,null,null,null,null,null,null,null,null,null,null,"00:03:30.600"]
[null,null,null,"de","05:56:00","à","06:00:00",null,null,null,null,null,null,null,null,null,null,null,null,null,null,null,null,null,null,null,null,null,null,null,null,null,null,null,null,null,null,null,null,null,null,null,null,"00:03:33.600"]
["Maxi orange","moins de 6 min. 30",null,"de","06:01:00","à","06:05:00",null,null,null,null,null,null,null,null,null,null,null,null,null,null,null,null,null,null,null,null,null,null,null,null,null,null,null,null,null,null,null,null,null,null,null,null,"00:03:36.600"]
[null,null,null,"de","06:06:00","à","06:10:00",null,null,null,null,null,null,null,null,null,null,null,null,null,null,null,null,null,null,null,null,null,null,null,null,null,null,null,null,null,null,null,null,null,null,null,null,"00:03:39.600"]
[null,null,null,"de","06:11:00","à","06:15:00",null,null,null,null,null,null,null,null,null,null,null,null,null,null,null,null,null,null,null,null,null,null,null,null,null,null,null,null,null,null,null,null,null,null,null,null,"00:03:42.600"]
[null,null,null,"de","06:16:00","à","06:20:00",null,null,null,null,null,null,null,null,null,null,null,null,null,null,null,null,null,null,null,null,null,null,null,null,null,null,null,null,null,null,null,null,null,null,null,null,"00:03:45.600"]
[null,null,null,"de","06:21:00","à","06:25:00",null,null,null,null,null,null,null,null,null,null,null,null,null,null,null,null,null,null,null,null,null,null,null,null,null,null,null,null,null,null,null,null,null,null,null,null,"00:03:48.600"]
[null,null,null,"de","06:26:00","à","06:30:00",null,null,null,null,null,null,null,null,null,null,null,null,null,null,null,null,null,null,null,null,null,null,null,null,null,null,null,null,null,null,null,null,null,null,null,null,"00:03:51.600"]
["Orange","moins de 7 minutes",null,"de","06:31:00","à","06:35:00",null,null,null,null,null,null,null,null,null,null,null,null,null,null,null,null,null,null,null,null,null,null,null,null,null,null,null,null,null,null,null,null,null,null,null,null,"00:03:54.600"]
[null,null,null,"de","06:36:00","à","06:40:00",null,null,null,null,null,null,null,null,null,null,null,null,null,null,null,null,null,null,null,null,null,null,null,null,null,null,null,null,null,null,null,null,null,null,null,null,"00:03:57.600"]
[null,null,null,"de","06:41:00","à","06:45:00",null,null,null,null,null,null,null,null,null,null,null,null,null,null,null,null,null,null,null,null,null,null,null,null,null,null,null,null,null,null,null,null,null,null,null,null,"00:04:00.600"]
[null,null,null,"de","06:46:00","à","06:50:00",null,null,null,null,null,null,null,null,null,null,null,null,null,null,null,null,null,null,null,null,null,null,null,null,null,null,null,null,null,null,null,null,null,null,null,null,"00:04:03.600"]
[null,null,null,"de","06:51:00","à","06:55:00",null,null,null,null,null,null,null,null,null,null,null,null,null,null,null,null,null,null,null,null,null,null,null,null,null,null,null,null,null,null,null,null,null,null,null,null,"00:04:06.600"]
[null,null,null,"de","06:56:00","à","07:00:00",null,null,null,null,null,null,null,null,null,null,null,null,null,null,null,null,null,null,null,null,null,null,null,null,null,null,null,null,null,null,null,null,null,null,null,null,"00:04:09.600"]
["Maxi jaune",null,"49 cases","Moins de  ",null,5," minutes",null,null,null,null,null,null,null,null,null,null,null,null,null,null,null,null,null,null,null,null,null,null,null,null,null,null,null,null,null,null,null,null,null,null,null,null,{"$f":"AT52/49","v":"00:06:07.347"},null,"05:00:00"]
["Jaune",null,"25 cases\n(difficile)","Moins de  ",null,3," minutes",null,null,null,null,null,null,null,null,null,null,null,null,null,null,null,null,null,null,null,null,null,null,null,null,null,null,null,null,null,null,null,null,null,null,null,null,{"$f":"AT53/25","v":"00:07:12"},null,"03:00:00"]
["Maxi blanc",null,"25 cases \n(facile)","Moins de  ",null,3," minutes",null,null,null,null,null,null,null,null,null,null,null,null,null,null,null,null,null,null,null,null,null,null,null,null,null,null,null,null,null,null,null,null,null,null,null,null,{"$f":"AT54/25","v":"00:07:12"},null,"03:00:00"]
["Blanc",null,"10 cases\ndésordre","Moins de  ",null,2," minutes",null,null,null,null,null,null,null,null,null,null,null,null,null,null,null,null,null,null,null,null,null,null,null,null,null,null,null,null,null,null,null,null,null,null,null,null,{"$f":"AT55/10","v":"00:12:00"},null,"02:00:00"]
["Rose",null,"10 cases\nordre","Moins de  ",null,2," minutes",null,null,null,null,null,null,null,null,null,null,null,null,null,null,null,null,null,null,null,null,null,null,null,null,null,null,null,null,null,null,null,null,null,null,null,null,{"$f":"AT56/10","v":"00:12:00"},null,"02:00:00"]
["Brevet obtenu",null,"Type de grille","Temps",null,null,null,"Dates"]
[]
[null,null,null,null,null,null,"Prénom:"]

{"sheet":"Graphique tables CM","index":13,"n_rows":79,"n_cols":53,"rows_kept":79,"cut":false,"hidden":false,"merged":[[13,1,16,2],[10,1,12,2],[7,1,9,2],[39,1,44,2],[33,1,38,2],[27,1,32,2],[21,1,26,2],[17,1,20,2],[1,0,1,51],[78,0,79,51],[77,3,77,6],[71,1,72,2],[77,0,77,2],[2,3,2,6],[2,0,76,0],[75,1,76,2],[73,1,74,2],[69,1,70,2],[5,1,6,2],[2,1,4,2],[63,1,68,2],[57,1,62,2],[51,1,56,2],[45,1,50,2]]}
[]
["Brevets de tables de multiplication CM",null,null,null,null,null,null,null,null,null,null,null,null,null,null,null,null,null,null,null,null,null,null,null,null,null,null,null,null,null,null,null,null,null,null,null,null,null,null,null,null,null,null,null,null,null,null,null,null,null,null,null,"vitesse moyenne \npar case"]
["Grille 100 cases dans le désordre","Diamant",null,"Moins de 1' 30''",null,null,null,null,null,null,null,null,null,null,null,null,null,null,null,null,null,null,null,null,null,null,null,null,null,null,null,null,null,null,null,null,null,null,null,null,null,null,null,null,null,null,null,null,null,null,null,null,"0,94 sec/case"]
[null,null,null,"de","01:31:00","à","01:35:00",{"$f":"E4/100","v":"00:00:54.600"},null,null,null,null,null,null,null,null,null,null,null,null,null,null,null,null,null,null,null,null,null,null,null,null,null,null,null,null,null,null,null,null,null,null,null,null,null,null,null,null,null,null,null,null,"0,97 sec/case"]
[null,null,null,"de","01:36:00","à","01:40:00",{"$f":"E5/100","v":"00:00:57.600"},null,null,null,null,null,null,null,null,null,null,null,null,null,null,null,null,null,null,null,null,null,null,null,null,null,null,null,null,null,null,null,null,null,null,null,null,null,null,null,null,null,null,null,null,{"$f":"G5/100","v":"00:01:00"}]
[null,"Rubis",null,"de","01:41:00","à","01:45:00","00:01:00.600",null,null,null,null,null,null,null,null,null,null,null,null,null,null,null,null,null,null,null,null,null,null,null,null,null,null,null,null,null,null,null,null,null,null,null,null,null,null,null,null,null,null,null,null,"00:01:03"]
[null,null,null,"de","01:46:00","à","01:50:00","00:01:03.600",null,null,null,null,null,null,null,null,null,null,null,null,null,null,null,null,null,null,null,null,null,null,null,null,null,null,null,null,null,null,null,null,null,null,null,null,null,null,null,null,null,null,null,null,"00:01:06"]
[null,"Emeraude",null,"de","01:51:00","à","01:55:00","00:01:06.600",null,null,null,null,null,null,null,null,null,null,null,null,null,null,null,null,null,null,null,null,null,null,null,null,null,null,null,null,null,null,null,null,null,null,null,null,null,null,null,null,null,null,null,null,"00:01:09"]
[null,null,null,"de","01:56:00","à","02:00:00","00:01:09.600",null,null,null,null,null,null,null,null,null,null,null,null,null,null,null,null,null,null,null,null,null,null,null,null,null,null,null,null,null,null,null,null,null,null,null,null,null,null,null,null,null,null,null,null,"00:01:12"]
[null,null,null,"de","02:01:00","à","02:05:00","00:01:12.600",null,null,null,null,null,null,null,null,null,null,null,null,null,null,null,null,null,null,null,null,null,null,null,null,null,null,null,null,null,null,null,null,null,null,null,null,null,null,null,null,null,null,null,null,"00:01:15"]
[null,"Saphir",null,"de","02:06:00","à","02:10:00","00:01:15.600",null,null,null,null,null,null,null,null,null,null,null,null,null,null,null,null,null,null,null,null,null,null,null,null,null,null,null,null,null,null,null,null,null,null,null,null,null,null,null,null,null,null,null,null,"00:01:18"]
[null,null,null,"de","02:11:00","à","02:15:00","00:01:18.600",null,null,null,null,null,null,null,null,null,null,null,null,null,null,null,null,null,null,null,null,null,null,null,null,null,null,null,null,null,null,null,null,null,null,null,null,null,null,null,null,null,null,null,null,"00:01:21"]
[null,null,null,"de","02:16:00","à","02:20:00","00:01:21.600",null,null,null,null,null,null,null,null,null,null,null,null,null,null,null,null,null,null,null,null,null,null,null,null,null,null,null,null,null,null,null,null,null,null,null,null,null,null,null,null,null,null,null,null,"00:01:24"]
[null,"Maxi Or",null,"de","02:21:00","à","02:25:00","00:01:24.600",null,null,null,null,null,null,null,null,null,null,null,null,null,null,null,null,null,null,null,null,null,null,null,null,null,null,null,null,null,null,null,null,null,null,null,null,null,null,null,null,null,null,null,null,"00:01:27"]
[null,null,null,"de","02:26:00","à","02:30:00","00:01:27.600",null,null,null,null,null,null,null,null,null,null,null,null,null,null,null,null,null,null,null,null,null,null,null,null,null,null,null,null,null,null,null,null,null,null,null,null,null,null,null,null,null,null,null,null,"00:01:30"]
[null,"Saphir",null,"de","02:31:00","à","02:35:00","00:01:30.600",null,null,null,null,null,null,null,null,null,null,null,null,null,null,null,null,null,null,null,null,null,null,null,null,null,null,null,null,null,null,null,null,null,null,null,null,null,null,null,null,null,null,null,null,"00:01:33"]
[null,null,null,"de","02:36:00","à","02:40:00","00:01:33.600",null,null,null,null,null,null,null,null,null,null,null,null,null,null,null,null,null,null,null,null,null,null,null,null,null,null,null,null,null,null,null,null,null,null,null,null,null,null,null,null,null,null,null,null,"00:01:36"]
[null,"Or",null,"de","02:41:00","à","02:45:00","00:01:36.600",null,null,null,null,null,null,null,null,null,null,null,null,null,null,null,null,null,null,null,null,null,null,null,null,null,null,null,null,null,null,null,null,null,null,null,null,null,null,null,null,null,null,null,null,"00:01:39"]
[null,null,null,"de","02:46:00","à","02:50:00","00:01:39.600",null,null,null,null,null,null,null,null,null,null,null,null,null,null,null,null,null,null,null,null,null,null,null,null,null,null,null,null,null,null,null,null,null,null,null,null,null,null,null,null,null,null,null,null,"00:01:42"]
[null,null,null,"de","02:51:00","à","02:55:00","00:01:42.600",null,null,null,null,null,null,null,null,null,null,null,null,null,null,null,null,null,null,null,null,null,null,null,null,null,null,null,null,null,null,null,null,null,null,null,null,null,null,null,null,null,null,null,null,"00:01:45"]
[null,null,null,"de","02:56:00","à","03:00:00","00:01:45.600",null,null,null,null,null,null,null,null,null,null,null,null,null,null,null,null,null,null,null,null,null,null,null,null,null,null,null,null,null,null,null,null,null,null,null,null,null,null,null,null,null,null,null,null,{"$f":"G21/100","v":"00:01:48"}]
[null,"Maxi argent",null,"de","03:01:00","à","03:05:00","00:01:48.600",null,null,null,null,null,null,null,null,null,null,null,null,null,null,null,null,null,null,null,null,null,null,null,null,null,null,null,null,null,null,null,null,null,null,null,null,null,null,null,null,null,null,null,null,{"$f":"G22/100","v":"00:01:51"}]
[null,null,null,"de","03:06:00","à","03:10:00","00:01:51.600",null,null,null,null,null,null,null,null,null,null,null,null,null,null,null,null,null,null,null,null,null,null,null,null,null,null,null,null,null,null,null,null,null,null,null,null,null,null,null,null,null,null,null,null,"00:01:54"]
[null,null,null,"de","03:11:00","à","03:15:00","00:01:54.600",null,null,null,null,null,null,null,null,null,null,null,null,null,null,null,null,null,null,null,null,null,null,null,null,null,null,null,null,null,null,null,null,null,null,null,null,null,null,null,null,null,null,null,null,"00:01:57"]
[null,null,null,"de","03:16:00","à","03:20:00","00:01:57.600",null,null,null,null,null,null,null,null,null,null,null,null,null,null,null,null,null,null,null,null,null,null,null,null,null,null,null,null,null,null,null,null,null,null,null,null,null,null,null,null,null,null,null,null,"00:02:00"]
[null,null,null,"de","03:21:00","à","03:25:00","00:02:00.600",null,null,null,null,null,null,null,null,null,null,null,null,null,null,null,null,null,null,null,null,null,null,null,null,null,null,null,null,null,null,null,null,null,null,null,null,null,null,null,null,null,null,null,null,"00:02:03"]
[null,null,null,"de","03:26:00","à","03:30:00","00:02:03.600",null,null,null,null,null,null,null,null,null,null,null,null,null,null,null,null,null,null,null,null,null,null,null,null,null,null,null,null,null,null,null,null,null,null,null,null,null,null,null,null,null,null,null,null,"00:02:06"]
[null,"Argent",null,"de","03:31:00","à","03:35:00","00:02:06.600",null,null,null,null,null,null,null,null,null,null,null,null,null,null,null,null,null,null,null,null,null,null,null,null,null,null,null,null,null,null,null,null,null,null,null,null,null,null,null,null,null,null,null,null,"00:02:09"]
[null,null,null,"de","03:36:00","à","03:40:00","00:02:09.600",null,null,null,null,null,null,null,null,null,null,null,null,null,null,null,null,null,null,null,null,null,null,null,null,null,null,null,null,null,null,null,null,null,null,null,null,null,null,null,null,null,null,null,null,"00:02:12"]
[null,null,null,"de","03:41:00","à","03:45:00","00:02:12.600",null,null,null,null,null,null,null,null,null,null,null,null,null,null,null,null,null,null,null,null,null,null,null,null,null,null,null,null,null,null,null,null,null,null,null,null,null,null,null,null,null,null,null,null,"00:02:15"]
[null,null,null,"de","03:46:00","à","03:50:00","00:02:15.600",null,null,null,null,null,null,null,null,null,null,null,null,null,null,null,null,null,null,null,null,null,null,null,null,null,null,null,null,null,null,null,null,null,null,null,null,null,null,null,null,null,null,null,null,"00:02:18"]
[null,null,null,"de","03:51:00","à","03:55:00","00:02:18.600",null,null,null,null,null,null,null,null,null,null,null,null,null,null,null,null,null,null,null,null,null,null,null,null,null,null,null,null,null,null,null,null,null,null,null,null,null,null,null,null,null,null,null,null,"00:02:21"]
[null,null,null,"de","03:56:00","à","04:00:00","00:02:21.600",null,null,null,null,null,null,null,null,null,null,null,null,null,null,null,null,null,null,null,null,null,null,null,null,null,null,null,null,null,null,null,null,null,null,null,null,null,null,null,null,null,null,null,null,"00:02:24"]
[null,"Maxi Bleue",null,"de","04:01:00","à","04:05:00","00:02:24.600",null,null,null,null,null,null,null,null,null,null,null,null,null,null,null,null,null,null,null,null,null,null,null,null,null,null,null,null,null,null,null,null,null,null,null,null,null,null,null,null,null,null,null,null,"00:02:27"]
[null,null,null,"de","04:06:00","à","04:10:00","00:02:27.600",null,null,null,null,null,null,null,null,null,null,null,null,null,null,null,null,null,null,null,null,null,null,null,null,null,null,null,null,null,null,null,null,null,null,null,null,null,null,null,null,null,null,null,null,"00:02:30"]
[null,null,null,"de","04:11:00","à","04:15:00","00:02:30.600",null,null,null,null,null,null,null,null,null,null,null,null,null,null,null,null,null,null,null,null,null,null,null,null,null,null,null,null,null,null,null,null,null,null,null,null,null,null,null,null,null,null,null,null,"00:02:33"]
[null,null,null,"de","04:16:00","à","04:20:00","00:02:33.600",null,null,null,null,null,null,null,null,null,null,null,null,null,null,null,null,null,null,null,null,null,null,null,null,null,null,null,null,null,null,null,null,null,null,null,null,null,null,null,null,null,null,null,null,"00:02:36"]
[null,null,null,"de","04:21:00","à","04:25:00","00:02:36.600",null,null,null,null,null,null,null,null,null,null,null,null,null,null,null,null,null,null,null,null,null,null,null,null,null,null,null,null,null,null,null,null,null,null,null,null,null,null,null,null,null,null,null,null,"00:02:39"]
[null,null,null,"de","04:26:00","à","04:30:00","00:02:39.600",null,null,null,null,null,null,null,null,null,null,null,null,null,null,null,null,null,null,null,null,null,null,null,null,null,null,null,null,null,null,null,null,null,null,null,null,null,null,null,null,null,null,null,null,"00:02:42"]
[null,"Bleue",null,"de","04:31:00","à","04:35:00","00:02:42.600",null,null,null,null,null,null,null,null,null,null,null,null,null,null,null,null,null,null,null,null,null,null,null,null,null,null,null,null,null,null,null,null,null,null,null,null,null,null,null,null,null,null,null,null,"00:02:45"]
[null,null,null,"de","04:36:00","à","04:40:00","00:02:45.600",null,null,null,null,null,null,null,null,null,null,null,null,null,null,null,null,null,null,null,null,null,null,null,null,null,null,null,null,null,null,null,null,null,null,null,null,null,null,null,null,null,null,null,null,"00:02:48"]
[null,null,null,"de","04:41:00","à","04:45:00","00:02:48.600",null,null,null,null,null,null,null,null,null,null,null,null,null,null,null,null,null,null,null,null,null,null,null,null,null,null,null,null,null,null,null,null,null,null,null,null,null,null,null,null,null,null,null,null,"00:02:51"]
[null,null,null,"de","04:46:00","à","04:50:00","00:02:51.600",null,null,null,null,null,null,null,null,null,null,null,null,null,null,null,null,null,null,null,null,null,null,null,null,null,null,null,null,null,null,null,null,null,null,null,null,null,null,null,null,null,null,null,null,"00:02:54"]
[null,null,null,"de","04:51:00","à","04:55:00","00:02:54.600",null,null,null,null,null,null,null,null,null,null,null,null,null,null,null,null,null,null,null,null,null,null,null,null,null,null,null,null,null,null,null,null,null,null,null,null,null,null,null,null,null,null,null,null,"00:02:57"]
[null,null,null,"de","04:56:00","à","05:00:00","00:02:57.600",null,null,null,null,null,null,null,null,null,null,null,null,null,null,null,null,null,null,null,null,null,null,null,null,null,null,null,null,null,null,null,null,null,null,null,null,null,null,null,null,null,null,null,null,"00:03:00"]
[null,"Maxi verte",null,"de","05:01:00","à","05:05:00","00:03:00.600",null,null,null,null,null,null,null,null,null,null,null,null,null,null,null,null,null,null,null,null,null,null,null,null,null,null,null,null,null,null,null,null,null,null,null,null,null,null,null,null,null,null,null,null,"00:03:03"]
[null,null,null,"de","05:06:00","à","05:10:00","00:03:03.600",null,null,null,null,null,null,null,null,null,null,null,null,null,null,null,null,null,null,null,null,null,null,null,null,null,null,null,null,null,null,null,null,null,null,null,null,null,null,null,null,null,null,null,null,"00:03:06"]
[null,null,null,"de","05:11:00","à","05:15:00","00:03:06.600",null,null,null,null,null,null,null,null,null,null,null,null,null,null,null,null,null,null,null,null,null,null,null,null,null,null,null,null,null,null,null,null,null,null,null,null,null,null,null,null,null,null,null,null,"00:03:09"]
[null,null,null,"de","05:16:00","à","05:20:00","00:03:09.600",null,null,null,null,null,null,null,null,null,null,null,null,null,null,null,null,null,null,null,null,null,null,null,null,null,null,null,null,null,null,null,null,null,null,null,null,null,null,null,null,null,null,null,null,"00:03:12"]
[null,null,null,"de","05:21:00","à","05:25:00","00:03:12.600",null,null,null,null,null,null,null,null,null,null,null,null,null,null,null,null,null,null,null,null,null,null,null,null,null,null,null,null,null,null,null,null,null,null,null,null,null,null,null,null,null,null,null,null,"00:03:15"]
[null,null,null,"de","05:26:00","à","05:30:00","00:03:15.600",null,null,null,null,null,null,null,null,null,null,null,null,null,null,null,null,null,null,null,null,null,null,null,null,null,null,null,null,null,null,null,null,null,null,null,null,null,null,null,null,null,null,null,null,"00:03:18"]
[null,"verte",null,"de","05:31:00","à","05:35:00","00:03:18.600",null,null,null,null,null,null,null,null,null,null,null,null,null,null,null,null,null,null,null,null,null,null,null,null,null,null,null,null,null,null,null,null,null,null,null,null,null,null,null,null,null,null,null,null,"00:03:21"]
[null,null,null,"de","05:36:00","à","05:40:00","00:03:21.600",null,null,null,null,null,null,null,null,null,null,null,null,null,null,null,null,null,null,null,null,null,null,null,null,null,null,null,null,null,null,null,null,null,null,null,null,null,null,null,null,null,null,null,null,"00:03:24"]
[null,null,null,"de","05:41:00","à","05:45:00","00:03:24.600",null,null,null,null,null,null,null,null,null,null,null,null,null,null,null,null,null,null,null,null,null,null,null,null,null,null,null,null,null,null,null,null,null,null,null,null,null,null,null,null,null,null,null,null,"00:03:27"]
[null,null,null,"de","05:46:00","à","05:50:00","00:03:27.600",null,null,null,null,null,null,null,null,null,null,null,null,null,null,null,null,null,null,null,null,null,null,null,null,null,null,null,null,null,null,null,null,null,null,null,null,null,null,null,null,null,null,null,null,"00:03:30"]
[null,null,null,"de","05:51:00","à","05:55:00","00:03:30.600",null,null,null,null,null,null,null,null,null,null,null,null,null,null,null,null,null,null,null,null,null,null,null,null,null,null,null,null,null,null,null,null,null,null,null,null,null,null,null,null,null,null,null,null,"00:03:33"]
[null,null,null,"de","05:56:00","à","06:00:00","00:03:33.600",null,null,null,null,null,null,null,null,null,null,null,null,null,null,null,null,null,null,null,null,null,null,null,null,null,null,null,null,null,null,null,null,null,null,null,null,null,null,null,null,null,null,null,null,"00:03:36"]
[null,"Maxi Orange",null,"de","06:01:00","à","06:05:00","00:03:36.600",null,null,null,null,null,null,null,null,null,null,null,null,null,null,null,null,null,null,null,null,null,null,null,null,null,null,null,null,null,null,null,null,null,null,null,null,null,null,null,null,null,null,null,null,"00:03:39"]
[null,null,null,"de","06:06:00","à","06:10:00","00:03:39.600",null,null,null,null,null,null,null,null,null,null,null,null,null,null,null,null,null,null,null,null,null,null,null,null,null,null,null,null,null,null,null,null,null,null,null,null,null,null,null,null,null,null,null,null,"00:03:42"]
[null,null,null,"de","06:11:00","à","06:15:00","00:03:42.600",null,null,null,null,null,null,null,null,null,null,null,null,null,null,null,null,null,null,null,null,null,null,null,null,null,null,null,null,null,null,null,null,null,null,null,null,null,null,null,null,null,null,null,null,"00:03:45"]
[null,null,null,"de","06:16:00","à","06:20:00","00:03:45.600",null,null,null,null,null,null,null,null,null,null,null,null,null,null,null,null,null,null,null,null,null,null,null,null,null,null,null,null,null,null,null,null,null,null,null,null,null,null,null,null,null,null,null,null,"00:03:48"]
[null,null,null,"de","06:21:00","à","06:25:00","00:03:48.600",null,null,null,null,null,null,null,null,null,null,null,null,null,null,null,null,null,null,null,null,null,null,null,null,null,null,null,null,null,null,null,null,null,null,null,null,null,null,null,null,null,null,null,null,"00:03:51"]
[null,null,null,"de","06:26:00","à","06:30:00","00:03:51.600",null,null,null,null,null,null,null,null,null,null,null,null,null,null,null,null,null,null,null,null,null,null,null,null,null,null,null,null,null,null,null,null,null,null,null,null,null,null,null,null,null,null,null,null,"00:03:54"]
[null,"Orange",null,"de","06:31:00","à","06:35:00","00:03:54.600",null,null,null,null,null,null,null,null,null,null,null,null,null,null,null,null,null,null,null,null,null,null,null,null,null,null,null,null,null,null,null,null,null,null,null,null,null,null,null,null,null,null,null,null,"00:03:57"]
[null,null,null,"de","06:36:00","à","06:40:00","00:03:57.600",null,null,null,null,null,null,null,null,null,null,null,null,null,null,null,null,null,null,null,null,null,null,null,null,null,null,null,null,null,null,null,null,null,null,null,null,null,null,null,null,null,null,null,null,"00:04:00"]
[null,null,null,"de","06:41:00","à","06:45:00","00:04:00.600",null,null,null,null,null,null,null,null,null,null,null,null,null,null,null,null,null,null,null,null,null,null,null,null,null,null,null,null,null,null,null,null,null,null,null,null,null,null,null,null,null,null,null,null,"00:04:03"]
[null,null,null,"de","06:46:00","à","06:50:00","00:04:03.600",null,null,null,null,null,null,null,null,null,null,null,null,null,null,null,null,null,null,null,null,null,null,null,null,null,null,null,null,null,null,null,null,null,null,null,null,null,null,null,null,null,null,null,null,"00:04:06"]
[null,null,null,"de","06:51:00","à","06:55:00","00:04:06.600",null,null,null,null,null,null,null,null,null,null,null,null,null,null,null,null,null,null,null,null,null,null,null,null,null,null,null,null,null,null,null,null,null,null,null,null,null,null,null,null,null,null,null,null,"00:04:09"]
[null,null,null,"de","06:56:00","à","07:00:00",{"$f":"E69/100","v":"00:04:09.600"},null,null,null,null,null,null,null,null,null,null,null,null,null,null,null,null,null,null,null,null,null,null,null,null,null,null,null,null,null,null,null,null,null,null,null,null,null,null,null,null,null,null,null,null,"00:04:12"]
[null,"Maxi jaune",null,"de",0.83,"à",1,{"$f":"BA70","v":"00:04:12"},null,null,null,null,null,null,null,null,null,null,null,null,null,null,null,null,null,null,null,null,null,null,null,null,null,null,null,null,null,null,null,null,null,null,null,null,null,null,null,null,null,null,null,null,{"$f":"$G$69/(G70*100)","v":"00:04:12"}]
[null,null,null,"de",0.75,"à",0.82,{"$f":"$G$69/(G71*100)","v":"00:05:07.317"},null,null,null,null,null,null,null,null,null,null,null,null,null,null,null,null,null,null,null,null,null,null,null,null,null,null,null,null,null,null,null,null,null,null,null,null,null,null,null,null,null,null,null,null,{"$f":"$G$69/(G71*100)","v":"00:05:07.317"}]
[null,"Jaune",null,"de",0.63,"à",{"$f":"E71-0.01","v":0.74},"00:05:40.541",null,null,null,null,null,null,null,null,null,null,null,null,null,null,null,null,null,null,null,null,null,null,null,null,null,null,null,null,null,null,null,null,null,null,null,null,null,null,null,null,null,null,null,null,"00:05:40.541"]
[null,null,null,"de",0.5,"à",{"$f":"E72-0.01","v":0.62},"00:06:46.452",null,null,null,null,null,null,null,null,null,null,null,null,null,null,null,null,null,null,null,null,null,null,null,null,null,null,null,null,null,null,null,null,null,null,null,null,null,null,null,null,null,null,null,null,"00:06:46.452"]
[null,"Maxi blanche",null,"de",0.33,"à",0.49,"00:08:34.286",null,null,null,null,null,null,null,null,null,null,null,null,null,null,null,null,null,null,null,null,null,null,null,null,null,null,null,null,null,null,null,null,null,null,null,null,null,null,null,null,null,null,null,null,"00:08:34.286"]
[null,null,null,"de",0.25,"à",0.32,"00:13:07.500",null,null,null,null,null,null,null,null,null,null,null,null,null,null,null,null,null,null,null,null,null,null,null,null,null,null,null,null,null,null,null,null,null,null,null,null,null,null,null,null,null,null,null,null,"00:13:07.500"]
[null,"Blanche",null,"de",0.13,"à",0.24,"00:17:30",null,null,null,null,null,null,null,null,null,null,null,null,null,null,null,null,null,null,null,null,null,null,null,null,null,null,null,null,null,null,null,null,null,null,null,null,null,null,null,null,null,null,null,null,"00:17:30"]
[null,null,null,"de",0,"à",0.12000000000000001,"00:35:00",null,null,null,null,null,null,null,null,null,null,null,null,null,null,null,null,null,null,null,null,null,null,null,null,null,null,null,null,null,null,null,null,null,null,null,null,null,null,null,null,null,null,null,null,"00:35:00"]
["Brevet",null,null,"Dates"]
["Prénom:"]